BEGIN:VCALENDAR
VERSION:2.0
PRODID:-//Wien Zimmer - ECPv6.15.17.1//NONSGML v1.0//EN
CALSCALE:GREGORIAN
METHOD:PUBLISH
X-WR-CALNAME:Wien Zimmer
X-ORIGINAL-URL:https://wienzimmer.fsw.at
X-WR-CALDESC:Veranstaltungen für Wien Zimmer
REFRESH-INTERVAL;VALUE=DURATION:PT1H
X-Robots-Tag:noindex
X-PUBLISHED-TTL:PT1H
BEGIN:VTIMEZONE
TZID:Europe/Vienna
BEGIN:DAYLIGHT
TZOFFSETFROM:+0100
TZOFFSETTO:+0200
TZNAME:CEST
DTSTART:20220327T010000
END:DAYLIGHT
BEGIN:STANDARD
TZOFFSETFROM:+0200
TZOFFSETTO:+0100
TZNAME:CET
DTSTART:20221030T010000
END:STANDARD
BEGIN:DAYLIGHT
TZOFFSETFROM:+0100
TZOFFSETTO:+0200
TZNAME:CEST
DTSTART:20230326T010000
END:DAYLIGHT
BEGIN:STANDARD
TZOFFSETFROM:+0200
TZOFFSETTO:+0100
TZNAME:CET
DTSTART:20231029T010000
END:STANDARD
BEGIN:DAYLIGHT
TZOFFSETFROM:+0100
TZOFFSETTO:+0200
TZNAME:CEST
DTSTART:20240331T010000
END:DAYLIGHT
BEGIN:STANDARD
TZOFFSETFROM:+0200
TZOFFSETTO:+0100
TZNAME:CET
DTSTART:20241027T010000
END:STANDARD
END:VTIMEZONE
BEGIN:VEVENT
DTSTART;TZID=Europe/Vienna:20231121T173000
DTEND;TZID=Europe/Vienna:20231121T183000
DTSTAMP:20260423T004931
CREATED:20231003T123326Z
LAST-MODIFIED:20231123T053158Z
UID:10001104-1700587800-1700591400@wienzimmer.fsw.at
SUMMARY:Vienna Hobby Lobby: Theater
DESCRIPTION:Theater im Souterrain \nDie Vienna Hobby Lobby bietet Kindern/Jugendlichen im Alter von 12 bis 17 Jahren verschiedenen Kurs im Herbstsemester 2023 an \nEine verbindliche Anmeldung ist erforderlich. \nMehr Info gibt es hier. \nKontakt:\nEmail. ahmed.naief@viennahobbylobby.com; Tel. +43 677 6147 6128
URL:https://wienzimmer.fsw.at/event/vienna-hobby-lobby-theater/2023-11-21/
LOCATION:WienZimmer\, Karl-Seitz-Hof - Jedleseer Str. 66-94/Ecke Jedleseer Straße und Dunantgasse\, Wien\, 1210\, Österreich
CATEGORIES:Kinder und Jugendliche
END:VEVENT
BEGIN:VEVENT
DTSTART;TZID=Europe/Vienna:20231121T163000
DTEND;TZID=Europe/Vienna:20231121T173000
DTSTAMP:20260423T004931
CREATED:20231003T123204Z
LAST-MODIFIED:20231123T053046Z
UID:10001100-1700584200-1700587800@wienzimmer.fsw.at
SUMMARY:Vienna Hobby Lobby: Kampfsport
DESCRIPTION:Kampfsport im Souterrain \nDie Vienna Hobby Lobby bietet Kindern/Jugendlichen im Alter von 12 bis 17 Jahren verschiedenen Kurs im Herbstsemester 2023 an. \nEine verbindliche Anmeldung ist erforderlich. \nMehr Info gibt es hier. \nKontakt:\nEmail. ahmed.naief@viennahobbylobby.com; Tel. +43 677 6147 6128
URL:https://wienzimmer.fsw.at/event/vienna-hobby-lobby-kampfsport/2023-11-21/
LOCATION:WienZimmer\, Karl-Seitz-Hof - Jedleseer Str. 66-94/Ecke Jedleseer Straße und Dunantgasse\, Wien\, 1210\, Österreich
CATEGORIES:Kinder und Jugendliche
END:VEVENT
BEGIN:VEVENT
DTSTART;TZID=Europe/Vienna:20231121T153000
DTEND;TZID=Europe/Vienna:20231121T163000
DTSTAMP:20260423T004931
CREATED:20231003T123001Z
LAST-MODIFIED:20231123T052921Z
UID:10001096-1700580600-1700584200@wienzimmer.fsw.at
SUMMARY:Vienna Hobby Lobby: Töpfern
DESCRIPTION:Töpfern im Souterrain \nDie Vienna Hobby Lobby bietet Kindern/Jugendlichen im Alter von 12 bis 17 Jahren verschiedenen Kurs im Herbstsemester 2023 an \nEine verbindliche Anmeldung ist erforderlich. \nMehr Info gibt es hier. \nKontakt:\nEmail. ahmed.naief@viennahobbylobby.com; Tel. +43 677 6147 6128
URL:https://wienzimmer.fsw.at/event/vienna-hobby-lobby-toepfern/2023-11-21/
LOCATION:WienZimmer\, Karl-Seitz-Hof - Jedleseer Str. 66-94/Ecke Jedleseer Straße und Dunantgasse\, Wien\, 1210\, Österreich
CATEGORIES:Kinder und Jugendliche
END:VEVENT
BEGIN:VEVENT
DTSTART;TZID=Europe/Vienna:20231121T140000
DTEND;TZID=Europe/Vienna:20231121T160000
DTSTAMP:20260423T004931
CREATED:20231003T124813Z
LAST-MODIFIED:20231025T081637Z
UID:10001092-1700575200-1700582400@wienzimmer.fsw.at
SUMMARY:Hausaufgabenbetreuung
DESCRIPTION:Hausaufgabenbetreuung im kleinen Seminarraum \nin Kooperation mit „Rettet das Kind Österreich“ für Kinder von 6 bis 12 Jahren\, nur mit Anmeldung \nMehr Information gibt es hier.
URL:https://wienzimmer.fsw.at/event/hausaufgabenbetreuung-dienstag/2023-11-21/
LOCATION:WienZimmer\, Karl-Seitz-Hof - Jedleseer Str. 66-94/Ecke Jedleseer Straße und Dunantgasse\, Wien\, 1210\, Österreich
CATEGORIES:Kinder und Jugendliche
END:VEVENT
BEGIN:VEVENT
DTSTART;TZID=Europe/Vienna:20231117T173000
DTEND;TZID=Europe/Vienna:20231117T183000
DTSTAMP:20260423T004931
CREATED:20231031T110500Z
LAST-MODIFIED:20231122T125632Z
UID:10001195-1700242200-1700245800@wienzimmer.fsw.at
SUMMARY:Vienna Hobby Lobby: Spanisch
DESCRIPTION:Die Vienna Hobby Lobby bietet Kindern/Jugendlichen im Alter von 12 bis 17 Jahren verschiedenen Kurs im Herbstsemester 2023 an \nEine verbindliche Anmeldung ist erforderlich. \nMehr Info gibt es hier. \nKontakt:\nEmail. ahmed.naief@viennahobbylobby.com; Tel. +43 677 6147 6128
URL:https://wienzimmer.fsw.at/event/vienna-hobby-lobby-spanisch-3/2023-11-17/
LOCATION:WienZimmer\, Karl-Seitz-Hof - Jedleseer Str. 66-94/Ecke Jedleseer Straße und Dunantgasse\, Wien\, 1210\, Österreich
CATEGORIES:Kinder und Jugendliche
END:VEVENT
BEGIN:VEVENT
DTSTART;TZID=Europe/Vienna:20231116T170000
DTEND;TZID=Europe/Vienna:20231116T180000
DTSTAMP:20260423T004931
CREATED:20231123T074804Z
LAST-MODIFIED:20231123T080436Z
UID:10001311-1700154000-1700157600@wienzimmer.fsw.at
SUMMARY:Vienna Hobby Lobby: Malen & Zeichnen
DESCRIPTION:Malen & Zeichnen  im WienZimmer \nDie Vienna Hobby Lobby bietet Kindern/Jugendlichen im Alter von 12 bis 17 Jahren verschiedene Kurse im Herbstsemester 2023 an. \nEine verbindliche Anmeldung ist erforderlich. \nMehr Info gibt es hier. \nKontakt:\nEmail. ahmed.naief@viennahobbylobby.com; Tel. +43 677 6147 6128
URL:https://wienzimmer.fsw.at/event/vienna-hobby-lobby-malen-zeichnen-2-2/2023-11-16/
LOCATION:WienZimmer\, Karl-Seitz-Hof - Jedleseer Str. 66-94/Ecke Jedleseer Straße und Dunantgasse\, Wien\, 1210\, Österreich
CATEGORIES:Kinder und Jugendliche
END:VEVENT
BEGIN:VEVENT
DTSTART;TZID=Europe/Vienna:20231116T170000
DTEND;TZID=Europe/Vienna:20231116T180000
DTSTAMP:20260423T004931
CREATED:20231025T090804Z
LAST-MODIFIED:20231025T090804Z
UID:10001135-1700154000-1700157600@wienzimmer.fsw.at
SUMMARY:Vienna Hobby Lobby: Malen & Zeichnen
DESCRIPTION:Malen & Zeichnen  im WienZimmer \nDie Vienna Hobby Lobby bietet Kindern/Jugendlichen im Alter von 12 bis 17 Jahren verschiedene Kurse im Herbstsemester 2023 an. \nEine verbindliche Anmeldung ist erforderlich. \nMehr Info gibt es hier. \nKontakt:\nEmail. ahmed.naief@viennahobbylobby.com; Tel. +43 677 6147 6128
URL:https://wienzimmer.fsw.at/event/vienna-hobby-lobby-malen-zeichnen-2/2023-11-16/
LOCATION:WienZimmer\, Karl-Seitz-Hof - Jedleseer Str. 66-94/Ecke Jedleseer Straße und Dunantgasse\, Wien\, 1210\, Österreich
CATEGORIES:Kinder und Jugendliche
END:VEVENT
BEGIN:VEVENT
DTSTART;TZID=Europe/Vienna:20231116T160000
DTEND;TZID=Europe/Vienna:20231116T163000
DTSTAMP:20260423T004931
CREATED:20231025T080920Z
LAST-MODIFIED:20231123T080742Z
UID:10001082-1700150400-1700152200@wienzimmer.fsw.at
SUMMARY:Vorlese-/Leserunde
DESCRIPTION:im Festsaal \nWienZimmer internes Angebot für Jung und Alt
URL:https://wienzimmer.fsw.at/event/vorlese-leserunde/2023-11-16/
LOCATION:WienZimmer\, Karl-Seitz-Hof - Jedleseer Str. 66-94/Ecke Jedleseer Straße und Dunantgasse\, Wien\, 1210\, Österreich
END:VEVENT
BEGIN:VEVENT
DTSTART;TZID=Europe/Vienna:20231116T140000
DTEND;TZID=Europe/Vienna:20231116T160000
DTSTAMP:20260423T004931
CREATED:20231003T124957Z
LAST-MODIFIED:20231025T081349Z
UID:10001088-1700143200-1700150400@wienzimmer.fsw.at
SUMMARY:Hausaufgabenbetreuung
DESCRIPTION:Hausaufgabenbetreuung im kleinen Seminarraum \nin Kooperation mit „Rettet das Kind Österreich“ für Kinder von 6 bis 12 Jahren\, nur mit Anmeldung \nMehr Information gibt es hier.
URL:https://wienzimmer.fsw.at/event/hausaufgabenbetreuung-donnerstag/2023-11-16/
LOCATION:WienZimmer\, Karl-Seitz-Hof - Jedleseer Str. 66-94/Ecke Jedleseer Straße und Dunantgasse\, Wien\, 1210\, Österreich
CATEGORIES:Kinder und Jugendliche
END:VEVENT
BEGIN:VEVENT
DTSTART;TZID=Europe/Vienna:20231115T173000
DTEND;TZID=Europe/Vienna:20231115T183000
DTSTAMP:20260423T004931
CREATED:20231003T123851Z
LAST-MODIFIED:20231123T055516Z
UID:10001116-1700069400-1700073000@wienzimmer.fsw.at
SUMMARY:Vienna Hobby Lobby: Hip-Hop/ Rap
DESCRIPTION:Hip-Hop/ Rap im WienZimmer \nDie Vienna Hobby Lobby bietet Kindern/Jugendlichen im Alter von 12 bis 17 Jahren verschiedenen Kurs im Herbstsemester 2023 an \nEine verbindliche Anmeldung ist erforderlich. \nMehr Info gibt es hier. \nKontakt:\nEmail. ahmed.naief@viennahobbylobby.com; Tel. +43 677 6147 6128
URL:https://wienzimmer.fsw.at/event/vienna-hobby-lobby-hip-hop-rap/2023-11-15/
LOCATION:WienZimmer\, Karl-Seitz-Hof - Jedleseer Str. 66-94/Ecke Jedleseer Straße und Dunantgasse\, Wien\, 1210\, Österreich
CATEGORIES:Kinder und Jugendliche
END:VEVENT
BEGIN:VEVENT
DTSTART;TZID=Europe/Vienna:20231115T170000
DTEND;TZID=Europe/Vienna:20231115T200000
DTSTAMP:20260423T004931
CREATED:20240103T104028Z
LAST-MODIFIED:20240124T144714Z
UID:10001771-1700067600-1700078400@wienzimmer.fsw.at
SUMMARY:Gruppentherapie: Psychodrama
DESCRIPTION:Hilfe bei Angst\, bei Depression und anderen Schwierigkeiten. Gruppenpsychotherapie mit der Methode Psychodrama. \nAb 17.15 – 20.00 Uhr\, mit Pause\, im kleinen Seminarraum (1.Stock). \nOhne Kosten bei Vorlage einer ärztlichen Überweisung zur Psychotherapie. \nFür die Anmeldung und mehr Information: Michael Josef Seiss\, MMSc. unter 0699-11133441. praxis@michaeljosefseiss.at
URL:https://wienzimmer.fsw.at/event/gruppentherapie-psychodrama-10/2023-11-15/
LOCATION:WienZimmer\, Karl-Seitz-Hof - Jedleseer Str. 66-94/Ecke Jedleseer Straße und Dunantgasse\, Wien\, 1210\, Österreich
CATEGORIES:Sonstiges
ATTACH;FMTTYPE=image/png:https://wienzimmer.fsw.at/wp-content/uploads/2023/11/Gruppentherapie.png
END:VEVENT
BEGIN:VEVENT
DTSTART;TZID=Europe/Vienna:20231115T160000
DTEND;TZID=Europe/Vienna:20231115T170000
DTSTAMP:20260423T004931
CREATED:20231003T123625Z
LAST-MODIFIED:20231123T055332Z
UID:10001112-1700064000-1700067600@wienzimmer.fsw.at
SUMMARY:Vienna Hobby Lobby: Fitness
DESCRIPTION:Fitness im Souterrain \nDie Vienna Hobby Lobby bietet Kindern/Jugendlichen im Alter von 12 bis 17 Jahren verschiedenen Kurs im Herbstsemester 2023 an \nEine verbindliche Anmeldung ist erforderlich. \nMehr Info gibt es hier. \nKontakt:\nEmail. ahmed.naief@viennahobbylobby.com; Tel. +43 677 6147 6128
URL:https://wienzimmer.fsw.at/event/vienna-hobby-lobby-fitness/2023-11-15/
LOCATION:WienZimmer\, Karl-Seitz-Hof - Jedleseer Str. 66-94/Ecke Jedleseer Straße und Dunantgasse\, Wien\, 1210\, Österreich
CATEGORIES:Kinder und Jugendliche
END:VEVENT
BEGIN:VEVENT
DTSTART;TZID=Europe/Vienna:20231115T153000
DTEND;TZID=Europe/Vienna:20231115T163000
DTSTAMP:20260423T004931
CREATED:20231003T123510Z
LAST-MODIFIED:20231123T055212Z
UID:10001108-1700062200-1700065800@wienzimmer.fsw.at
SUMMARY:Vienna Hobby Lobby: Tanzen
DESCRIPTION:Tanzen  im kleinen Seminarraum \nDie Vienna Hobby Lobby bietet Kindern/Jugendlichen im Alter von 12 bis 17 Jahren verschiedenen Kurs im Herbstsemester 2023 an \nEine verbindliche Anmeldung ist erforderlich. \nMehr Info gibt es hier. \nKontakt:\nEmail. ahmed.naief@viennahobbylobby.com; Tel. +43 677 6147 6128
URL:https://wienzimmer.fsw.at/event/vienna-hobby-lobby-tanzen/2023-11-15/
LOCATION:WienZimmer\, Karl-Seitz-Hof - Jedleseer Str. 66-94/Ecke Jedleseer Straße und Dunantgasse\, Wien\, 1210\, Österreich
CATEGORIES:Kinder und Jugendliche
END:VEVENT
BEGIN:VEVENT
DTSTART;TZID=Europe/Vienna:20231115T100000
DTEND;TZID=Europe/Vienna:20231115T120000
DTSTAMP:20260423T004931
CREATED:20231031T110816Z
LAST-MODIFIED:20231031T110816Z
UID:10001198-1700042400-1700049600@wienzimmer.fsw.at
SUMMARY:Sprechstunde der Wiener Sozialdienste (WISO)
DESCRIPTION:Der Kontaktbesuchsdienst hilft Menschen ab 60 Jahren\, die besten Angebote und Aktivitäten der Stadt zu finden. \nFindet im Festsaal statt. \nwww.wienersozialdienste.at \n 
URL:https://wienzimmer.fsw.at/event/sprechstunde-der-wiener-sozialdienste-wiso-november-1/
LOCATION:WienZimmer\, Karl-Seitz-Hof - Jedleseer Str. 66-94/Ecke Jedleseer Straße und Dunantgasse\, Wien\, 1210\, Österreich
CATEGORIES:Wiener Sozialdienste,Wiener Sozialdienste Sprechstunde
END:VEVENT
BEGIN:VEVENT
DTSTART;TZID=Europe/Vienna:20231114T173000
DTEND;TZID=Europe/Vienna:20231114T183000
DTSTAMP:20260423T004931
CREATED:20231003T123326Z
LAST-MODIFIED:20231123T053158Z
UID:10001103-1699983000-1699986600@wienzimmer.fsw.at
SUMMARY:Vienna Hobby Lobby: Theater
DESCRIPTION:Theater im Souterrain \nDie Vienna Hobby Lobby bietet Kindern/Jugendlichen im Alter von 12 bis 17 Jahren verschiedenen Kurs im Herbstsemester 2023 an \nEine verbindliche Anmeldung ist erforderlich. \nMehr Info gibt es hier. \nKontakt:\nEmail. ahmed.naief@viennahobbylobby.com; Tel. +43 677 6147 6128
URL:https://wienzimmer.fsw.at/event/vienna-hobby-lobby-theater/2023-11-14/
LOCATION:WienZimmer\, Karl-Seitz-Hof - Jedleseer Str. 66-94/Ecke Jedleseer Straße und Dunantgasse\, Wien\, 1210\, Österreich
CATEGORIES:Kinder und Jugendliche
END:VEVENT
BEGIN:VEVENT
DTSTART;TZID=Europe/Vienna:20231114T163000
DTEND;TZID=Europe/Vienna:20231114T173000
DTSTAMP:20260423T004931
CREATED:20231003T123204Z
LAST-MODIFIED:20231123T053046Z
UID:10001099-1699979400-1699983000@wienzimmer.fsw.at
SUMMARY:Vienna Hobby Lobby: Kampfsport
DESCRIPTION:Kampfsport im Souterrain \nDie Vienna Hobby Lobby bietet Kindern/Jugendlichen im Alter von 12 bis 17 Jahren verschiedenen Kurs im Herbstsemester 2023 an. \nEine verbindliche Anmeldung ist erforderlich. \nMehr Info gibt es hier. \nKontakt:\nEmail. ahmed.naief@viennahobbylobby.com; Tel. +43 677 6147 6128
URL:https://wienzimmer.fsw.at/event/vienna-hobby-lobby-kampfsport/2023-11-14/
LOCATION:WienZimmer\, Karl-Seitz-Hof - Jedleseer Str. 66-94/Ecke Jedleseer Straße und Dunantgasse\, Wien\, 1210\, Österreich
CATEGORIES:Kinder und Jugendliche
END:VEVENT
BEGIN:VEVENT
DTSTART;TZID=Europe/Vienna:20231114T153000
DTEND;TZID=Europe/Vienna:20231114T163000
DTSTAMP:20260423T004931
CREATED:20231003T123001Z
LAST-MODIFIED:20231123T052921Z
UID:10001095-1699975800-1699979400@wienzimmer.fsw.at
SUMMARY:Vienna Hobby Lobby: Töpfern
DESCRIPTION:Töpfern im Souterrain \nDie Vienna Hobby Lobby bietet Kindern/Jugendlichen im Alter von 12 bis 17 Jahren verschiedenen Kurs im Herbstsemester 2023 an \nEine verbindliche Anmeldung ist erforderlich. \nMehr Info gibt es hier. \nKontakt:\nEmail. ahmed.naief@viennahobbylobby.com; Tel. +43 677 6147 6128
URL:https://wienzimmer.fsw.at/event/vienna-hobby-lobby-toepfern/2023-11-14/
LOCATION:WienZimmer\, Karl-Seitz-Hof - Jedleseer Str. 66-94/Ecke Jedleseer Straße und Dunantgasse\, Wien\, 1210\, Österreich
CATEGORIES:Kinder und Jugendliche
END:VEVENT
BEGIN:VEVENT
DTSTART;TZID=Europe/Vienna:20231114T140000
DTEND;TZID=Europe/Vienna:20231114T160000
DTSTAMP:20260423T004931
CREATED:20231003T124813Z
LAST-MODIFIED:20231025T081637Z
UID:10001091-1699970400-1699977600@wienzimmer.fsw.at
SUMMARY:Hausaufgabenbetreuung
DESCRIPTION:Hausaufgabenbetreuung im kleinen Seminarraum \nin Kooperation mit „Rettet das Kind Österreich“ für Kinder von 6 bis 12 Jahren\, nur mit Anmeldung \nMehr Information gibt es hier.
URL:https://wienzimmer.fsw.at/event/hausaufgabenbetreuung-dienstag/2023-11-14/
LOCATION:WienZimmer\, Karl-Seitz-Hof - Jedleseer Str. 66-94/Ecke Jedleseer Straße und Dunantgasse\, Wien\, 1210\, Österreich
CATEGORIES:Kinder und Jugendliche
END:VEVENT
BEGIN:VEVENT
DTSTART;TZID=Europe/Vienna:20231110T173000
DTEND;TZID=Europe/Vienna:20231110T183000
DTSTAMP:20260423T004931
CREATED:20231031T110500Z
LAST-MODIFIED:20231122T125632Z
UID:10001194-1699637400-1699641000@wienzimmer.fsw.at
SUMMARY:Vienna Hobby Lobby: Spanisch
DESCRIPTION:Die Vienna Hobby Lobby bietet Kindern/Jugendlichen im Alter von 12 bis 17 Jahren verschiedenen Kurs im Herbstsemester 2023 an \nEine verbindliche Anmeldung ist erforderlich. \nMehr Info gibt es hier. \nKontakt:\nEmail. ahmed.naief@viennahobbylobby.com; Tel. +43 677 6147 6128
URL:https://wienzimmer.fsw.at/event/vienna-hobby-lobby-spanisch-3/2023-11-10/
LOCATION:WienZimmer\, Karl-Seitz-Hof - Jedleseer Str. 66-94/Ecke Jedleseer Straße und Dunantgasse\, Wien\, 1210\, Österreich
CATEGORIES:Kinder und Jugendliche
END:VEVENT
BEGIN:VEVENT
DTSTART;TZID=Europe/Vienna:20231109T170000
DTEND;TZID=Europe/Vienna:20231109T180000
DTSTAMP:20260423T004931
CREATED:20231123T074804Z
LAST-MODIFIED:20231123T080436Z
UID:10001136-1699549200-1699552800@wienzimmer.fsw.at
SUMMARY:Vienna Hobby Lobby: Malen & Zeichnen
DESCRIPTION:Malen & Zeichnen  im WienZimmer \nDie Vienna Hobby Lobby bietet Kindern/Jugendlichen im Alter von 12 bis 17 Jahren verschiedene Kurse im Herbstsemester 2023 an. \nEine verbindliche Anmeldung ist erforderlich. \nMehr Info gibt es hier. \nKontakt:\nEmail. ahmed.naief@viennahobbylobby.com; Tel. +43 677 6147 6128
URL:https://wienzimmer.fsw.at/event/vienna-hobby-lobby-malen-zeichnen-2-2/2023-11-09/
LOCATION:WienZimmer\, Karl-Seitz-Hof - Jedleseer Str. 66-94/Ecke Jedleseer Straße und Dunantgasse\, Wien\, 1210\, Österreich
CATEGORIES:Kinder und Jugendliche
END:VEVENT
BEGIN:VEVENT
DTSTART;TZID=Europe/Vienna:20231109T170000
DTEND;TZID=Europe/Vienna:20231109T180000
DTSTAMP:20260423T004931
CREATED:20231025T090804Z
LAST-MODIFIED:20231025T090804Z
UID:10001134-1699549200-1699552800@wienzimmer.fsw.at
SUMMARY:Vienna Hobby Lobby: Malen & Zeichnen
DESCRIPTION:Malen & Zeichnen  im WienZimmer \nDie Vienna Hobby Lobby bietet Kindern/Jugendlichen im Alter von 12 bis 17 Jahren verschiedene Kurse im Herbstsemester 2023 an. \nEine verbindliche Anmeldung ist erforderlich. \nMehr Info gibt es hier. \nKontakt:\nEmail. ahmed.naief@viennahobbylobby.com; Tel. +43 677 6147 6128
URL:https://wienzimmer.fsw.at/event/vienna-hobby-lobby-malen-zeichnen-2/2023-11-09/
LOCATION:WienZimmer\, Karl-Seitz-Hof - Jedleseer Str. 66-94/Ecke Jedleseer Straße und Dunantgasse\, Wien\, 1210\, Österreich
CATEGORIES:Kinder und Jugendliche
END:VEVENT
BEGIN:VEVENT
DTSTART;TZID=Europe/Vienna:20231109T160000
DTEND;TZID=Europe/Vienna:20231109T163000
DTSTAMP:20260423T004931
CREATED:20231025T080920Z
LAST-MODIFIED:20231123T080742Z
UID:10001083-1699545600-1699547400@wienzimmer.fsw.at
SUMMARY:Vorlese-/Leserunde
DESCRIPTION:im Festsaal \nWienZimmer internes Angebot für Jung und Alt
URL:https://wienzimmer.fsw.at/event/vorlese-leserunde/2023-11-09/
LOCATION:WienZimmer\, Karl-Seitz-Hof - Jedleseer Str. 66-94/Ecke Jedleseer Straße und Dunantgasse\, Wien\, 1210\, Österreich
END:VEVENT
BEGIN:VEVENT
DTSTART;TZID=Europe/Vienna:20231109T140000
DTEND;TZID=Europe/Vienna:20231109T160000
DTSTAMP:20260423T004931
CREATED:20231003T124957Z
LAST-MODIFIED:20231025T081349Z
UID:10001087-1699538400-1699545600@wienzimmer.fsw.at
SUMMARY:Hausaufgabenbetreuung
DESCRIPTION:Hausaufgabenbetreuung im kleinen Seminarraum \nin Kooperation mit „Rettet das Kind Österreich“ für Kinder von 6 bis 12 Jahren\, nur mit Anmeldung \nMehr Information gibt es hier.
URL:https://wienzimmer.fsw.at/event/hausaufgabenbetreuung-donnerstag/2023-11-09/
LOCATION:WienZimmer\, Karl-Seitz-Hof - Jedleseer Str. 66-94/Ecke Jedleseer Straße und Dunantgasse\, Wien\, 1210\, Österreich
CATEGORIES:Kinder und Jugendliche
END:VEVENT
BEGIN:VEVENT
DTSTART;TZID=Europe/Vienna:20231108T173000
DTEND;TZID=Europe/Vienna:20231108T183000
DTSTAMP:20260423T004931
CREATED:20231003T123851Z
LAST-MODIFIED:20231123T055516Z
UID:10001115-1699464600-1699468200@wienzimmer.fsw.at
SUMMARY:Vienna Hobby Lobby: Hip-Hop/ Rap
DESCRIPTION:Hip-Hop/ Rap im WienZimmer \nDie Vienna Hobby Lobby bietet Kindern/Jugendlichen im Alter von 12 bis 17 Jahren verschiedenen Kurs im Herbstsemester 2023 an \nEine verbindliche Anmeldung ist erforderlich. \nMehr Info gibt es hier. \nKontakt:\nEmail. ahmed.naief@viennahobbylobby.com; Tel. +43 677 6147 6128
URL:https://wienzimmer.fsw.at/event/vienna-hobby-lobby-hip-hop-rap/2023-11-08/
LOCATION:WienZimmer\, Karl-Seitz-Hof - Jedleseer Str. 66-94/Ecke Jedleseer Straße und Dunantgasse\, Wien\, 1210\, Österreich
CATEGORIES:Kinder und Jugendliche
END:VEVENT
BEGIN:VEVENT
DTSTART;TZID=Europe/Vienna:20231108T170000
DTEND;TZID=Europe/Vienna:20231108T200000
DTSTAMP:20260423T004931
CREATED:20231025T085711Z
LAST-MODIFIED:20231123T060137Z
UID:10001131-1699462800-1699473600@wienzimmer.fsw.at
SUMMARY:Gruppentherapie: Psychodrama
DESCRIPTION:Hilfe bei Angst\, bei Depression und anderen Schwierigkeiten. Gruppenpsychotherapie mit der Methode Psychodrama. \nAb 17.15 – 20.00 Uhr\, mit Pause\, im kleinen Seminarraum (1.Stock). \nOhne Kosten bei Vorlage einer ärztlichen Überweisung zur Psychotherapie. \nUm Anmeldung wird gebeten: Michael Josef Seiss\, MMSc. unter 0699-11133441. praxis@michaeljosefseiss.at
URL:https://wienzimmer.fsw.at/event/gruppentherapie-psychodrama-8-2-2-2/2023-11-08/
LOCATION:WienZimmer\, Karl-Seitz-Hof - Jedleseer Str. 66-94/Ecke Jedleseer Straße und Dunantgasse\, Wien\, 1210\, Österreich
CATEGORIES:Sonstiges
ATTACH;FMTTYPE=image/jpeg:https://wienzimmer.fsw.at/wp-content/uploads/2021/05/WienZimmer2210©FSW7-1.jpg
END:VEVENT
BEGIN:VEVENT
DTSTART;TZID=Europe/Vienna:20231108T160000
DTEND;TZID=Europe/Vienna:20231108T173000
DTSTAMP:20260423T004931
CREATED:20231123T055719Z
LAST-MODIFIED:20231123T055719Z
UID:10001277-1699459200-1699464600@wienzimmer.fsw.at
SUMMARY:s’Plaudertischerl – Einfach ins Gespräch kommen
DESCRIPTION:Ein kurzer Plausch über das Wetter oder eine längere Unterhaltung – am Plaudertischerl in Wiener Kaffeehäusern und Nachbarschaftszentren kommen Menschen auf einfachem Wege mit anderen ins Gespräch.
URL:https://wienzimmer.fsw.at/event/splaudertischerl-einfach-ins-gespraech-kommen-6/2023-11-08/
LOCATION:WienZimmer\, Karl-Seitz-Hof - Jedleseer Str. 66-94/Ecke Jedleseer Straße und Dunantgasse\, Wien\, 1210\, Österreich
CATEGORIES:Sonstiges
ATTACH;FMTTYPE=image/jpeg:https://wienzimmer.fsw.at/wp-content/uploads/2021/09/495A0649-scaled.jpg
END:VEVENT
BEGIN:VEVENT
DTSTART;TZID=Europe/Vienna:20231108T160000
DTEND;TZID=Europe/Vienna:20231108T173000
DTSTAMP:20260423T004931
CREATED:20231003T062559Z
LAST-MODIFIED:20231025T084857Z
UID:10001127-1699459200-1699464600@wienzimmer.fsw.at
SUMMARY:s’Plaudertischerl – Einfach ins Gespräch kommen
DESCRIPTION:Ein kurzer Plausch über das Wetter oder eine längere Unterhaltung – am Plaudertischerl in Wiener Kaffeehäusern und Nachbarschaftszentren kommen Menschen auf einfachem Wege mit anderen ins Gespräch.
URL:https://wienzimmer.fsw.at/event/splaudertischerl-einfach-ins-gespraech-kommen-5/2023-11-08/
LOCATION:WienZimmer\, Karl-Seitz-Hof - Jedleseer Str. 66-94/Ecke Jedleseer Straße und Dunantgasse\, Wien\, 1210\, Österreich
CATEGORIES:Sonstiges
ATTACH;FMTTYPE=image/jpeg:https://wienzimmer.fsw.at/wp-content/uploads/2021/09/495A0649-scaled.jpg
END:VEVENT
BEGIN:VEVENT
DTSTART;TZID=Europe/Vienna:20231108T160000
DTEND;TZID=Europe/Vienna:20231108T170000
DTSTAMP:20260423T004931
CREATED:20231003T123625Z
LAST-MODIFIED:20231123T055332Z
UID:10001111-1699459200-1699462800@wienzimmer.fsw.at
SUMMARY:Vienna Hobby Lobby: Fitness
DESCRIPTION:Fitness im Souterrain \nDie Vienna Hobby Lobby bietet Kindern/Jugendlichen im Alter von 12 bis 17 Jahren verschiedenen Kurs im Herbstsemester 2023 an \nEine verbindliche Anmeldung ist erforderlich. \nMehr Info gibt es hier. \nKontakt:\nEmail. ahmed.naief@viennahobbylobby.com; Tel. +43 677 6147 6128
URL:https://wienzimmer.fsw.at/event/vienna-hobby-lobby-fitness/2023-11-08/
LOCATION:WienZimmer\, Karl-Seitz-Hof - Jedleseer Str. 66-94/Ecke Jedleseer Straße und Dunantgasse\, Wien\, 1210\, Österreich
CATEGORIES:Kinder und Jugendliche
END:VEVENT
BEGIN:VEVENT
DTSTART;TZID=Europe/Vienna:20231108T153000
DTEND;TZID=Europe/Vienna:20231108T163000
DTSTAMP:20260423T004931
CREATED:20231003T123510Z
LAST-MODIFIED:20231123T055212Z
UID:10001107-1699457400-1699461000@wienzimmer.fsw.at
SUMMARY:Vienna Hobby Lobby: Tanzen
DESCRIPTION:Tanzen  im kleinen Seminarraum \nDie Vienna Hobby Lobby bietet Kindern/Jugendlichen im Alter von 12 bis 17 Jahren verschiedenen Kurs im Herbstsemester 2023 an \nEine verbindliche Anmeldung ist erforderlich. \nMehr Info gibt es hier. \nKontakt:\nEmail. ahmed.naief@viennahobbylobby.com; Tel. +43 677 6147 6128
URL:https://wienzimmer.fsw.at/event/vienna-hobby-lobby-tanzen/2023-11-08/
LOCATION:WienZimmer\, Karl-Seitz-Hof - Jedleseer Str. 66-94/Ecke Jedleseer Straße und Dunantgasse\, Wien\, 1210\, Österreich
CATEGORIES:Kinder und Jugendliche
END:VEVENT
BEGIN:VEVENT
DTSTART;TZID=Europe/Vienna:20231107T173000
DTEND;TZID=Europe/Vienna:20231107T183000
DTSTAMP:20260423T004931
CREATED:20231003T123326Z
LAST-MODIFIED:20231123T053158Z
UID:10001102-1699378200-1699381800@wienzimmer.fsw.at
SUMMARY:Vienna Hobby Lobby: Theater
DESCRIPTION:Theater im Souterrain \nDie Vienna Hobby Lobby bietet Kindern/Jugendlichen im Alter von 12 bis 17 Jahren verschiedenen Kurs im Herbstsemester 2023 an \nEine verbindliche Anmeldung ist erforderlich. \nMehr Info gibt es hier. \nKontakt:\nEmail. ahmed.naief@viennahobbylobby.com; Tel. +43 677 6147 6128
URL:https://wienzimmer.fsw.at/event/vienna-hobby-lobby-theater/2023-11-07/
LOCATION:WienZimmer\, Karl-Seitz-Hof - Jedleseer Str. 66-94/Ecke Jedleseer Straße und Dunantgasse\, Wien\, 1210\, Österreich
CATEGORIES:Kinder und Jugendliche
END:VEVENT
END:VCALENDAR