BEGIN:VCALENDAR
VERSION:2.0
PRODID:-//Wien Zimmer - ECPv6.15.17.1//NONSGML v1.0//EN
CALSCALE:GREGORIAN
METHOD:PUBLISH
X-ORIGINAL-URL:https://wienzimmer.fsw.at
X-WR-CALDESC:Veranstaltungen für Wien Zimmer
REFRESH-INTERVAL;VALUE=DURATION:PT1H
X-Robots-Tag:noindex
X-PUBLISHED-TTL:PT1H
BEGIN:VTIMEZONE
TZID:Europe/Vienna
BEGIN:DAYLIGHT
TZOFFSETFROM:+0100
TZOFFSETTO:+0200
TZNAME:CEST
DTSTART:20230326T010000
END:DAYLIGHT
BEGIN:STANDARD
TZOFFSETFROM:+0200
TZOFFSETTO:+0100
TZNAME:CET
DTSTART:20231029T010000
END:STANDARD
BEGIN:DAYLIGHT
TZOFFSETFROM:+0100
TZOFFSETTO:+0200
TZNAME:CEST
DTSTART:20240331T010000
END:DAYLIGHT
BEGIN:STANDARD
TZOFFSETFROM:+0200
TZOFFSETTO:+0100
TZNAME:CET
DTSTART:20241027T010000
END:STANDARD
BEGIN:DAYLIGHT
TZOFFSETFROM:+0100
TZOFFSETTO:+0200
TZNAME:CEST
DTSTART:20250330T010000
END:DAYLIGHT
BEGIN:STANDARD
TZOFFSETFROM:+0200
TZOFFSETTO:+0100
TZNAME:CET
DTSTART:20251026T010000
END:STANDARD
END:VTIMEZONE
BEGIN:VEVENT
DTSTART;TZID=Europe/Vienna:20240508T173000
DTEND;TZID=Europe/Vienna:20240508T183000
DTSTAMP:20260422T175820
CREATED:20240227T142555Z
LAST-MODIFIED:20240529T084505Z
UID:10002635-1715189400-1715193000@wienzimmer.fsw.at
SUMMARY:Vienna Hobby Lobby: Kampfsport
DESCRIPTION:Kampfsport im Souterrain \nDie Vienna Hobby Lobby bietet Kindern/Jugendlichen im Alter von 12 bis 17 Jahren verschiedene Kurse an. \nAb der zweiten Märzwoche ist eine verbindliche Anmeldung erforderlich. \nMehr Info gibt es hier. \nKontakt: \nEmail: linda.fress@viennahobbylobby.com Tel.:+43 677 61476128
URL:https://wienzimmer.fsw.at/event/vienna-hobby-lobby-kampfsport-2/2024-05-08/
LOCATION:WienZimmer\, Karl-Seitz-Hof - Jedleseer Str. 66-94/Ecke Jedleseer Straße und Dunantgasse\, Wien\, 1210\, Österreich
CATEGORIES:Kinder und Jugendliche
ATTACH;FMTTYPE=image/png:https://wienzimmer.fsw.at/wp-content/uploads/2023/11/Kampfsport.png
END:VEVENT
BEGIN:VEVENT
DTSTART;TZID=Europe/Vienna:20240508T170000
DTEND;TZID=Europe/Vienna:20240508T200000
DTSTAMP:20260422T175820
CREATED:20240417T131421Z
LAST-MODIFIED:20240417T131544Z
UID:10002642-1715187600-1715198400@wienzimmer.fsw.at
SUMMARY:Gruppentherapie: Psychodrama
DESCRIPTION:im kleinen Seminarraum (1. Stock) \nHilfe bei Angst\, bei Depression und anderen Schwierigkeiten. Gruppenpsychotherapie mit der Methode Psychodrama. \nAb 17.15 – 20.00 Uhr\, mit Pause \nOhne Kosten bei Vorlage einer ärztlichen Überweisung zur Psychotherapie. \nFür die Anmeldung und mehr Information: Michael Josef Seiss\, MMSc. unter 0699-11133441. praxis@michaeljosefseiss.at \nweitere Termine: 31.5.23\, 14.6.23 \, 28.6.23\, 12.7.23
URL:https://wienzimmer.fsw.at/event/gruppentherapie-psychodrama-13/2024-05-08/
LOCATION:WienZimmer\, Karl-Seitz-Hof - Jedleseer Str. 66-94/Ecke Jedleseer Straße und Dunantgasse\, Wien\, 1210\, Österreich
CATEGORIES:Sonstiges
ATTACH;FMTTYPE=image/png:https://wienzimmer.fsw.at/wp-content/uploads/2023/11/Gruppentherapie.png
END:VEVENT
BEGIN:VEVENT
DTSTART;TZID=Europe/Vienna:20240508T163000
DTEND;TZID=Europe/Vienna:20240508T173000
DTSTAMP:20260422T175820
CREATED:20240227T142350Z
LAST-MODIFIED:20240529T084422Z
UID:10002631-1715185800-1715189400@wienzimmer.fsw.at
SUMMARY:Vienna Hobby Lobby: Theater
DESCRIPTION:Theater im kleinen Seminarraum oder im Souterrain \nDie Vienna Hobby Lobby bietet Kindern/Jugendlichen im Alter von 12 bis 17 Jahren verschiedene Kurse an. \nAb der zweiten Märzwoche ist eine verbindliche Anmeldung erforderlich. \nMehr Info gibt es hier. \nKontakt: \nEmail: linda.fress@viennahobbylobby.com Tel.:+43 677 61476128
URL:https://wienzimmer.fsw.at/event/vienna-hobby-lobby-theater-2/2024-05-08/
LOCATION:WienZimmer\, Karl-Seitz-Hof - Jedleseer Str. 66-94/Ecke Jedleseer Straße und Dunantgasse\, Wien\, 1210\, Österreich
CATEGORIES:Kinder und Jugendliche
ATTACH;FMTTYPE=image/png:https://wienzimmer.fsw.at/wp-content/uploads/2023/11/Theater.png
END:VEVENT
BEGIN:VEVENT
DTSTART;TZID=Europe/Vienna:20240508T160000
DTEND;TZID=Europe/Vienna:20240508T173000
DTSTAMP:20260422T175820
CREATED:20240417T131256Z
LAST-MODIFIED:20240417T131256Z
UID:10002639-1715184000-1715189400@wienzimmer.fsw.at
SUMMARY:s’Plaudertischerl – Einfach ins Gespräch kommen
DESCRIPTION:Einfach ins Gespräch kommen\n1. Teil – 16.00-17.00 Uhr Führung durch den Karl-Seitz-Hof mit Mieterbeirat Heinrich Gindel.\n2. Teil Ausklang bei Kaffee und Kuchen im Festsaal \nEin kurzer Plausch über das Wetter oder eine längere Unterhaltung – regelmäßig am ersten Mittwoch im Monat kommen am Plaudertischerl in Wiener Kaffeehäusern und Nachbarschaftszentren Menschen auf einfachem Wege mit anderen ins Gespräch. \nwww.plaudertischerl.at
URL:https://wienzimmer.fsw.at/event/splaudertischerl-einfach-ins-gespraech-kommen-10/
LOCATION:WienZimmer\, Karl-Seitz-Hof - Jedleseer Str. 66-94/Ecke Jedleseer Straße und Dunantgasse\, Wien\, 1210\, Österreich
CATEGORIES:Sonstiges
ATTACH;FMTTYPE=image/png:https://wienzimmer.fsw.at/wp-content/uploads/2023/11/Plaudertischerl.png
END:VEVENT
BEGIN:VEVENT
DTSTART;TZID=Europe/Vienna:20240508T153000
DTEND;TZID=Europe/Vienna:20240508T163000
DTSTAMP:20260422T175820
CREATED:20240227T142109Z
LAST-MODIFIED:20240529T084345Z
UID:10002627-1715182200-1715185800@wienzimmer.fsw.at
SUMMARY:Vienna Hobby Lobby: Tanzen
DESCRIPTION:Tanzen  im kleinen Seminarraum oder im Souterrain \nDie Vienna Hobby Lobby bietet Kindern/Jugendlichen im Alter von 12 bis 17 Jahren verschiedene Kurse an. \nAb der zweiten Märzwoche ist eine verbindliche Anmeldung erforderlich. \nMehr Info gibt es hier. \nKontakt: \nEmail: linda.fress@viennahobbylobby.com Tel.:+43 677 61476128
URL:https://wienzimmer.fsw.at/event/vienna-hobby-lobby-tanzen-2/2024-05-08/
LOCATION:WienZimmer\, Karl-Seitz-Hof - Jedleseer Str. 66-94/Ecke Jedleseer Straße und Dunantgasse\, Wien\, 1210\, Österreich
CATEGORIES:Kinder und Jugendliche
ATTACH;FMTTYPE=image/png:https://wienzimmer.fsw.at/wp-content/uploads/2023/11/Tanzen.png
END:VEVENT
BEGIN:VEVENT
DTSTART;TZID=Europe/Vienna:20240508T100000
DTEND;TZID=Europe/Vienna:20240508T120000
DTSTAMP:20260422T175820
CREATED:20240417T132953Z
LAST-MODIFIED:20240529T084217Z
UID:10002679-1715162400-1715169600@wienzimmer.fsw.at
SUMMARY:Sprechstunde der Wiener Sozialdienste (WISO)
DESCRIPTION:Der Kontaktbesuchsdienst hilft Menschen ab 60 Jahren\, die besten Angebote und Aktivitäten der Stadt zu finden. \nFindet im Festsaal statt. \nwww.wienersozialdienste.at \n 
URL:https://wienzimmer.fsw.at/event/sprechstunde-der-wiener-sozialdienste-wiso-6/
LOCATION:WienZimmer\, Karl-Seitz-Hof - Jedleseer Str. 66-94/Ecke Jedleseer Straße und Dunantgasse\, Wien\, 1210\, Österreich
CATEGORIES:Wiener Sozialdienste,Wiener Sozialdienste Sprechstunde
ATTACH;FMTTYPE=image/png:https://wienzimmer.fsw.at/wp-content/uploads/2023/11/Sprechstunde.png
END:VEVENT
BEGIN:VEVENT
DTSTART;TZID=Europe/Vienna:20240507T140000
DTEND;TZID=Europe/Vienna:20240507T160000
DTSTAMP:20260422T175820
CREATED:20240124T123207Z
LAST-MODIFIED:20240529T083424Z
UID:10002586-1715090400-1715097600@wienzimmer.fsw.at
SUMMARY:Hausaufgabenbetreuung
DESCRIPTION:Hausaufgabenbetreuung im kleinen Seminarraum \nin Kooperation mit „Rettet das Kind Österreich“ für Kinder von 6 bis 12 Jahren\, nur mit Anmeldung \nMehr Information gibt es hier.
URL:https://wienzimmer.fsw.at/event/hausaufgabenbetreuung-2/2024-05-07/
LOCATION:WienZimmer\, Karl-Seitz-Hof - Jedleseer Str. 66-94/Ecke Jedleseer Straße und Dunantgasse\, Wien\, 1210\, Österreich
CATEGORIES:Kinder und Jugendliche
ATTACH;FMTTYPE=image/png:https://wienzimmer.fsw.at/wp-content/uploads/2023/11/Hausaufgaben.png
END:VEVENT
BEGIN:VEVENT
DTSTART;TZID=Europe/Vienna:20240507T080000
DTEND;TZID=Europe/Vienna:20240507T100000
DTSTAMP:20260422T175820
CREATED:20240221T135959Z
LAST-MODIFIED:20240417T114943Z
UID:10002615-1715068800-1715076000@wienzimmer.fsw.at
SUMMARY:Elterncafé im WienZimmer
DESCRIPTION:Bei kostenlosem Filterkaffee\, Tee\, Keksen und einer kleinen Frühstücksjause können Eltern sich hier\, in einem moderierten Rahmen\, zu Themen rund ums Eltern sein\, ihre Kinder und schulische Herausforderungen austauschen.\nEs ist keine Anmeldung notwendig. \n* Das Elterncafe findet  ab dem 20. Februar – bis auf weiteres – wöchentlich am Dienstag um 08:00 Uhr statt.
URL:https://wienzimmer.fsw.at/event/elterncafe-im-wienzimmer-2/2024-05-07/
LOCATION:WienZimmer\, Karl-Seitz-Hof - Jedleseer Str. 66-94/Ecke Jedleseer Straße und Dunantgasse\, Wien\, 1210\, Österreich
END:VEVENT
BEGIN:VEVENT
DTSTART;TZID=Europe/Vienna:20240503T160000
DTEND;TZID=Europe/Vienna:20240503T170000
DTSTAMP:20260422T175820
CREATED:20240227T144014Z
LAST-MODIFIED:20240417T114607Z
UID:10002609-1714752000-1714755600@wienzimmer.fsw.at
SUMMARY:Vienna Hobby Lobby: Töpfern
DESCRIPTION:Töpfern im kleinen Souterrain \nDie Vienna Hobby Lobby bietet Kindern/Jugendlichen im Alter von 12 bis 17 Jahren verschiedene Kurse an. \nAb der zweiten Märzwoche ist eine verbindliche Anmeldung erforderlich. \nMehr Info gibt es hier. \nKontakt: \nEmail: linda.fress@viennahobbylobby.com Tel.:+43 677 61476128
URL:https://wienzimmer.fsw.at/event/vienna-hobby-lobby-toepfern-2/2024-05-03/
LOCATION:WienZimmer\, Karl-Seitz-Hof - Jedleseer Str. 66-94/Ecke Jedleseer Straße und Dunantgasse\, Wien\, 1210\, Österreich
CATEGORIES:Kinder und Jugendliche
ATTACH;FMTTYPE=image/png:https://wienzimmer.fsw.at/wp-content/uploads/2023/11/Toepfern.png
END:VEVENT
BEGIN:VEVENT
DTSTART;TZID=Europe/Vienna:20240503T150000
DTEND;TZID=Europe/Vienna:20240503T160000
DTSTAMP:20260422T175820
CREATED:20240328T101121Z
LAST-MODIFIED:20240417T114422Z
UID:10002604-1714748400-1714752000@wienzimmer.fsw.at
SUMMARY:Vienna Hobby Lobby: Türkisch
DESCRIPTION:Türkisch im kleinen Seminarraum \nDie Vienna Hobby Lobby bietet Kindern/Jugendlichen im Alter von 12 bis 17 Jahren verschiedene Kurse an. \nAb der zweiten Märzwoche ist eine verbindliche Anmeldung erforderlich. \nMehr Info gibt es hier. \nKontakt: \nEmail: linda.fress@viennahobbylobby.com Tel.:+43 677 61476128
URL:https://wienzimmer.fsw.at/event/vienna-hobby-lobby-tuerkisch-2/2024-05-03/
LOCATION:WienZimmer\, Karl-Seitz-Hof - Jedleseer Str. 66-94/Ecke Jedleseer Straße und Dunantgasse\, Wien\, 1210\, Österreich
CATEGORIES:Kinder und Jugendliche
ATTACH;FMTTYPE=image/png:https://wienzimmer.fsw.at/wp-content/uploads/2024/04/tuerkisch.png
END:VEVENT
BEGIN:VEVENT
DTSTART;TZID=Europe/Vienna:20240502T173000
DTEND;TZID=Europe/Vienna:20240502T183000
DTSTAMP:20260422T175820
CREATED:20240227T143627Z
LAST-MODIFIED:20240417T114146Z
UID:10002601-1714671000-1714674600@wienzimmer.fsw.at
SUMMARY:Vienna Hobby Lobby: Fitness
DESCRIPTION:Fitness im Souterrain \nDie Vienna Hobby Lobby bietet Kindern/Jugendlichen im Alter von 12 bis 17 Jahren verschiedene Kurse an. \nAb der zweiten Märzwoche ist eine verbindliche Anmeldung erforderlich. \nMehr Info gibt es hier. \nKontakt: \nEmail: linda.fress@viennahobbylobby.com Tel.:+43 677 61476128
URL:https://wienzimmer.fsw.at/event/vienna-hobby-lobby-fitness-3/2024-05-02/
LOCATION:WienZimmer\, Karl-Seitz-Hof - Jedleseer Str. 66-94/Ecke Jedleseer Straße und Dunantgasse\, Wien\, 1210\, Österreich
CATEGORIES:Kinder und Jugendliche
ATTACH;FMTTYPE=image/png:https://wienzimmer.fsw.at/wp-content/uploads/2023/11/Fitness.png
END:VEVENT
BEGIN:VEVENT
DTSTART;TZID=Europe/Vienna:20240502T163000
DTEND;TZID=Europe/Vienna:20240502T173000
DTSTAMP:20260422T175820
CREATED:20240227T143454Z
LAST-MODIFIED:20240417T113625Z
UID:10002594-1714667400-1714671000@wienzimmer.fsw.at
SUMMARY:Vienna Hobby Lobby: Musik & Singen
DESCRIPTION:Musik & Singen im kleinen Seminarraum oder im Souterrain \nDie Vienna Hobby Lobby bietet Kindern/Jugendlichen im Alter von 12 bis 17 Jahren verschiedene Kurse an. \nAb der zweiten Märzwoche ist eine verbindliche Anmeldung erforderlich. \nMehr Info gibt es hier. \nKontakt: \nEmail: linda.fress@viennahobbylobby.com Tel.:+43 677 61476128
URL:https://wienzimmer.fsw.at/event/vienna-hobby-lobby-musik-singen/2024-05-02/
LOCATION:WienZimmer\, Karl-Seitz-Hof - Jedleseer Str. 66-94/Ecke Jedleseer Straße und Dunantgasse\, Wien\, 1210\, Österreich
CATEGORIES:Kinder und Jugendliche
ATTACH;FMTTYPE=image/png:https://wienzimmer.fsw.at/wp-content/uploads/2024/04/musik_singen.png
END:VEVENT
BEGIN:VEVENT
DTSTART;TZID=Europe/Vienna:20240502T153000
DTEND;TZID=Europe/Vienna:20240502T163000
DTSTAMP:20260422T175820
CREATED:20240227T143252Z
LAST-MODIFIED:20240417T113455Z
UID:10002590-1714663800-1714667400@wienzimmer.fsw.at
SUMMARY:Vienna Hobby Lobby: English
DESCRIPTION:Englisch im Souterrain \nDie Vienna Hobby Lobby bietet Kindern/Jugendlichen im Alter von 12 bis 17 Jahren verschiedene Kurse an. \nAb der zweiten Märzwoche ist eine verbindliche Anmeldung erforderlich. \nMehr Info gibt es hier. \nKontakt: \nEmail: linda.fress@viennahobbylobby.com Tel.:+43 677 61476128
URL:https://wienzimmer.fsw.at/event/vienna-hobby-lobby-english/2024-05-02/
LOCATION:WienZimmer\, Karl-Seitz-Hof - Jedleseer Str. 66-94/Ecke Jedleseer Straße und Dunantgasse\, Wien\, 1210\, Österreich
CATEGORIES:Kinder und Jugendliche
ATTACH;FMTTYPE=image/png:https://wienzimmer.fsw.at/wp-content/uploads/2024/04/englisch.png
END:VEVENT
BEGIN:VEVENT
DTSTART;TZID=Europe/Vienna:20240502T140000
DTEND;TZID=Europe/Vienna:20240502T160000
DTSTAMP:20260422T175820
CREATED:20240124T125415Z
LAST-MODIFIED:20240529T083603Z
UID:10002582-1714658400-1714665600@wienzimmer.fsw.at
SUMMARY:Hausaufgabenbetreuung
DESCRIPTION:Hausaufgabenbetreuung im kleinen Seminarraum \nin Kooperation mit „Rettet das Kind Österreich“ für Kinder von 6 bis 12 Jahren\, nur mit Anmeldung \nMehr Information gibt es hier.
URL:https://wienzimmer.fsw.at/event/hausaufgabenbetreuung-donnerstag-2-2/2024-05-02/
LOCATION:WienZimmer\, Karl-Seitz-Hof - Jedleseer Str. 66-94/Ecke Jedleseer Straße und Dunantgasse\, Wien\, 1210\, Österreich
CATEGORIES:Kinder und Jugendliche
ATTACH;FMTTYPE=image/png:https://wienzimmer.fsw.at/wp-content/uploads/2023/11/Hausaufgaben.png
END:VEVENT
BEGIN:VEVENT
DTSTART;TZID=Europe/Vienna:20240430T140000
DTEND;TZID=Europe/Vienna:20240430T160000
DTSTAMP:20260422T175820
CREATED:20240124T123207Z
LAST-MODIFIED:20240529T083424Z
UID:10002461-1714485600-1714492800@wienzimmer.fsw.at
SUMMARY:Hausaufgabenbetreuung
DESCRIPTION:Hausaufgabenbetreuung im kleinen Seminarraum \nin Kooperation mit „Rettet das Kind Österreich“ für Kinder von 6 bis 12 Jahren\, nur mit Anmeldung \nMehr Information gibt es hier.
URL:https://wienzimmer.fsw.at/event/hausaufgabenbetreuung-2/2024-04-30/
LOCATION:WienZimmer\, Karl-Seitz-Hof - Jedleseer Str. 66-94/Ecke Jedleseer Straße und Dunantgasse\, Wien\, 1210\, Österreich
CATEGORIES:Kinder und Jugendliche
ATTACH;FMTTYPE=image/png:https://wienzimmer.fsw.at/wp-content/uploads/2023/11/Hausaufgaben.png
END:VEVENT
BEGIN:VEVENT
DTSTART;TZID=Europe/Vienna:20240430T080000
DTEND;TZID=Europe/Vienna:20240430T100000
DTSTAMP:20260422T175820
CREATED:20240221T135959Z
LAST-MODIFIED:20240417T114943Z
UID:10002447-1714464000-1714471200@wienzimmer.fsw.at
SUMMARY:Elterncafé im WienZimmer
DESCRIPTION:Bei kostenlosem Filterkaffee\, Tee\, Keksen und einer kleinen Frühstücksjause können Eltern sich hier\, in einem moderierten Rahmen\, zu Themen rund ums Eltern sein\, ihre Kinder und schulische Herausforderungen austauschen.\nEs ist keine Anmeldung notwendig. \n* Das Elterncafe findet  ab dem 20. Februar – bis auf weiteres – wöchentlich am Dienstag um 08:00 Uhr statt.
URL:https://wienzimmer.fsw.at/event/elterncafe-im-wienzimmer-2/2024-04-30/
LOCATION:WienZimmer\, Karl-Seitz-Hof - Jedleseer Str. 66-94/Ecke Jedleseer Straße und Dunantgasse\, Wien\, 1210\, Österreich
END:VEVENT
BEGIN:VEVENT
DTSTART;TZID=Europe/Vienna:20240426T160000
DTEND;TZID=Europe/Vienna:20240426T170000
DTSTAMP:20260422T175820
CREATED:20240227T144014Z
LAST-MODIFIED:20240417T114607Z
UID:10002574-1714147200-1714150800@wienzimmer.fsw.at
SUMMARY:Vienna Hobby Lobby: Töpfern
DESCRIPTION:Töpfern im kleinen Souterrain \nDie Vienna Hobby Lobby bietet Kindern/Jugendlichen im Alter von 12 bis 17 Jahren verschiedene Kurse an. \nAb der zweiten Märzwoche ist eine verbindliche Anmeldung erforderlich. \nMehr Info gibt es hier. \nKontakt: \nEmail: linda.fress@viennahobbylobby.com Tel.:+43 677 61476128
URL:https://wienzimmer.fsw.at/event/vienna-hobby-lobby-toepfern-2/2024-04-26/
LOCATION:WienZimmer\, Karl-Seitz-Hof - Jedleseer Str. 66-94/Ecke Jedleseer Straße und Dunantgasse\, Wien\, 1210\, Österreich
CATEGORIES:Kinder und Jugendliche
ATTACH;FMTTYPE=image/png:https://wienzimmer.fsw.at/wp-content/uploads/2023/11/Toepfern.png
END:VEVENT
BEGIN:VEVENT
DTSTART;TZID=Europe/Vienna:20240426T150000
DTEND;TZID=Europe/Vienna:20240426T160000
DTSTAMP:20260422T175820
CREATED:20240328T101121Z
LAST-MODIFIED:20240417T114422Z
UID:10002570-1714143600-1714147200@wienzimmer.fsw.at
SUMMARY:Vienna Hobby Lobby: Türkisch
DESCRIPTION:Türkisch im kleinen Seminarraum \nDie Vienna Hobby Lobby bietet Kindern/Jugendlichen im Alter von 12 bis 17 Jahren verschiedene Kurse an. \nAb der zweiten Märzwoche ist eine verbindliche Anmeldung erforderlich. \nMehr Info gibt es hier. \nKontakt: \nEmail: linda.fress@viennahobbylobby.com Tel.:+43 677 61476128
URL:https://wienzimmer.fsw.at/event/vienna-hobby-lobby-tuerkisch-2/2024-04-26/
LOCATION:WienZimmer\, Karl-Seitz-Hof - Jedleseer Str. 66-94/Ecke Jedleseer Straße und Dunantgasse\, Wien\, 1210\, Österreich
CATEGORIES:Kinder und Jugendliche
ATTACH;FMTTYPE=image/png:https://wienzimmer.fsw.at/wp-content/uploads/2024/04/tuerkisch.png
END:VEVENT
BEGIN:VEVENT
DTSTART;TZID=Europe/Vienna:20240425T173000
DTEND;TZID=Europe/Vienna:20240425T183000
DTSTAMP:20260422T175820
CREATED:20240227T143627Z
LAST-MODIFIED:20240417T114146Z
UID:10002542-1714066200-1714069800@wienzimmer.fsw.at
SUMMARY:Vienna Hobby Lobby: Fitness
DESCRIPTION:Fitness im Souterrain \nDie Vienna Hobby Lobby bietet Kindern/Jugendlichen im Alter von 12 bis 17 Jahren verschiedene Kurse an. \nAb der zweiten Märzwoche ist eine verbindliche Anmeldung erforderlich. \nMehr Info gibt es hier. \nKontakt: \nEmail: linda.fress@viennahobbylobby.com Tel.:+43 677 61476128
URL:https://wienzimmer.fsw.at/event/vienna-hobby-lobby-fitness-3/2024-04-25/
LOCATION:WienZimmer\, Karl-Seitz-Hof - Jedleseer Str. 66-94/Ecke Jedleseer Straße und Dunantgasse\, Wien\, 1210\, Österreich
CATEGORIES:Kinder und Jugendliche
ATTACH;FMTTYPE=image/png:https://wienzimmer.fsw.at/wp-content/uploads/2023/11/Fitness.png
END:VEVENT
BEGIN:VEVENT
DTSTART;TZID=Europe/Vienna:20240425T163000
DTEND;TZID=Europe/Vienna:20240425T173000
DTSTAMP:20260422T175820
CREATED:20240227T143454Z
LAST-MODIFIED:20240417T113625Z
UID:10002537-1714062600-1714066200@wienzimmer.fsw.at
SUMMARY:Vienna Hobby Lobby: Musik & Singen
DESCRIPTION:Musik & Singen im kleinen Seminarraum oder im Souterrain \nDie Vienna Hobby Lobby bietet Kindern/Jugendlichen im Alter von 12 bis 17 Jahren verschiedene Kurse an. \nAb der zweiten Märzwoche ist eine verbindliche Anmeldung erforderlich. \nMehr Info gibt es hier. \nKontakt: \nEmail: linda.fress@viennahobbylobby.com Tel.:+43 677 61476128
URL:https://wienzimmer.fsw.at/event/vienna-hobby-lobby-musik-singen/2024-04-25/
LOCATION:WienZimmer\, Karl-Seitz-Hof - Jedleseer Str. 66-94/Ecke Jedleseer Straße und Dunantgasse\, Wien\, 1210\, Österreich
CATEGORIES:Kinder und Jugendliche
ATTACH;FMTTYPE=image/png:https://wienzimmer.fsw.at/wp-content/uploads/2024/04/musik_singen.png
END:VEVENT
BEGIN:VEVENT
DTSTART;TZID=Europe/Vienna:20240425T153000
DTEND;TZID=Europe/Vienna:20240425T163000
DTSTAMP:20260422T175820
CREATED:20240227T143252Z
LAST-MODIFIED:20240417T113455Z
UID:10002532-1714059000-1714062600@wienzimmer.fsw.at
SUMMARY:Vienna Hobby Lobby: English
DESCRIPTION:Englisch im Souterrain \nDie Vienna Hobby Lobby bietet Kindern/Jugendlichen im Alter von 12 bis 17 Jahren verschiedene Kurse an. \nAb der zweiten Märzwoche ist eine verbindliche Anmeldung erforderlich. \nMehr Info gibt es hier. \nKontakt: \nEmail: linda.fress@viennahobbylobby.com Tel.:+43 677 61476128
URL:https://wienzimmer.fsw.at/event/vienna-hobby-lobby-english/2024-04-25/
LOCATION:WienZimmer\, Karl-Seitz-Hof - Jedleseer Str. 66-94/Ecke Jedleseer Straße und Dunantgasse\, Wien\, 1210\, Österreich
CATEGORIES:Kinder und Jugendliche
ATTACH;FMTTYPE=image/png:https://wienzimmer.fsw.at/wp-content/uploads/2024/04/englisch.png
END:VEVENT
BEGIN:VEVENT
DTSTART;TZID=Europe/Vienna:20240425T140000
DTEND;TZID=Europe/Vienna:20240425T160000
DTSTAMP:20260422T175820
CREATED:20240124T125415Z
LAST-MODIFIED:20240529T083603Z
UID:10002451-1714053600-1714060800@wienzimmer.fsw.at
SUMMARY:Hausaufgabenbetreuung
DESCRIPTION:Hausaufgabenbetreuung im kleinen Seminarraum \nin Kooperation mit „Rettet das Kind Österreich“ für Kinder von 6 bis 12 Jahren\, nur mit Anmeldung \nMehr Information gibt es hier.
URL:https://wienzimmer.fsw.at/event/hausaufgabenbetreuung-donnerstag-2-2/2024-04-25/
LOCATION:WienZimmer\, Karl-Seitz-Hof - Jedleseer Str. 66-94/Ecke Jedleseer Straße und Dunantgasse\, Wien\, 1210\, Österreich
CATEGORIES:Kinder und Jugendliche
ATTACH;FMTTYPE=image/png:https://wienzimmer.fsw.at/wp-content/uploads/2023/11/Hausaufgaben.png
END:VEVENT
BEGIN:VEVENT
DTSTART;TZID=Europe/Vienna:20240424T173000
DTEND;TZID=Europe/Vienna:20240424T183000
DTSTAMP:20260422T175820
CREATED:20240227T142555Z
LAST-MODIFIED:20240529T084505Z
UID:10002495-1713979800-1713983400@wienzimmer.fsw.at
SUMMARY:Vienna Hobby Lobby: Kampfsport
DESCRIPTION:Kampfsport im Souterrain \nDie Vienna Hobby Lobby bietet Kindern/Jugendlichen im Alter von 12 bis 17 Jahren verschiedene Kurse an. \nAb der zweiten Märzwoche ist eine verbindliche Anmeldung erforderlich. \nMehr Info gibt es hier. \nKontakt: \nEmail: linda.fress@viennahobbylobby.com Tel.:+43 677 61476128
URL:https://wienzimmer.fsw.at/event/vienna-hobby-lobby-kampfsport-2/2024-04-24/
LOCATION:WienZimmer\, Karl-Seitz-Hof - Jedleseer Str. 66-94/Ecke Jedleseer Straße und Dunantgasse\, Wien\, 1210\, Österreich
CATEGORIES:Kinder und Jugendliche
ATTACH;FMTTYPE=image/png:https://wienzimmer.fsw.at/wp-content/uploads/2023/11/Kampfsport.png
END:VEVENT
BEGIN:VEVENT
DTSTART;TZID=Europe/Vienna:20240424T170000
DTEND;TZID=Europe/Vienna:20240424T190000
DTSTAMP:20260422T175820
CREATED:20240328T102156Z
LAST-MODIFIED:20240328T102156Z
UID:10002580-1713978000-1713985200@wienzimmer.fsw.at
SUMMARY:Gemeinsam statt einsam - kostenlose Abendjause im WienZimmer
DESCRIPTION:für 20 Personen im Festsaal. \nEinmal im Monat wollen wir einen gemütlichen Rahmen schaffen und 20 bunt zusammen gewürfelte Gäste exklusiv und kostenlos mit einer schmackhaften Jause verwöhnen.\nAn einer gedeckten Tafel servieren wir verschiedene Leckereien und verbringen beim Essen gemeinsam einen schönen Abend\, der Gelegenheit bietet sich auszutauschen\, seine Nachbar:innen kennenzulernen\, Kontakte aufzubauen und Freundschaften zu schließen.\nNeben spannenden Geschichten und jeder Menge Lebenserfahrung\, gibt es dabei von vegan bis tierisch für alle etwas. \nWir freuen uns auf einen netten gemeinsamen Abend! \nDie Teilnahme ist nur mit Anmeldung möglich:\ndirekt im WienZimmer\, beim Team vor Ort\nper Email unter: wienzimmer@fsw.at\, Betreff: Dinner 24.4.\ntelefonisch oder per sms  unter: +43 676 8289 40448
URL:https://wienzimmer.fsw.at/event/gemeinsam-statt-einsam-kostenlose-abendjause-im-wienzimmer-3/
LOCATION:WienZimmer\, Karl-Seitz-Hof - Jedleseer Str. 66-94/Ecke Jedleseer Straße und Dunantgasse\, Wien\, 1210\, Österreich
END:VEVENT
BEGIN:VEVENT
DTSTART;TZID=Europe/Vienna:20240424T163000
DTEND;TZID=Europe/Vienna:20240424T173000
DTSTAMP:20260422T175820
CREATED:20240227T142350Z
LAST-MODIFIED:20240529T084422Z
UID:10002490-1713976200-1713979800@wienzimmer.fsw.at
SUMMARY:Vienna Hobby Lobby: Theater
DESCRIPTION:Theater im kleinen Seminarraum oder im Souterrain \nDie Vienna Hobby Lobby bietet Kindern/Jugendlichen im Alter von 12 bis 17 Jahren verschiedene Kurse an. \nAb der zweiten Märzwoche ist eine verbindliche Anmeldung erforderlich. \nMehr Info gibt es hier. \nKontakt: \nEmail: linda.fress@viennahobbylobby.com Tel.:+43 677 61476128
URL:https://wienzimmer.fsw.at/event/vienna-hobby-lobby-theater-2/2024-04-24/
LOCATION:WienZimmer\, Karl-Seitz-Hof - Jedleseer Str. 66-94/Ecke Jedleseer Straße und Dunantgasse\, Wien\, 1210\, Österreich
CATEGORIES:Kinder und Jugendliche
ATTACH;FMTTYPE=image/png:https://wienzimmer.fsw.at/wp-content/uploads/2023/11/Theater.png
END:VEVENT
BEGIN:VEVENT
DTSTART;TZID=Europe/Vienna:20240424T153000
DTEND;TZID=Europe/Vienna:20240424T163000
DTSTAMP:20260422T175821
CREATED:20240227T142109Z
LAST-MODIFIED:20240529T084345Z
UID:10002485-1713972600-1713976200@wienzimmer.fsw.at
SUMMARY:Vienna Hobby Lobby: Tanzen
DESCRIPTION:Tanzen  im kleinen Seminarraum oder im Souterrain \nDie Vienna Hobby Lobby bietet Kindern/Jugendlichen im Alter von 12 bis 17 Jahren verschiedene Kurse an. \nAb der zweiten Märzwoche ist eine verbindliche Anmeldung erforderlich. \nMehr Info gibt es hier. \nKontakt: \nEmail: linda.fress@viennahobbylobby.com Tel.:+43 677 61476128
URL:https://wienzimmer.fsw.at/event/vienna-hobby-lobby-tanzen-2/2024-04-24/
LOCATION:WienZimmer\, Karl-Seitz-Hof - Jedleseer Str. 66-94/Ecke Jedleseer Straße und Dunantgasse\, Wien\, 1210\, Österreich
CATEGORIES:Kinder und Jugendliche
ATTACH;FMTTYPE=image/png:https://wienzimmer.fsw.at/wp-content/uploads/2023/11/Tanzen.png
END:VEVENT
BEGIN:VEVENT
DTSTART;TZID=Europe/Vienna:20240423T140000
DTEND;TZID=Europe/Vienna:20240423T160000
DTSTAMP:20260422T175821
CREATED:20240124T123207Z
LAST-MODIFIED:20240529T083424Z
UID:10002460-1713880800-1713888000@wienzimmer.fsw.at
SUMMARY:Hausaufgabenbetreuung
DESCRIPTION:Hausaufgabenbetreuung im kleinen Seminarraum \nin Kooperation mit „Rettet das Kind Österreich“ für Kinder von 6 bis 12 Jahren\, nur mit Anmeldung \nMehr Information gibt es hier.
URL:https://wienzimmer.fsw.at/event/hausaufgabenbetreuung-2/2024-04-23/
LOCATION:WienZimmer\, Karl-Seitz-Hof - Jedleseer Str. 66-94/Ecke Jedleseer Straße und Dunantgasse\, Wien\, 1210\, Österreich
CATEGORIES:Kinder und Jugendliche
ATTACH;FMTTYPE=image/png:https://wienzimmer.fsw.at/wp-content/uploads/2023/11/Hausaufgaben.png
END:VEVENT
BEGIN:VEVENT
DTSTART;TZID=Europe/Vienna:20240423T080000
DTEND;TZID=Europe/Vienna:20240423T100000
DTSTAMP:20260422T175821
CREATED:20240221T135959Z
LAST-MODIFIED:20240417T114943Z
UID:10002446-1713859200-1713866400@wienzimmer.fsw.at
SUMMARY:Elterncafé im WienZimmer
DESCRIPTION:Bei kostenlosem Filterkaffee\, Tee\, Keksen und einer kleinen Frühstücksjause können Eltern sich hier\, in einem moderierten Rahmen\, zu Themen rund ums Eltern sein\, ihre Kinder und schulische Herausforderungen austauschen.\nEs ist keine Anmeldung notwendig. \n* Das Elterncafe findet  ab dem 20. Februar – bis auf weiteres – wöchentlich am Dienstag um 08:00 Uhr statt.
URL:https://wienzimmer.fsw.at/event/elterncafe-im-wienzimmer-2/2024-04-23/
LOCATION:WienZimmer\, Karl-Seitz-Hof - Jedleseer Str. 66-94/Ecke Jedleseer Straße und Dunantgasse\, Wien\, 1210\, Österreich
END:VEVENT
BEGIN:VEVENT
DTSTART;TZID=Europe/Vienna:20240419T160000
DTEND;TZID=Europe/Vienna:20240419T170000
DTSTAMP:20260422T175821
CREATED:20240227T144014Z
LAST-MODIFIED:20240417T114607Z
UID:10002573-1713542400-1713546000@wienzimmer.fsw.at
SUMMARY:Vienna Hobby Lobby: Töpfern
DESCRIPTION:Töpfern im kleinen Souterrain \nDie Vienna Hobby Lobby bietet Kindern/Jugendlichen im Alter von 12 bis 17 Jahren verschiedene Kurse an. \nAb der zweiten Märzwoche ist eine verbindliche Anmeldung erforderlich. \nMehr Info gibt es hier. \nKontakt: \nEmail: linda.fress@viennahobbylobby.com Tel.:+43 677 61476128
URL:https://wienzimmer.fsw.at/event/vienna-hobby-lobby-toepfern-2/2024-04-19/
LOCATION:WienZimmer\, Karl-Seitz-Hof - Jedleseer Str. 66-94/Ecke Jedleseer Straße und Dunantgasse\, Wien\, 1210\, Österreich
CATEGORIES:Kinder und Jugendliche
ATTACH;FMTTYPE=image/png:https://wienzimmer.fsw.at/wp-content/uploads/2023/11/Toepfern.png
END:VEVENT
BEGIN:VEVENT
DTSTART;TZID=Europe/Vienna:20240419T150000
DTEND;TZID=Europe/Vienna:20240419T160000
DTSTAMP:20260422T175821
CREATED:20240328T101121Z
LAST-MODIFIED:20240417T114422Z
UID:10002569-1713538800-1713542400@wienzimmer.fsw.at
SUMMARY:Vienna Hobby Lobby: Türkisch
DESCRIPTION:Türkisch im kleinen Seminarraum \nDie Vienna Hobby Lobby bietet Kindern/Jugendlichen im Alter von 12 bis 17 Jahren verschiedene Kurse an. \nAb der zweiten Märzwoche ist eine verbindliche Anmeldung erforderlich. \nMehr Info gibt es hier. \nKontakt: \nEmail: linda.fress@viennahobbylobby.com Tel.:+43 677 61476128
URL:https://wienzimmer.fsw.at/event/vienna-hobby-lobby-tuerkisch-2/2024-04-19/
LOCATION:WienZimmer\, Karl-Seitz-Hof - Jedleseer Str. 66-94/Ecke Jedleseer Straße und Dunantgasse\, Wien\, 1210\, Österreich
CATEGORIES:Kinder und Jugendliche
ATTACH;FMTTYPE=image/png:https://wienzimmer.fsw.at/wp-content/uploads/2024/04/tuerkisch.png
END:VEVENT
END:VCALENDAR