BEGIN:VCALENDAR
VERSION:2.0
PRODID:-//Wien Zimmer - ECPv6.15.17.1//NONSGML v1.0//EN
CALSCALE:GREGORIAN
METHOD:PUBLISH
X-WR-CALNAME:Wien Zimmer
X-ORIGINAL-URL:https://wienzimmer.fsw.at
X-WR-CALDESC:Veranstaltungen für Wien Zimmer
REFRESH-INTERVAL;VALUE=DURATION:PT1H
X-Robots-Tag:noindex
X-PUBLISHED-TTL:PT1H
BEGIN:VTIMEZONE
TZID:Europe/Vienna
BEGIN:DAYLIGHT
TZOFFSETFROM:+0100
TZOFFSETTO:+0200
TZNAME:CEST
DTSTART:20240331T010000
END:DAYLIGHT
BEGIN:STANDARD
TZOFFSETFROM:+0200
TZOFFSETTO:+0100
TZNAME:CET
DTSTART:20241027T010000
END:STANDARD
BEGIN:DAYLIGHT
TZOFFSETFROM:+0100
TZOFFSETTO:+0200
TZNAME:CEST
DTSTART:20250330T010000
END:DAYLIGHT
BEGIN:STANDARD
TZOFFSETFROM:+0200
TZOFFSETTO:+0100
TZNAME:CET
DTSTART:20251026T010000
END:STANDARD
BEGIN:DAYLIGHT
TZOFFSETFROM:+0100
TZOFFSETTO:+0200
TZNAME:CEST
DTSTART:20260329T010000
END:DAYLIGHT
BEGIN:STANDARD
TZOFFSETFROM:+0200
TZOFFSETTO:+0100
TZNAME:CET
DTSTART:20261025T010000
END:STANDARD
END:VTIMEZONE
BEGIN:VEVENT
DTSTART;TZID=Europe/Vienna:20251201T110000
DTEND;TZID=Europe/Vienna:20251201T130000
DTSTAMP:20260420T060608
CREATED:20251126T094959Z
LAST-MODIFIED:20251126T094959Z
UID:10006820-1764586800-1764594000@wienzimmer.fsw.at
SUMMARY:Gemeinsames Weihnachtsbaum-Aufputzen
DESCRIPTION:im Feestsaal (Hochparterre)
URL:https://wienzimmer.fsw.at/event/gemeinsames-weihnachtsbaum-aufputzen/
LOCATION:WienZimmer\, Karl-Seitz-Hof - Jedleseer Str. 66-94/Ecke Jedleseer Straße und Dunantgasse\, Wien\, 1210\, Österreich
CATEGORIES:Sonstiges
END:VEVENT
BEGIN:VEVENT
DTSTART;TZID=Europe/Vienna:20251126T170000
DTEND;TZID=Europe/Vienna:20251126T200000
DTSTAMP:20260420T060608
CREATED:20250930T121350Z
LAST-MODIFIED:20251022T103234Z
UID:10006702-1764176400-1764187200@wienzimmer.fsw.at
SUMMARY:Gruppentherapie: Psychodrama
DESCRIPTION:im kleinen Seminarraum (1. Stock) \nHilfe bei Angst\, bei Depression und anderen Schwierigkeiten. Gruppenpsychotherapie mit der Methode Psychodrama. \nAb 17.15 – 20.00 Uhr\, mit Pause \nOhne Kosten bei Vorlage einer ärztlichen Überweisung zur Psychotherapie. \nFür die Anmeldung und mehr Information: Michael Josef Seiss\, MMSc. unter 0699-11133441. praxis@michaeljosefseiss.at
URL:https://wienzimmer.fsw.at/event/gruppentherapie-psychodrama-29/2025-11-26/
LOCATION:WienZimmer\, Karl-Seitz-Hof - Jedleseer Str. 66-94/Ecke Jedleseer Straße und Dunantgasse\, Wien\, 1210\, Österreich
CATEGORIES:Sonstiges
ATTACH;FMTTYPE=image/png:https://wienzimmer.fsw.at/wp-content/uploads/2023/11/Gruppentherapie.png
END:VEVENT
BEGIN:VEVENT
DTSTART;TZID=Europe/Vienna:20251125T080000
DTEND;TZID=Europe/Vienna:20251125T100000
DTSTAMP:20260420T060608
CREATED:20250806T140131Z
LAST-MODIFIED:20251021T131447Z
UID:10006582-1764057600-1764064800@wienzimmer.fsw.at
SUMMARY:Elterncafé im WienZimmer
DESCRIPTION:Austausch und Beratung für alle Eltern\nBabies und Kleinkinder können mitgebracht werden\nim Festsaal
URL:https://wienzimmer.fsw.at/event/elterncafe-im-wienzimmer-5/2025-11-25/
LOCATION:WienZimmer\, Karl-Seitz-Hof - Jedleseer Str. 66-94/Ecke Jedleseer Straße und Dunantgasse\, Wien\, 1210\, Österreich
END:VEVENT
BEGIN:VEVENT
DTSTART;TZID=Europe/Vienna:20251118T080000
DTEND;TZID=Europe/Vienna:20251118T100000
DTSTAMP:20260420T060608
CREATED:20250806T140131Z
LAST-MODIFIED:20251021T131447Z
UID:10006581-1763452800-1763460000@wienzimmer.fsw.at
SUMMARY:Elterncafé im WienZimmer
DESCRIPTION:Austausch und Beratung für alle Eltern\nBabies und Kleinkinder können mitgebracht werden\nim Festsaal
URL:https://wienzimmer.fsw.at/event/elterncafe-im-wienzimmer-5/2025-11-18/
LOCATION:WienZimmer\, Karl-Seitz-Hof - Jedleseer Str. 66-94/Ecke Jedleseer Straße und Dunantgasse\, Wien\, 1210\, Österreich
END:VEVENT
BEGIN:VEVENT
DTSTART;TZID=Europe/Vienna:20251112T170000
DTEND;TZID=Europe/Vienna:20251112T200000
DTSTAMP:20260420T060608
CREATED:20250930T121350Z
LAST-MODIFIED:20251022T103234Z
UID:10006701-1762966800-1762977600@wienzimmer.fsw.at
SUMMARY:Gruppentherapie: Psychodrama
DESCRIPTION:im kleinen Seminarraum (1. Stock) \nHilfe bei Angst\, bei Depression und anderen Schwierigkeiten. Gruppenpsychotherapie mit der Methode Psychodrama. \nAb 17.15 – 20.00 Uhr\, mit Pause \nOhne Kosten bei Vorlage einer ärztlichen Überweisung zur Psychotherapie. \nFür die Anmeldung und mehr Information: Michael Josef Seiss\, MMSc. unter 0699-11133441. praxis@michaeljosefseiss.at
URL:https://wienzimmer.fsw.at/event/gruppentherapie-psychodrama-29/2025-11-12/
LOCATION:WienZimmer\, Karl-Seitz-Hof - Jedleseer Str. 66-94/Ecke Jedleseer Straße und Dunantgasse\, Wien\, 1210\, Österreich
CATEGORIES:Sonstiges
ATTACH;FMTTYPE=image/png:https://wienzimmer.fsw.at/wp-content/uploads/2023/11/Gruppentherapie.png
END:VEVENT
BEGIN:VEVENT
DTSTART;TZID=Europe/Vienna:20251111T080000
DTEND;TZID=Europe/Vienna:20251111T100000
DTSTAMP:20260420T060608
CREATED:20250806T140131Z
LAST-MODIFIED:20251021T131447Z
UID:10006580-1762848000-1762855200@wienzimmer.fsw.at
SUMMARY:Elterncafé im WienZimmer
DESCRIPTION:Austausch und Beratung für alle Eltern\nBabies und Kleinkinder können mitgebracht werden\nim Festsaal
URL:https://wienzimmer.fsw.at/event/elterncafe-im-wienzimmer-5/2025-11-11/
LOCATION:WienZimmer\, Karl-Seitz-Hof - Jedleseer Str. 66-94/Ecke Jedleseer Straße und Dunantgasse\, Wien\, 1210\, Österreich
END:VEVENT
BEGIN:VEVENT
DTSTART;TZID=Europe/Vienna:20251104T080000
DTEND;TZID=Europe/Vienna:20251104T100000
DTSTAMP:20260420T060608
CREATED:20250806T140131Z
LAST-MODIFIED:20251021T131447Z
UID:10006579-1762243200-1762250400@wienzimmer.fsw.at
SUMMARY:Elterncafé im WienZimmer
DESCRIPTION:Austausch und Beratung für alle Eltern\nBabies und Kleinkinder können mitgebracht werden\nim Festsaal
URL:https://wienzimmer.fsw.at/event/elterncafe-im-wienzimmer-5/2025-11-04/
LOCATION:WienZimmer\, Karl-Seitz-Hof - Jedleseer Str. 66-94/Ecke Jedleseer Straße und Dunantgasse\, Wien\, 1210\, Österreich
END:VEVENT
BEGIN:VEVENT
DTSTART;TZID=Europe/Vienna:20251029T170000
DTEND;TZID=Europe/Vienna:20251029T200000
DTSTAMP:20260420T060608
CREATED:20250930T121350Z
LAST-MODIFIED:20251022T103234Z
UID:10006245-1761757200-1761768000@wienzimmer.fsw.at
SUMMARY:Gruppentherapie: Psychodrama
DESCRIPTION:im kleinen Seminarraum (1. Stock) \nHilfe bei Angst\, bei Depression und anderen Schwierigkeiten. Gruppenpsychotherapie mit der Methode Psychodrama. \nAb 17.15 – 20.00 Uhr\, mit Pause \nOhne Kosten bei Vorlage einer ärztlichen Überweisung zur Psychotherapie. \nFür die Anmeldung und mehr Information: Michael Josef Seiss\, MMSc. unter 0699-11133441. praxis@michaeljosefseiss.at
URL:https://wienzimmer.fsw.at/event/gruppentherapie-psychodrama-29/2025-10-29/
LOCATION:WienZimmer\, Karl-Seitz-Hof - Jedleseer Str. 66-94/Ecke Jedleseer Straße und Dunantgasse\, Wien\, 1210\, Österreich
CATEGORIES:Sonstiges
ATTACH;FMTTYPE=image/png:https://wienzimmer.fsw.at/wp-content/uploads/2023/11/Gruppentherapie.png
END:VEVENT
BEGIN:VEVENT
DTSTART;TZID=Europe/Vienna:20251028T080000
DTEND;TZID=Europe/Vienna:20251028T100000
DTSTAMP:20260420T060608
CREATED:20250806T140131Z
LAST-MODIFIED:20251021T131447Z
UID:10006310-1761638400-1761645600@wienzimmer.fsw.at
SUMMARY:Elterncafé im WienZimmer
DESCRIPTION:Austausch und Beratung für alle Eltern\nBabies und Kleinkinder können mitgebracht werden\nim Festsaal
URL:https://wienzimmer.fsw.at/event/elterncafe-im-wienzimmer-5/2025-10-28/
LOCATION:WienZimmer\, Karl-Seitz-Hof - Jedleseer Str. 66-94/Ecke Jedleseer Straße und Dunantgasse\, Wien\, 1210\, Österreich
END:VEVENT
BEGIN:VEVENT
DTSTART;TZID=Europe/Vienna:20251021T080000
DTEND;TZID=Europe/Vienna:20251021T100000
DTSTAMP:20260420T060608
CREATED:20250806T140131Z
LAST-MODIFIED:20251021T131447Z
UID:10006309-1761033600-1761040800@wienzimmer.fsw.at
SUMMARY:Elterncafé im WienZimmer
DESCRIPTION:Austausch und Beratung für alle Eltern\nBabies und Kleinkinder können mitgebracht werden\nim Festsaal
URL:https://wienzimmer.fsw.at/event/elterncafe-im-wienzimmer-5/2025-10-21/
LOCATION:WienZimmer\, Karl-Seitz-Hof - Jedleseer Str. 66-94/Ecke Jedleseer Straße und Dunantgasse\, Wien\, 1210\, Österreich
END:VEVENT
BEGIN:VEVENT
DTSTART;TZID=Europe/Vienna:20251015T170000
DTEND;TZID=Europe/Vienna:20251015T200000
DTSTAMP:20260420T060608
CREATED:20250930T121350Z
LAST-MODIFIED:20251022T103234Z
UID:10006244-1760547600-1760558400@wienzimmer.fsw.at
SUMMARY:Gruppentherapie: Psychodrama
DESCRIPTION:im kleinen Seminarraum (1. Stock) \nHilfe bei Angst\, bei Depression und anderen Schwierigkeiten. Gruppenpsychotherapie mit der Methode Psychodrama. \nAb 17.15 – 20.00 Uhr\, mit Pause \nOhne Kosten bei Vorlage einer ärztlichen Überweisung zur Psychotherapie. \nFür die Anmeldung und mehr Information: Michael Josef Seiss\, MMSc. unter 0699-11133441. praxis@michaeljosefseiss.at
URL:https://wienzimmer.fsw.at/event/gruppentherapie-psychodrama-29/2025-10-15/
LOCATION:WienZimmer\, Karl-Seitz-Hof - Jedleseer Str. 66-94/Ecke Jedleseer Straße und Dunantgasse\, Wien\, 1210\, Österreich
CATEGORIES:Sonstiges
ATTACH;FMTTYPE=image/png:https://wienzimmer.fsw.at/wp-content/uploads/2023/11/Gruppentherapie.png
END:VEVENT
BEGIN:VEVENT
DTSTART;TZID=Europe/Vienna:20251014T080000
DTEND;TZID=Europe/Vienna:20251014T100000
DTSTAMP:20260420T060608
CREATED:20250806T140131Z
LAST-MODIFIED:20251021T131447Z
UID:10006308-1760428800-1760436000@wienzimmer.fsw.at
SUMMARY:Elterncafé im WienZimmer
DESCRIPTION:Austausch und Beratung für alle Eltern\nBabies und Kleinkinder können mitgebracht werden\nim Festsaal
URL:https://wienzimmer.fsw.at/event/elterncafe-im-wienzimmer-5/2025-10-14/
LOCATION:WienZimmer\, Karl-Seitz-Hof - Jedleseer Str. 66-94/Ecke Jedleseer Straße und Dunantgasse\, Wien\, 1210\, Österreich
END:VEVENT
BEGIN:VEVENT
DTSTART;TZID=Europe/Vienna:20251007T080000
DTEND;TZID=Europe/Vienna:20251007T100000
DTSTAMP:20260420T060608
CREATED:20250806T140131Z
LAST-MODIFIED:20251021T131447Z
UID:10006307-1759824000-1759831200@wienzimmer.fsw.at
SUMMARY:Elterncafé im WienZimmer
DESCRIPTION:Austausch und Beratung für alle Eltern\nBabies und Kleinkinder können mitgebracht werden\nim Festsaal
URL:https://wienzimmer.fsw.at/event/elterncafe-im-wienzimmer-5/2025-10-07/
LOCATION:WienZimmer\, Karl-Seitz-Hof - Jedleseer Str. 66-94/Ecke Jedleseer Straße und Dunantgasse\, Wien\, 1210\, Österreich
END:VEVENT
BEGIN:VEVENT
DTSTART;TZID=Europe/Vienna:20251001T170000
DTEND;TZID=Europe/Vienna:20251001T200000
DTSTAMP:20260420T060608
CREATED:20250930T121350Z
LAST-MODIFIED:20251022T103234Z
UID:10006243-1759338000-1759348800@wienzimmer.fsw.at
SUMMARY:Gruppentherapie: Psychodrama
DESCRIPTION:im kleinen Seminarraum (1. Stock) \nHilfe bei Angst\, bei Depression und anderen Schwierigkeiten. Gruppenpsychotherapie mit der Methode Psychodrama. \nAb 17.15 – 20.00 Uhr\, mit Pause \nOhne Kosten bei Vorlage einer ärztlichen Überweisung zur Psychotherapie. \nFür die Anmeldung und mehr Information: Michael Josef Seiss\, MMSc. unter 0699-11133441. praxis@michaeljosefseiss.at
URL:https://wienzimmer.fsw.at/event/gruppentherapie-psychodrama-29/2025-10-01/
LOCATION:WienZimmer\, Karl-Seitz-Hof - Jedleseer Str. 66-94/Ecke Jedleseer Straße und Dunantgasse\, Wien\, 1210\, Österreich
CATEGORIES:Sonstiges
ATTACH;FMTTYPE=image/png:https://wienzimmer.fsw.at/wp-content/uploads/2023/11/Gruppentherapie.png
END:VEVENT
BEGIN:VEVENT
DTSTART;TZID=Europe/Vienna:20250930T080000
DTEND;TZID=Europe/Vienna:20250930T100000
DTSTAMP:20260420T060608
CREATED:20250806T140131Z
LAST-MODIFIED:20251021T131447Z
UID:10005733-1759219200-1759226400@wienzimmer.fsw.at
SUMMARY:Elterncafé im WienZimmer
DESCRIPTION:Austausch und Beratung für alle Eltern\nBabies und Kleinkinder können mitgebracht werden\nim Festsaal
URL:https://wienzimmer.fsw.at/event/elterncafe-im-wienzimmer-5/2025-09-30/
LOCATION:WienZimmer\, Karl-Seitz-Hof - Jedleseer Str. 66-94/Ecke Jedleseer Straße und Dunantgasse\, Wien\, 1210\, Österreich
END:VEVENT
BEGIN:VEVENT
DTSTART;TZID=Europe/Vienna:20250923T080000
DTEND;TZID=Europe/Vienna:20250923T100000
DTSTAMP:20260420T060608
CREATED:20250806T140131Z
LAST-MODIFIED:20251021T131447Z
UID:10005732-1758614400-1758621600@wienzimmer.fsw.at
SUMMARY:Elterncafé im WienZimmer
DESCRIPTION:Austausch und Beratung für alle Eltern\nBabies und Kleinkinder können mitgebracht werden\nim Festsaal
URL:https://wienzimmer.fsw.at/event/elterncafe-im-wienzimmer-5/2025-09-23/
LOCATION:WienZimmer\, Karl-Seitz-Hof - Jedleseer Str. 66-94/Ecke Jedleseer Straße und Dunantgasse\, Wien\, 1210\, Österreich
END:VEVENT
BEGIN:VEVENT
DTSTART;TZID=Europe/Vienna:20250917T170000
DTEND;TZID=Europe/Vienna:20250917T200000
DTSTAMP:20260420T060608
CREATED:20250826T111903Z
LAST-MODIFIED:20250826T111903Z
UID:10005777-1758128400-1758139200@wienzimmer.fsw.at
SUMMARY:Gruppentherapie: Psychodrama
DESCRIPTION:im kleinen Seminarraum (1. Stock) \nHilfe bei Angst\, bei Depression und anderen Schwierigkeiten. Gruppenpsychotherapie mit der Methode Psychodrama. \nAb 17.15 – 20.00 Uhr\, mit Pause \nOhne Kosten bei Vorlage einer ärztlichen Überweisung zur Psychotherapie. \nFür die Anmeldung und mehr Information: Michael Josef Seiss\, MMSc. unter 0699-11133441. praxis@michaeljosefseiss.at
URL:https://wienzimmer.fsw.at/event/gruppentherapie-psychodrama-28/2025-09-17/
LOCATION:WienZimmer\, Karl-Seitz-Hof - Jedleseer Str. 66-94/Ecke Jedleseer Straße und Dunantgasse\, Wien\, 1210\, Österreich
CATEGORIES:Sonstiges
ATTACH;FMTTYPE=image/png:https://wienzimmer.fsw.at/wp-content/uploads/2023/11/Gruppentherapie.png
END:VEVENT
BEGIN:VEVENT
DTSTART;TZID=Europe/Vienna:20250916T080000
DTEND;TZID=Europe/Vienna:20250916T100000
DTSTAMP:20260420T060608
CREATED:20250806T140131Z
LAST-MODIFIED:20251021T131447Z
UID:10005731-1758009600-1758016800@wienzimmer.fsw.at
SUMMARY:Elterncafé im WienZimmer
DESCRIPTION:Austausch und Beratung für alle Eltern\nBabies und Kleinkinder können mitgebracht werden\nim Festsaal
URL:https://wienzimmer.fsw.at/event/elterncafe-im-wienzimmer-5/2025-09-16/
LOCATION:WienZimmer\, Karl-Seitz-Hof - Jedleseer Str. 66-94/Ecke Jedleseer Straße und Dunantgasse\, Wien\, 1210\, Österreich
END:VEVENT
BEGIN:VEVENT
DTSTART;TZID=Europe/Vienna:20250909T080000
DTEND;TZID=Europe/Vienna:20250909T100000
DTSTAMP:20260420T060608
CREATED:20250806T140131Z
LAST-MODIFIED:20251021T131447Z
UID:10005730-1757404800-1757412000@wienzimmer.fsw.at
SUMMARY:Elterncafé im WienZimmer
DESCRIPTION:Austausch und Beratung für alle Eltern\nBabies und Kleinkinder können mitgebracht werden\nim Festsaal
URL:https://wienzimmer.fsw.at/event/elterncafe-im-wienzimmer-5/2025-09-09/
LOCATION:WienZimmer\, Karl-Seitz-Hof - Jedleseer Str. 66-94/Ecke Jedleseer Straße und Dunantgasse\, Wien\, 1210\, Österreich
END:VEVENT
BEGIN:VEVENT
DTSTART;TZID=Europe/Vienna:20250903T170000
DTEND;TZID=Europe/Vienna:20250903T200000
DTSTAMP:20260420T060608
CREATED:20250826T111903Z
LAST-MODIFIED:20250826T111903Z
UID:10005776-1756918800-1756929600@wienzimmer.fsw.at
SUMMARY:Gruppentherapie: Psychodrama
DESCRIPTION:im kleinen Seminarraum (1. Stock) \nHilfe bei Angst\, bei Depression und anderen Schwierigkeiten. Gruppenpsychotherapie mit der Methode Psychodrama. \nAb 17.15 – 20.00 Uhr\, mit Pause \nOhne Kosten bei Vorlage einer ärztlichen Überweisung zur Psychotherapie. \nFür die Anmeldung und mehr Information: Michael Josef Seiss\, MMSc. unter 0699-11133441. praxis@michaeljosefseiss.at
URL:https://wienzimmer.fsw.at/event/gruppentherapie-psychodrama-28/2025-09-03/
LOCATION:WienZimmer\, Karl-Seitz-Hof - Jedleseer Str. 66-94/Ecke Jedleseer Straße und Dunantgasse\, Wien\, 1210\, Österreich
CATEGORIES:Sonstiges
ATTACH;FMTTYPE=image/png:https://wienzimmer.fsw.at/wp-content/uploads/2023/11/Gruppentherapie.png
END:VEVENT
BEGIN:VEVENT
DTSTART;TZID=Europe/Vienna:20250902T080000
DTEND;TZID=Europe/Vienna:20250902T100000
DTSTAMP:20260420T060608
CREATED:20250806T140131Z
LAST-MODIFIED:20251021T131447Z
UID:10005729-1756800000-1756807200@wienzimmer.fsw.at
SUMMARY:Elterncafé im WienZimmer
DESCRIPTION:Austausch und Beratung für alle Eltern\nBabies und Kleinkinder können mitgebracht werden\nim Festsaal
URL:https://wienzimmer.fsw.at/event/elterncafe-im-wienzimmer-5/2025-09-02/
LOCATION:WienZimmer\, Karl-Seitz-Hof - Jedleseer Str. 66-94/Ecke Jedleseer Straße und Dunantgasse\, Wien\, 1210\, Österreich
END:VEVENT
BEGIN:VEVENT
DTSTART;TZID=Europe/Vienna:20250826T080000
DTEND;TZID=Europe/Vienna:20250826T100000
DTSTAMP:20260420T060608
CREATED:20250806T140131Z
LAST-MODIFIED:20251021T131447Z
UID:10004907-1756195200-1756202400@wienzimmer.fsw.at
SUMMARY:Elterncafé im WienZimmer
DESCRIPTION:Austausch und Beratung für alle Eltern\nBabies und Kleinkinder können mitgebracht werden\nim Festsaal
URL:https://wienzimmer.fsw.at/event/elterncafe-im-wienzimmer-5/2025-08-26/
LOCATION:WienZimmer\, Karl-Seitz-Hof - Jedleseer Str. 66-94/Ecke Jedleseer Straße und Dunantgasse\, Wien\, 1210\, Österreich
END:VEVENT
BEGIN:VEVENT
DTSTART;TZID=Europe/Vienna:20250820T170000
DTEND;TZID=Europe/Vienna:20250820T200000
DTSTAMP:20260420T060608
CREATED:20250806T141800Z
LAST-MODIFIED:20250806T141800Z
UID:10005336-1755709200-1755720000@wienzimmer.fsw.at
SUMMARY:Gruppentherapie: Psychodrama
DESCRIPTION:im kleinen Seminarraum (1. Stock) \nHilfe bei Angst\, bei Depression und anderen Schwierigkeiten. Gruppenpsychotherapie mit der Methode Psychodrama. \nAb 17.15 – 20.00 Uhr\, mit Pause \nOhne Kosten bei Vorlage einer ärztlichen Überweisung zur Psychotherapie. \nFür die Anmeldung und mehr Information: Michael Josef Seiss\, MMSc. unter 0699-11133441. praxis@michaeljosefseiss.at
URL:https://wienzimmer.fsw.at/event/gruppentherapie-psychodrama-27/
LOCATION:WienZimmer\, Karl-Seitz-Hof - Jedleseer Str. 66-94/Ecke Jedleseer Straße und Dunantgasse\, Wien\, 1210\, Österreich
CATEGORIES:Sonstiges
ATTACH;FMTTYPE=image/png:https://wienzimmer.fsw.at/wp-content/uploads/2023/11/Gruppentherapie.png
END:VEVENT
BEGIN:VEVENT
DTSTART;TZID=Europe/Vienna:20250819T080000
DTEND;TZID=Europe/Vienna:20250819T100000
DTSTAMP:20260420T060608
CREATED:20250806T140131Z
LAST-MODIFIED:20251021T131447Z
UID:10004906-1755590400-1755597600@wienzimmer.fsw.at
SUMMARY:Elterncafé im WienZimmer
DESCRIPTION:Austausch und Beratung für alle Eltern\nBabies und Kleinkinder können mitgebracht werden\nim Festsaal
URL:https://wienzimmer.fsw.at/event/elterncafe-im-wienzimmer-5/2025-08-19/
LOCATION:WienZimmer\, Karl-Seitz-Hof - Jedleseer Str. 66-94/Ecke Jedleseer Straße und Dunantgasse\, Wien\, 1210\, Österreich
END:VEVENT
BEGIN:VEVENT
DTSTART;TZID=Europe/Vienna:20250812T080000
DTEND;TZID=Europe/Vienna:20250812T100000
DTSTAMP:20260420T060608
CREATED:20250806T140131Z
LAST-MODIFIED:20251021T131447Z
UID:10004905-1754985600-1754992800@wienzimmer.fsw.at
SUMMARY:Elterncafé im WienZimmer
DESCRIPTION:Austausch und Beratung für alle Eltern\nBabies und Kleinkinder können mitgebracht werden\nim Festsaal
URL:https://wienzimmer.fsw.at/event/elterncafe-im-wienzimmer-5/2025-08-12/
LOCATION:WienZimmer\, Karl-Seitz-Hof - Jedleseer Str. 66-94/Ecke Jedleseer Straße und Dunantgasse\, Wien\, 1210\, Österreich
END:VEVENT
BEGIN:VEVENT
DTSTART;TZID=Europe/Vienna:20250715T080000
DTEND;TZID=Europe/Vienna:20250715T100000
DTSTAMP:20260420T060608
CREATED:20241127T134110Z
LAST-MODIFIED:20250625T114952Z
UID:10004073-1752566400-1752573600@wienzimmer.fsw.at
SUMMARY:Elterncafé im WienZimmer
DESCRIPTION:Austausch und Beratung für alle Eltern\nBabies und Kleinkinder können mitgebracht werden\nim Festsaal
URL:https://wienzimmer.fsw.at/event/elterncafe-im-wienzimmer-4/2025-07-15/
LOCATION:WienZimmer\, Karl-Seitz-Hof - Jedleseer Str. 66-94/Ecke Jedleseer Straße und Dunantgasse\, Wien\, 1210\, Österreich
END:VEVENT
BEGIN:VEVENT
DTSTART;TZID=Europe/Vienna:20250710T170000
DTEND;TZID=Europe/Vienna:20250710T200000
DTSTAMP:20260420T060608
CREATED:20250625T122759Z
LAST-MODIFIED:20250625T122759Z
UID:10004115-1752166800-1752177600@wienzimmer.fsw.at
SUMMARY:Gruppentherapie: Psychodrama
DESCRIPTION:im kleinen Seminarraum (1. Stock) \nHilfe bei Angst\, bei Depression und anderen Schwierigkeiten. Gruppenpsychotherapie mit der Methode Psychodrama. \nAb 17.15 – 20.00 Uhr\, mit Pause \nOhne Kosten bei Vorlage einer ärztlichen Überweisung zur Psychotherapie. \nFür die Anmeldung und mehr Information: Michael Josef Seiss\, MMSc. unter 0699-11133441. praxis@michaeljosefseiss.at
URL:https://wienzimmer.fsw.at/event/gruppentherapie-psychodrama-26/
LOCATION:WienZimmer\, Karl-Seitz-Hof - Jedleseer Str. 66-94/Ecke Jedleseer Straße und Dunantgasse\, Wien\, 1210\, Österreich
CATEGORIES:Sonstiges
ATTACH;FMTTYPE=image/png:https://wienzimmer.fsw.at/wp-content/uploads/2023/11/Gruppentherapie.png
END:VEVENT
BEGIN:VEVENT
DTSTART;TZID=Europe/Vienna:20250708T080000
DTEND;TZID=Europe/Vienna:20250708T100000
DTSTAMP:20260420T060608
CREATED:20241127T134110Z
LAST-MODIFIED:20250625T114952Z
UID:10004072-1751961600-1751968800@wienzimmer.fsw.at
SUMMARY:Elterncafé im WienZimmer
DESCRIPTION:Austausch und Beratung für alle Eltern\nBabies und Kleinkinder können mitgebracht werden\nim Festsaal
URL:https://wienzimmer.fsw.at/event/elterncafe-im-wienzimmer-4/2025-07-08/
LOCATION:WienZimmer\, Karl-Seitz-Hof - Jedleseer Str. 66-94/Ecke Jedleseer Straße und Dunantgasse\, Wien\, 1210\, Österreich
END:VEVENT
BEGIN:VEVENT
DTSTART;TZID=Europe/Vienna:20250701T080000
DTEND;TZID=Europe/Vienna:20250701T100000
DTSTAMP:20260420T060608
CREATED:20241127T134110Z
LAST-MODIFIED:20250625T114952Z
UID:10004071-1751356800-1751364000@wienzimmer.fsw.at
SUMMARY:Elterncafé im WienZimmer
DESCRIPTION:Austausch und Beratung für alle Eltern\nBabies und Kleinkinder können mitgebracht werden\nim Festsaal
URL:https://wienzimmer.fsw.at/event/elterncafe-im-wienzimmer-4/2025-07-01/
LOCATION:WienZimmer\, Karl-Seitz-Hof - Jedleseer Str. 66-94/Ecke Jedleseer Straße und Dunantgasse\, Wien\, 1210\, Österreich
END:VEVENT
BEGIN:VEVENT
DTSTART;TZID=Europe/Vienna:20250626T140000
DTEND;TZID=Europe/Vienna:20250626T160000
DTSTAMP:20260420T060608
CREATED:20240919T142709Z
LAST-MODIFIED:20250604T093225Z
UID:10004050-1750946400-1750953600@wienzimmer.fsw.at
SUMMARY:Hausaufgabenbegleitung
DESCRIPTION:Hausaufgabenbegleitung mit rettet das Kind Österreich\nim Souterrain (Keller)
URL:https://wienzimmer.fsw.at/event/hausaufgabenbegleitung-2/2025-06-26/
LOCATION:WienZimmer\, Karl-Seitz-Hof - Jedleseer Str. 66-94/Ecke Jedleseer Straße und Dunantgasse\, Wien\, 1210\, Österreich
CATEGORIES:Kinder und Jugendliche
ATTACH;FMTTYPE=image/png:https://wienzimmer.fsw.at/wp-content/uploads/2023/11/Hausaufgaben.png
END:VEVENT
END:VCALENDAR