BEGIN:VCALENDAR
VERSION:2.0
PRODID:-//Wien Zimmer - ECPv6.15.17.1//NONSGML v1.0//EN
CALSCALE:GREGORIAN
METHOD:PUBLISH
X-ORIGINAL-URL:https://wienzimmer.fsw.at
X-WR-CALDESC:Veranstaltungen für Wien Zimmer
REFRESH-INTERVAL;VALUE=DURATION:PT1H
X-Robots-Tag:noindex
X-PUBLISHED-TTL:PT1H
BEGIN:VTIMEZONE
TZID:Europe/Vienna
BEGIN:DAYLIGHT
TZOFFSETFROM:+0100
TZOFFSETTO:+0200
TZNAME:CEST
DTSTART:20250330T010000
END:DAYLIGHT
BEGIN:STANDARD
TZOFFSETFROM:+0200
TZOFFSETTO:+0100
TZNAME:CET
DTSTART:20251026T010000
END:STANDARD
BEGIN:DAYLIGHT
TZOFFSETFROM:+0100
TZOFFSETTO:+0200
TZNAME:CEST
DTSTART:20260329T010000
END:DAYLIGHT
BEGIN:STANDARD
TZOFFSETFROM:+0200
TZOFFSETTO:+0100
TZNAME:CET
DTSTART:20261025T010000
END:STANDARD
BEGIN:DAYLIGHT
TZOFFSETFROM:+0100
TZOFFSETTO:+0200
TZNAME:CEST
DTSTART:20270328T010000
END:DAYLIGHT
BEGIN:STANDARD
TZOFFSETFROM:+0200
TZOFFSETTO:+0100
TZNAME:CET
DTSTART:20271031T010000
END:STANDARD
END:VTIMEZONE
BEGIN:VEVENT
DTSTART;TZID=Europe/Vienna:20260202T083000
DTEND;TZID=Europe/Vienna:20260202T113000
DTSTAMP:20260419T224659
CREATED:20260119T091038Z
LAST-MODIFIED:20260119T091038Z
UID:10007257-1770021000-1770031800@wienzimmer.fsw.at
SUMMARY:Deutschkurs für Frauen* - mit bit social
DESCRIPTION:Souterrain (im Keller)
URL:https://wienzimmer.fsw.at/event/deutschkurs-fuer-frauen-mit-bit-social-2/2026-02-02/
END:VEVENT
BEGIN:VEVENT
DTSTART;TZID=Europe/Vienna:20260202T130000
DTEND;TZID=Europe/Vienna:20260202T134500
DTSTAMP:20260419T224659
CREATED:20260119T091306Z
LAST-MODIFIED:20260303T082951Z
UID:10007265-1770037200-1770039900@wienzimmer.fsw.at
SUMMARY:Leseratten Club - gemeinsames interaktives Vorlesen für Kinder (auf Arabisch)
DESCRIPTION:Im kleinen Seminarraum (1.Stock)
URL:https://wienzimmer.fsw.at/event/leseratten-club-gemeinsames-interaktives-vorlesen-fuer-kinder-auf-arabisch/2026-02-02/
CATEGORIES:Kinder und Jugendliche
ATTACH;FMTTYPE=image/png:https://wienzimmer.fsw.at/wp-content/uploads/2024/10/WienZimmer_Veranstaltungskalender-Anime.png
END:VEVENT
BEGIN:VEVENT
DTSTART;TZID=Europe/Vienna:20260203T080000
DTEND;TZID=Europe/Vienna:20260203T100000
DTSTAMP:20260419T224659
CREATED:20260119T091445Z
LAST-MODIFIED:20260303T085259Z
UID:10007269-1770105600-1770112800@wienzimmer.fsw.at
SUMMARY:Elterncafe – Austausch und Beratung für alle Eltern
DESCRIPTION:Babies und Kleinkinder können mitgebracht werden.\nIm Festsaal
URL:https://wienzimmer.fsw.at/event/elterncafe-austausch-und-beratung-fuer-alle-eltern-3/2026-02-03/
ATTACH;FMTTYPE=image/png:https://wienzimmer.fsw.at/wp-content/uploads/2023/11/Plaudertischerl.png
END:VEVENT
BEGIN:VEVENT
DTSTART;TZID=Europe/Vienna:20260203T183000
DTEND;TZID=Europe/Vienna:20260203T193000
DTSTAMP:20260419T224659
CREATED:20260119T091625Z
LAST-MODIFIED:20260303T085824Z
UID:10007273-1770143400-1770147000@wienzimmer.fsw.at
SUMMARY:Bauchtanzgruppe
DESCRIPTION:Im kleinen Seminarraum (1. Stock)
URL:https://wienzimmer.fsw.at/event/bauchtanzgruppe-5/2026-02-03/
END:VEVENT
BEGIN:VEVENT
DTSTART;TZID=Europe/Vienna:20260204T091500
DTEND;TZID=Europe/Vienna:20260204T101500
DTSTAMP:20260419T224659
CREATED:20260119T091751Z
LAST-MODIFIED:20260303T090359Z
UID:10007277-1770196500-1770200100@wienzimmer.fsw.at
SUMMARY:Yoga mit Sophie – für Senior:innen
DESCRIPTION:Im kleinen Seminarraum (1. Stock)
URL:https://wienzimmer.fsw.at/event/yoga-mit-sophie-fuer-seniorinnen-7/2026-02-04/
END:VEVENT
BEGIN:VEVENT
DTSTART;TZID=Europe/Vienna:20260204T100000
DTEND;TZID=Europe/Vienna:20260204T120000
DTSTAMP:20260419T224659
CREATED:20260119T091903Z
LAST-MODIFIED:20260304T082433Z
UID:10007281-1770199200-1770206400@wienzimmer.fsw.at
SUMMARY:Offene Aquarell-Malrunde (Senior:innen) – selbstorganisiert
DESCRIPTION:Im Festsaal
URL:https://wienzimmer.fsw.at/event/offene-aquarell-malrunde-seniorinnen-selbstorganisiert-2/2026-02-04/
ATTACH;FMTTYPE=image/png:https://wienzimmer.fsw.at/wp-content/uploads/2023/11/Malen.png
END:VEVENT
BEGIN:VEVENT
DTSTART;TZID=Europe/Vienna:20260204T104000
DTEND;TZID=Europe/Vienna:20260204T114500
DTSTAMP:20260419T224659
CREATED:20260119T092022Z
LAST-MODIFIED:20260304T082703Z
UID:10007285-1770201600-1770205500@wienzimmer.fsw.at
SUMMARY:Yoga mit Sophie – Yoga für Anfänger:innen
DESCRIPTION:Im kleinen Seminarraum (1. Stock)
URL:https://wienzimmer.fsw.at/event/yoga-mit-sophie-yoga-fuer-anfaengerinnen-5/2026-02-04/
END:VEVENT
BEGIN:VEVENT
DTSTART;TZID=Europe/Vienna:20260204T130000
DTEND;TZID=Europe/Vienna:20260204T134500
DTSTAMP:20260419T224659
CREATED:20260119T092135Z
LAST-MODIFIED:20260304T083112Z
UID:10007289-1770210000-1770212700@wienzimmer.fsw.at
SUMMARY:Leseratten Club - gemeinsames interaktives Vorlesen für Kinder (auf Deutsch)
DESCRIPTION:Im kleinen Seminarraum (1.Stock)
URL:https://wienzimmer.fsw.at/event/leseratten-club-gemeinsames-interaktives-vorlesen-fuer-kinder-auf-deutsch/2026-02-04/
CATEGORIES:Kinder und Jugendliche
ATTACH;FMTTYPE=image/png:https://wienzimmer.fsw.at/wp-content/uploads/2024/10/WienZimmer_Veranstaltungskalender-Anime.png
END:VEVENT
BEGIN:VEVENT
DTSTART;TZID=Europe/Vienna:20260204T140000
DTEND;TZID=Europe/Vienna:20260204T180000
DTSTAMP:20260419T224659
CREATED:20260119T092312Z
LAST-MODIFIED:20260304T083638Z
UID:10007335-1770213600-1770228000@wienzimmer.fsw.at
SUMMARY:Kinderfreunde Wien – offene Kinder- & Jugendarbeit
DESCRIPTION:Im WienZimmer (diverse Räume)
URL:https://wienzimmer.fsw.at/event/kinderfreunde-wien-offene-kinder-jugendarbeit-18/2026-02-04/
CATEGORIES:Kinder und Jugendliche
END:VEVENT
BEGIN:VEVENT
DTSTART;TZID=Europe/Vienna:20260205T100000
DTEND;TZID=Europe/Vienna:20260205T110000
DTSTAMP:20260419T224659
CREATED:20260119T092443Z
LAST-MODIFIED:20260305T081450Z
UID:10007301-1770285600-1770289200@wienzimmer.fsw.at
SUMMARY:Krafttraining mit Bernd
DESCRIPTION:Für ältere Menschen und alle\, die mitmachen wollen.\nIm Souterrain.
URL:https://wienzimmer.fsw.at/event/krafttraining-mit-bernd-3/2026-02-05/
ATTACH;FMTTYPE=image/png:https://wienzimmer.fsw.at/wp-content/uploads/2023/11/Fitness.png
END:VEVENT
BEGIN:VEVENT
DTSTART;TZID=Europe/Vienna:20260205T140000
DTEND;TZID=Europe/Vienna:20260205T160000
DTSTAMP:20260419T224659
CREATED:20260119T092632Z
LAST-MODIFIED:20260305T081852Z
UID:10007305-1770300000-1770307200@wienzimmer.fsw.at
SUMMARY:Handarbeitsstammtisch – selbstorganisiert aus der Nachbarschaft
DESCRIPTION:Im Festsaal
URL:https://wienzimmer.fsw.at/event/handarbeitsstammtisch-selbstorganisiert-aus-der-nachbarschaft-3/2026-02-05/
ATTACH;FMTTYPE=image/png:https://wienzimmer.fsw.at/wp-content/uploads/2024/04/naehkurs.png
END:VEVENT
BEGIN:VEVENT
DTSTART;TZID=Europe/Vienna:20260205T140000
DTEND;TZID=Europe/Vienna:20260205T180000
DTSTAMP:20260419T224659
CREATED:20260119T092312Z
LAST-MODIFIED:20260304T083638Z
UID:10007336-1770300000-1770314400@wienzimmer.fsw.at
SUMMARY:Kinderfreunde Wien – offene Kinder- & Jugendarbeit
DESCRIPTION:Im WienZimmer (diverse Räume)
URL:https://wienzimmer.fsw.at/event/kinderfreunde-wien-offene-kinder-jugendarbeit-18/2026-02-05/
CATEGORIES:Kinder und Jugendliche
END:VEVENT
BEGIN:VEVENT
DTSTART;TZID=Europe/Vienna:20260206T083000
DTEND;TZID=Europe/Vienna:20260206T113000
DTSTAMP:20260419T224659
CREATED:20260119T091038Z
LAST-MODIFIED:20260119T091038Z
UID:10007258-1770366600-1770377400@wienzimmer.fsw.at
SUMMARY:Deutschkurs für Frauen* - mit bit social
DESCRIPTION:Souterrain (im Keller)
URL:https://wienzimmer.fsw.at/event/deutschkurs-fuer-frauen-mit-bit-social-2/2026-02-06/
END:VEVENT
BEGIN:VEVENT
DTSTART;TZID=Europe/Vienna:20260209T083000
DTEND;TZID=Europe/Vienna:20260209T113000
DTSTAMP:20260419T224659
CREATED:20260119T091038Z
LAST-MODIFIED:20260119T091038Z
UID:10007259-1770625800-1770636600@wienzimmer.fsw.at
SUMMARY:Deutschkurs für Frauen* - mit bit social
DESCRIPTION:Souterrain (im Keller)
URL:https://wienzimmer.fsw.at/event/deutschkurs-fuer-frauen-mit-bit-social-2/2026-02-09/
END:VEVENT
BEGIN:VEVENT
DTSTART;TZID=Europe/Vienna:20260209T130000
DTEND;TZID=Europe/Vienna:20260209T134500
DTSTAMP:20260419T224659
CREATED:20260119T091306Z
LAST-MODIFIED:20260303T082951Z
UID:10007266-1770642000-1770644700@wienzimmer.fsw.at
SUMMARY:Leseratten Club - gemeinsames interaktives Vorlesen für Kinder (auf Arabisch)
DESCRIPTION:Im kleinen Seminarraum (1.Stock)
URL:https://wienzimmer.fsw.at/event/leseratten-club-gemeinsames-interaktives-vorlesen-fuer-kinder-auf-arabisch/2026-02-09/
CATEGORIES:Kinder und Jugendliche
ATTACH;FMTTYPE=image/png:https://wienzimmer.fsw.at/wp-content/uploads/2024/10/WienZimmer_Veranstaltungskalender-Anime.png
END:VEVENT
BEGIN:VEVENT
DTSTART;TZID=Europe/Vienna:20260209T140000
DTEND;TZID=Europe/Vienna:20260209T150000
DTSTAMP:20260419T224659
CREATED:20260119T094130Z
LAST-MODIFIED:20260119T094130Z
UID:10007317-1770645600-1770649200@wienzimmer.fsw.at
SUMMARY:Hausaufgabenbegleitung – mit rettet das Kind Österreich
DESCRIPTION:Im kleinen Seminarraum (1. Stock)
URL:https://wienzimmer.fsw.at/event/hausaufgabenbegleitung-mit-rettet-das-kind-oesterreich-2/2026-02-09/
CATEGORIES:Kinder und Jugendliche
ATTACH;FMTTYPE=image/png:https://wienzimmer.fsw.at/wp-content/uploads/2023/11/Hausaufgaben.png
END:VEVENT
BEGIN:VEVENT
DTSTART;TZID=Europe/Vienna:20260209T150000
DTEND;TZID=Europe/Vienna:20260209T160000
DTSTAMP:20260419T224659
CREATED:20260119T094231Z
LAST-MODIFIED:20260303T084542Z
UID:10007326-1770649200-1770652800@wienzimmer.fsw.at
SUMMARY:Hausaufgabenbegleitung – mit rettet das Kind Österreich
DESCRIPTION:Im kleinen Seminarraum (1. Stock)
URL:https://wienzimmer.fsw.at/event/hausaufgabenbegleitung-mit-rettet-das-kind-oesterreich-3/2026-02-09/
CATEGORIES:Kinder und Jugendliche
ATTACH;FMTTYPE=image/png:https://wienzimmer.fsw.at/wp-content/uploads/2023/11/Hausaufgaben.png
END:VEVENT
BEGIN:VEVENT
DTSTART;TZID=Europe/Vienna:20260210T080000
DTEND;TZID=Europe/Vienna:20260210T100000
DTSTAMP:20260419T224659
CREATED:20260119T091445Z
LAST-MODIFIED:20260303T085259Z
UID:10007270-1770710400-1770717600@wienzimmer.fsw.at
SUMMARY:Elterncafe – Austausch und Beratung für alle Eltern
DESCRIPTION:Babies und Kleinkinder können mitgebracht werden.\nIm Festsaal
URL:https://wienzimmer.fsw.at/event/elterncafe-austausch-und-beratung-fuer-alle-eltern-3/2026-02-10/
ATTACH;FMTTYPE=image/png:https://wienzimmer.fsw.at/wp-content/uploads/2023/11/Plaudertischerl.png
END:VEVENT
BEGIN:VEVENT
DTSTART;TZID=Europe/Vienna:20260210T140000
DTEND;TZID=Europe/Vienna:20260210T150000
DTSTAMP:20260419T224659
CREATED:20260119T094130Z
LAST-MODIFIED:20260119T094130Z
UID:10007318-1770732000-1770735600@wienzimmer.fsw.at
SUMMARY:Hausaufgabenbegleitung – mit rettet das Kind Österreich
DESCRIPTION:Im kleinen Seminarraum (1. Stock)
URL:https://wienzimmer.fsw.at/event/hausaufgabenbegleitung-mit-rettet-das-kind-oesterreich-2/2026-02-10/
CATEGORIES:Kinder und Jugendliche
ATTACH;FMTTYPE=image/png:https://wienzimmer.fsw.at/wp-content/uploads/2023/11/Hausaufgaben.png
END:VEVENT
BEGIN:VEVENT
DTSTART;TZID=Europe/Vienna:20260210T150000
DTEND;TZID=Europe/Vienna:20260210T160000
DTSTAMP:20260419T224659
CREATED:20260119T094231Z
LAST-MODIFIED:20260303T084542Z
UID:10007327-1770735600-1770739200@wienzimmer.fsw.at
SUMMARY:Hausaufgabenbegleitung – mit rettet das Kind Österreich
DESCRIPTION:Im kleinen Seminarraum (1. Stock)
URL:https://wienzimmer.fsw.at/event/hausaufgabenbegleitung-mit-rettet-das-kind-oesterreich-3/2026-02-10/
CATEGORIES:Kinder und Jugendliche
ATTACH;FMTTYPE=image/png:https://wienzimmer.fsw.at/wp-content/uploads/2023/11/Hausaufgaben.png
END:VEVENT
BEGIN:VEVENT
DTSTART;TZID=Europe/Vienna:20260210T170000
DTEND;TZID=Europe/Vienna:20260210T200000
DTSTAMP:20260419T224659
CREATED:20260119T092951Z
LAST-MODIFIED:20260305T084256Z
UID:10007311-1770742800-1770753600@wienzimmer.fsw.at
SUMMARY:Tanz mit Franz - Disko mit unserem DJ Franz Haberl
DESCRIPTION:Im Festsaal
URL:https://wienzimmer.fsw.at/event/tanz-mit-franz-disko-mit-unserem-dj-franz-haberl/
ATTACH;FMTTYPE=image/png:https://wienzimmer.fsw.at/wp-content/uploads/2023/11/Tanzen.png
END:VEVENT
BEGIN:VEVENT
DTSTART;TZID=Europe/Vienna:20260210T183000
DTEND;TZID=Europe/Vienna:20260210T193000
DTSTAMP:20260419T224659
CREATED:20260119T091625Z
LAST-MODIFIED:20260303T085824Z
UID:10007274-1770748200-1770751800@wienzimmer.fsw.at
SUMMARY:Bauchtanzgruppe
DESCRIPTION:Im kleinen Seminarraum (1. Stock)
URL:https://wienzimmer.fsw.at/event/bauchtanzgruppe-5/2026-02-10/
END:VEVENT
BEGIN:VEVENT
DTSTART;TZID=Europe/Vienna:20260211T091500
DTEND;TZID=Europe/Vienna:20260211T101500
DTSTAMP:20260419T224659
CREATED:20260119T091751Z
LAST-MODIFIED:20260303T090359Z
UID:10007278-1770801300-1770804900@wienzimmer.fsw.at
SUMMARY:Yoga mit Sophie – für Senior:innen
DESCRIPTION:Im kleinen Seminarraum (1. Stock)
URL:https://wienzimmer.fsw.at/event/yoga-mit-sophie-fuer-seniorinnen-7/2026-02-11/
END:VEVENT
BEGIN:VEVENT
DTSTART;TZID=Europe/Vienna:20260211T100000
DTEND;TZID=Europe/Vienna:20260211T120000
DTSTAMP:20260419T224659
CREATED:20260119T091903Z
LAST-MODIFIED:20260304T082433Z
UID:10007282-1770804000-1770811200@wienzimmer.fsw.at
SUMMARY:Offene Aquarell-Malrunde (Senior:innen) – selbstorganisiert
DESCRIPTION:Im Festsaal
URL:https://wienzimmer.fsw.at/event/offene-aquarell-malrunde-seniorinnen-selbstorganisiert-2/2026-02-11/
ATTACH;FMTTYPE=image/png:https://wienzimmer.fsw.at/wp-content/uploads/2023/11/Malen.png
END:VEVENT
BEGIN:VEVENT
DTSTART;TZID=Europe/Vienna:20260211T100000
DTEND;TZID=Europe/Vienna:20260211T140000
DTSTAMP:20260419T224659
CREATED:20260119T093053Z
LAST-MODIFIED:20260119T093053Z
UID:10007312-1770804000-1770818400@wienzimmer.fsw.at
SUMMARY:Faschingsfest – von Jugend am Werk
DESCRIPTION:Im Festsaal
URL:https://wienzimmer.fsw.at/event/faschingsfest-von-jugend-am-werk/
ATTACH;FMTTYPE=image/png:https://wienzimmer.fsw.at/wp-content/uploads/2024/04/party.png
END:VEVENT
BEGIN:VEVENT
DTSTART;TZID=Europe/Vienna:20260211T104000
DTEND;TZID=Europe/Vienna:20260211T114500
DTSTAMP:20260419T224659
CREATED:20260119T092022Z
LAST-MODIFIED:20260304T082703Z
UID:10007286-1770806400-1770810300@wienzimmer.fsw.at
SUMMARY:Yoga mit Sophie – Yoga für Anfänger:innen
DESCRIPTION:Im kleinen Seminarraum (1. Stock)
URL:https://wienzimmer.fsw.at/event/yoga-mit-sophie-yoga-fuer-anfaengerinnen-5/2026-02-11/
END:VEVENT
BEGIN:VEVENT
DTSTART;TZID=Europe/Vienna:20260211T130000
DTEND;TZID=Europe/Vienna:20260211T134500
DTSTAMP:20260419T224659
CREATED:20260119T092135Z
LAST-MODIFIED:20260304T083112Z
UID:10007290-1770814800-1770817500@wienzimmer.fsw.at
SUMMARY:Leseratten Club - gemeinsames interaktives Vorlesen für Kinder (auf Deutsch)
DESCRIPTION:Im kleinen Seminarraum (1.Stock)
URL:https://wienzimmer.fsw.at/event/leseratten-club-gemeinsames-interaktives-vorlesen-fuer-kinder-auf-deutsch/2026-02-11/
CATEGORIES:Kinder und Jugendliche
ATTACH;FMTTYPE=image/png:https://wienzimmer.fsw.at/wp-content/uploads/2024/10/WienZimmer_Veranstaltungskalender-Anime.png
END:VEVENT
BEGIN:VEVENT
DTSTART;TZID=Europe/Vienna:20260211T140000
DTEND;TZID=Europe/Vienna:20260211T180000
DTSTAMP:20260419T224659
CREATED:20260119T092312Z
LAST-MODIFIED:20260304T083638Z
UID:10007337-1770818400-1770832800@wienzimmer.fsw.at
SUMMARY:Kinderfreunde Wien – offene Kinder- & Jugendarbeit
DESCRIPTION:Im WienZimmer (diverse Räume)
URL:https://wienzimmer.fsw.at/event/kinderfreunde-wien-offene-kinder-jugendarbeit-18/2026-02-11/
CATEGORIES:Kinder und Jugendliche
END:VEVENT
BEGIN:VEVENT
DTSTART;TZID=Europe/Vienna:20260211T170000
DTEND;TZID=Europe/Vienna:20260211T180000
DTSTAMP:20260419T224659
CREATED:20260119T093158Z
LAST-MODIFIED:20260305T084537Z
UID:10007313-1770829200-1770832800@wienzimmer.fsw.at
SUMMARY:LineDance Schnupperstunde
DESCRIPTION:Im kleinen Seminarraun (1. Stock)
URL:https://wienzimmer.fsw.at/event/linedance-schnupperstunde-4/2026-02-11/
ATTACH;FMTTYPE=image/png:https://wienzimmer.fsw.at/wp-content/uploads/2023/11/Tanzen.png
END:VEVENT
BEGIN:VEVENT
DTSTART;TZID=Europe/Vienna:20260211T180000
DTEND;TZID=Europe/Vienna:20260211T200000
DTSTAMP:20260419T224659
CREATED:20260119T093320Z
LAST-MODIFIED:20260119T093320Z
UID:10007314-1770832800-1770840000@wienzimmer.fsw.at
SUMMARY:LineDance Gruppe
DESCRIPTION:Im kleinen Seminarraum (1. Stock)
URL:https://wienzimmer.fsw.at/event/linedance-gruppe-5/2026-02-11/
ATTACH;FMTTYPE=image/png:https://wienzimmer.fsw.at/wp-content/uploads/2023/11/Tanzen.png
END:VEVENT
END:VCALENDAR