BEGIN:VCALENDAR
VERSION:2.0
PRODID:-//Wien Zimmer - ECPv6.15.17.1//NONSGML v1.0//EN
CALSCALE:GREGORIAN
METHOD:PUBLISH
X-ORIGINAL-URL:https://wienzimmer.fsw.at
X-WR-CALDESC:Veranstaltungen für Wien Zimmer
REFRESH-INTERVAL;VALUE=DURATION:PT1H
X-Robots-Tag:noindex
X-PUBLISHED-TTL:PT1H
BEGIN:VTIMEZONE
TZID:Europe/Vienna
BEGIN:DAYLIGHT
TZOFFSETFROM:+0100
TZOFFSETTO:+0200
TZNAME:CEST
DTSTART:20250330T010000
END:DAYLIGHT
BEGIN:STANDARD
TZOFFSETFROM:+0200
TZOFFSETTO:+0100
TZNAME:CET
DTSTART:20251026T010000
END:STANDARD
BEGIN:DAYLIGHT
TZOFFSETFROM:+0100
TZOFFSETTO:+0200
TZNAME:CEST
DTSTART:20260329T010000
END:DAYLIGHT
BEGIN:STANDARD
TZOFFSETFROM:+0200
TZOFFSETTO:+0100
TZNAME:CET
DTSTART:20261025T010000
END:STANDARD
BEGIN:DAYLIGHT
TZOFFSETFROM:+0100
TZOFFSETTO:+0200
TZNAME:CEST
DTSTART:20270328T010000
END:DAYLIGHT
BEGIN:STANDARD
TZOFFSETFROM:+0200
TZOFFSETTO:+0100
TZNAME:CET
DTSTART:20271031T010000
END:STANDARD
END:VTIMEZONE
BEGIN:VEVENT
DTSTART;TZID=Europe/Vienna:20260107T100000
DTEND;TZID=Europe/Vienna:20260107T120000
DTSTAMP:20260420T025115
CREATED:20251217T141804Z
LAST-MODIFIED:20251217T150728Z
UID:10007208-1767780000-1767787200@wienzimmer.fsw.at
SUMMARY:Offene Aquarell-Malrunde (Senior:innen) – selbstorganisiert
DESCRIPTION:Im Festsaal
URL:https://wienzimmer.fsw.at/event/offene-aquarell-malrunde-seniorinnen-selbstorganisiert/2026-01-07/
ATTACH;FMTTYPE=image/png:https://wienzimmer.fsw.at/wp-content/uploads/2023/11/Malen.png
END:VEVENT
BEGIN:VEVENT
DTSTART;TZID=Europe/Vienna:20260107T104000
DTEND;TZID=Europe/Vienna:20260107T114500
DTSTAMP:20260420T025115
CREATED:20251217T141634Z
LAST-MODIFIED:20251217T141634Z
UID:10007204-1767782400-1767786300@wienzimmer.fsw.at
SUMMARY:Yoga mit Sophie – Yoga für Anfänger:innen
DESCRIPTION:Im kleinen Seminarraum (1. Stock).
URL:https://wienzimmer.fsw.at/event/yoga-mit-sophie-yoga-fuer-anfaengerinnen-4/2026-01-07/
END:VEVENT
BEGIN:VEVENT
DTSTART;TZID=Europe/Vienna:20260107T131500
DTEND;TZID=Europe/Vienna:20260107T134500
DTSTAMP:20260420T025115
CREATED:20251217T142009Z
LAST-MODIFIED:20251217T151532Z
UID:10007212-1767791700-1767793500@wienzimmer.fsw.at
SUMMARY:Leseratten Club
DESCRIPTION:Gemeinsames interaktives Vorlesen für Kinder.\nIm kleinen Seminarraum (1.Stock).
URL:https://wienzimmer.fsw.at/event/leseratten-club-10/2026-01-07/
CATEGORIES:Kinder und Jugendliche
ATTACH;FMTTYPE=image/png:https://wienzimmer.fsw.at/wp-content/uploads/2024/10/WienZimmer_Veranstaltungskalender-Anime.png
END:VEVENT
BEGIN:VEVENT
DTSTART;TZID=Europe/Vienna:20260107T140000
DTEND;TZID=Europe/Vienna:20260107T180000
DTSTAMP:20260420T025115
CREATED:20251217T142814Z
LAST-MODIFIED:20260128T142053Z
UID:10007343-1767794400-1767808800@wienzimmer.fsw.at
SUMMARY:Kinderfreunde Wien – offene Kinder- & Jugendarbeit
DESCRIPTION:Im WienZimmer (diverse Räume).
URL:https://wienzimmer.fsw.at/event/kinderfreunde-wien-offene-kinder-jugendarbeit-17/2026-01-07/
CATEGORIES:Kinder und Jugendliche
END:VEVENT
BEGIN:VEVENT
DTSTART;TZID=Europe/Vienna:20260108T100000
DTEND;TZID=Europe/Vienna:20260108T110000
DTSTAMP:20260420T025115
CREATED:20251217T145414Z
LAST-MODIFIED:20251217T151120Z
UID:10007224-1767866400-1767870000@wienzimmer.fsw.at
SUMMARY:Krafttraining mit Bernd
DESCRIPTION:Für ältere Menschen und alle\, die mitmachen wollen.\nIm Souterrain.
URL:https://wienzimmer.fsw.at/event/krafttraining-mit-bernd-2/2026-01-08/
ATTACH;FMTTYPE=image/png:https://wienzimmer.fsw.at/wp-content/uploads/2023/12/Fitness-1536x1024-Bildmitte-weiter-oben.png
END:VEVENT
BEGIN:VEVENT
DTSTART;TZID=Europe/Vienna:20260108T140000
DTEND;TZID=Europe/Vienna:20260108T160000
DTSTAMP:20260420T025115
CREATED:20251217T145632Z
LAST-MODIFIED:20260304T111822Z
UID:10007228-1767880800-1767888000@wienzimmer.fsw.at
SUMMARY:Hausaufgabenbegleitung – mit rettet das Kind Österreich
DESCRIPTION:Im kleinen Seminarraum (1. Stock).
URL:https://wienzimmer.fsw.at/event/hausaufgabenbegleitung-mit-rettet-das-kind-oesterreich/2026-01-08/
CATEGORIES:Kinder und Jugendliche
ATTACH;FMTTYPE=image/png:https://wienzimmer.fsw.at/wp-content/uploads/2023/11/Hausaufgaben.png
END:VEVENT
BEGIN:VEVENT
DTSTART;TZID=Europe/Vienna:20260108T140000
DTEND;TZID=Europe/Vienna:20260108T180000
DTSTAMP:20260420T025115
CREATED:20251217T142814Z
LAST-MODIFIED:20260128T142053Z
UID:10007344-1767880800-1767895200@wienzimmer.fsw.at
SUMMARY:Kinderfreunde Wien – offene Kinder- & Jugendarbeit
DESCRIPTION:Im WienZimmer (diverse Räume).
URL:https://wienzimmer.fsw.at/event/kinderfreunde-wien-offene-kinder-jugendarbeit-17/2026-01-08/
CATEGORIES:Kinder und Jugendliche
END:VEVENT
BEGIN:VEVENT
DTSTART;TZID=Europe/Vienna:20260109T100000
DTEND;TZID=Europe/Vienna:20260109T130000
DTSTAMP:20260420T025115
CREATED:20251217T145758Z
LAST-MODIFIED:20251217T145758Z
UID:10007238-1767952800-1767963600@wienzimmer.fsw.at
SUMMARY:Deutschkurs für Frauen* - mit bit social
DESCRIPTION:Im kleinen Seminarraum (1. Stock).
URL:https://wienzimmer.fsw.at/event/deutschkurs-fuer-frauen-mit-bit-social/2026-01-09/
END:VEVENT
BEGIN:VEVENT
DTSTART;TZID=Europe/Vienna:20260112T100000
DTEND;TZID=Europe/Vienna:20260112T130000
DTSTAMP:20260420T025115
CREATED:20251217T145758Z
LAST-MODIFIED:20251217T145758Z
UID:10007239-1768212000-1768222800@wienzimmer.fsw.at
SUMMARY:Deutschkurs für Frauen* - mit bit social
DESCRIPTION:Im kleinen Seminarraum (1. Stock).
URL:https://wienzimmer.fsw.at/event/deutschkurs-fuer-frauen-mit-bit-social/2026-01-12/
END:VEVENT
BEGIN:VEVENT
DTSTART;TZID=Europe/Vienna:20260112T140000
DTEND;TZID=Europe/Vienna:20260112T160000
DTSTAMP:20260420T025115
CREATED:20251217T145632Z
LAST-MODIFIED:20260304T111822Z
UID:10007229-1768226400-1768233600@wienzimmer.fsw.at
SUMMARY:Hausaufgabenbegleitung – mit rettet das Kind Österreich
DESCRIPTION:Im kleinen Seminarraum (1. Stock).
URL:https://wienzimmer.fsw.at/event/hausaufgabenbegleitung-mit-rettet-das-kind-oesterreich/2026-01-12/
CATEGORIES:Kinder und Jugendliche
ATTACH;FMTTYPE=image/png:https://wienzimmer.fsw.at/wp-content/uploads/2023/11/Hausaufgaben.png
END:VEVENT
BEGIN:VEVENT
DTSTART;TZID=Europe/Vienna:20260112T160000
DTEND;TZID=Europe/Vienna:20260112T180000
DTSTAMP:20260420T025115
CREATED:20251217T145901Z
LAST-MODIFIED:20251217T145901Z
UID:10007245-1768233600-1768240800@wienzimmer.fsw.at
SUMMARY:Demokratie-Fitness-Community-Meetup – vom Fonds Soziales Wien
DESCRIPTION:Im Festsaal.
URL:https://wienzimmer.fsw.at/event/demokratie-fitness-community-meetup-vom-fonds-soziales-wien/
END:VEVENT
BEGIN:VEVENT
DTSTART;TZID=Europe/Vienna:20260113T080000
DTEND;TZID=Europe/Vienna:20260113T100000
DTSTAMP:20260420T025115
CREATED:20251217T150014Z
LAST-MODIFIED:20251217T151603Z
UID:10007246-1768291200-1768298400@wienzimmer.fsw.at
SUMMARY:Elterncafe – Austausch und Beratung für alle Eltern
DESCRIPTION:* Babies und Kleinkinder können mitgebracht werden\nIm Festsaal.
URL:https://wienzimmer.fsw.at/event/elterncafe-austausch-und-beratung-fuer-alle-eltern-2/2026-01-13/
ATTACH;FMTTYPE=image/png:https://wienzimmer.fsw.at/wp-content/uploads/2023/11/Plaudertischerl.png
END:VEVENT
BEGIN:VEVENT
DTSTART;TZID=Europe/Vienna:20260113T140000
DTEND;TZID=Europe/Vienna:20260113T160000
DTSTAMP:20260420T025115
CREATED:20251217T145632Z
LAST-MODIFIED:20260304T111822Z
UID:10007230-1768312800-1768320000@wienzimmer.fsw.at
SUMMARY:Hausaufgabenbegleitung – mit rettet das Kind Österreich
DESCRIPTION:Im kleinen Seminarraum (1. Stock).
URL:https://wienzimmer.fsw.at/event/hausaufgabenbegleitung-mit-rettet-das-kind-oesterreich/2026-01-13/
CATEGORIES:Kinder und Jugendliche
ATTACH;FMTTYPE=image/png:https://wienzimmer.fsw.at/wp-content/uploads/2023/11/Hausaufgaben.png
END:VEVENT
BEGIN:VEVENT
DTSTART;TZID=Europe/Vienna:20260113T170000
DTEND;TZID=Europe/Vienna:20260113T200000
DTSTAMP:20260420T025115
CREATED:20251217T150234Z
LAST-MODIFIED:20251222T095217Z
UID:10007252-1768323600-1768334400@wienzimmer.fsw.at
SUMMARY:Tanz mit Franz
DESCRIPTION:Im Festsaal.
URL:https://wienzimmer.fsw.at/event/tanz-mit-franz-7/
ATTACH;FMTTYPE=image/png:https://wienzimmer.fsw.at/wp-content/uploads/2023/11/Tanzen.png
END:VEVENT
BEGIN:VEVENT
DTSTART;TZID=Europe/Vienna:20260113T180000
DTEND;TZID=Europe/Vienna:20260113T190000
DTSTAMP:20260420T025115
CREATED:20251217T150133Z
LAST-MODIFIED:20251217T150133Z
UID:10007249-1768327200-1768330800@wienzimmer.fsw.at
SUMMARY:Bauchtanzgruppe
DESCRIPTION:Im kleinen Seminarraum (1. Stock).
URL:https://wienzimmer.fsw.at/event/bauchtanzgruppe-4/2026-01-13/
END:VEVENT
BEGIN:VEVENT
DTSTART;TZID=Europe/Vienna:20260114T100000
DTEND;TZID=Europe/Vienna:20260114T120000
DTSTAMP:20260420T025115
CREATED:20251217T141804Z
LAST-MODIFIED:20251217T150728Z
UID:10007209-1768384800-1768392000@wienzimmer.fsw.at
SUMMARY:Offene Aquarell-Malrunde (Senior:innen) – selbstorganisiert
DESCRIPTION:Im Festsaal
URL:https://wienzimmer.fsw.at/event/offene-aquarell-malrunde-seniorinnen-selbstorganisiert/2026-01-14/
ATTACH;FMTTYPE=image/png:https://wienzimmer.fsw.at/wp-content/uploads/2023/11/Malen.png
END:VEVENT
BEGIN:VEVENT
DTSTART;TZID=Europe/Vienna:20260114T104000
DTEND;TZID=Europe/Vienna:20260114T114500
DTSTAMP:20260420T025115
CREATED:20251217T141634Z
LAST-MODIFIED:20251217T141634Z
UID:10007205-1768387200-1768391100@wienzimmer.fsw.at
SUMMARY:Yoga mit Sophie – Yoga für Anfänger:innen
DESCRIPTION:Im kleinen Seminarraum (1. Stock).
URL:https://wienzimmer.fsw.at/event/yoga-mit-sophie-yoga-fuer-anfaengerinnen-4/2026-01-14/
END:VEVENT
BEGIN:VEVENT
DTSTART;TZID=Europe/Vienna:20260114T130000
DTEND;TZID=Europe/Vienna:20260114T134500
DTSTAMP:20260420T025115
CREATED:20251217T142205Z
LAST-MODIFIED:20251217T151451Z
UID:10007215-1768395600-1768398300@wienzimmer.fsw.at
SUMMARY:Leseratten Club
DESCRIPTION:Gemeinsames interaktives Vorlesen für Kinder (auf Deutsch und Arabisch).\nIm kleinen Seminarraum (1.Stock).
URL:https://wienzimmer.fsw.at/event/leseratten-club-11/
ATTACH;FMTTYPE=image/png:https://wienzimmer.fsw.at/wp-content/uploads/2024/10/WienZimmer_Veranstaltungskalender-Anime.png
END:VEVENT
BEGIN:VEVENT
DTSTART;TZID=Europe/Vienna:20260114T140000
DTEND;TZID=Europe/Vienna:20260114T180000
DTSTAMP:20260420T025115
CREATED:20251217T142814Z
LAST-MODIFIED:20260128T142053Z
UID:10007345-1768399200-1768413600@wienzimmer.fsw.at
SUMMARY:Kinderfreunde Wien – offene Kinder- & Jugendarbeit
DESCRIPTION:Im WienZimmer (diverse Räume).
URL:https://wienzimmer.fsw.at/event/kinderfreunde-wien-offene-kinder-jugendarbeit-17/2026-01-14/
CATEGORIES:Kinder und Jugendliche
END:VEVENT
BEGIN:VEVENT
DTSTART;TZID=Europe/Vienna:20260114T170000
DTEND;TZID=Europe/Vienna:20260114T200000
DTSTAMP:20260420T025115
CREATED:20251217T150322Z
LAST-MODIFIED:20251217T151402Z
UID:10007253-1768410000-1768420800@wienzimmer.fsw.at
SUMMARY:Schnupperstunde LineDance
DESCRIPTION:Im kleinen Seminarraum.
URL:https://wienzimmer.fsw.at/event/schnupperstunde-linedance/
ATTACH;FMTTYPE=image/png:https://wienzimmer.fsw.at/wp-content/uploads/2023/11/Tanzen.png
END:VEVENT
BEGIN:VEVENT
DTSTART;TZID=Europe/Vienna:20260114T180000
DTEND;TZID=Europe/Vienna:20260114T200000
DTSTAMP:20260420T025115
CREATED:20251217T150358Z
LAST-MODIFIED:20251217T151343Z
UID:10007254-1768413600-1768420800@wienzimmer.fsw.at
SUMMARY:LineDance Gruppe
DESCRIPTION:Im kleinen Seminarraum (1. Stock).
URL:https://wienzimmer.fsw.at/event/linedance-gruppe-4/
ATTACH;FMTTYPE=image/png:https://wienzimmer.fsw.at/wp-content/uploads/2023/11/Tanzen.png
END:VEVENT
BEGIN:VEVENT
DTSTART;TZID=Europe/Vienna:20260115T100000
DTEND;TZID=Europe/Vienna:20260115T110000
DTSTAMP:20260420T025115
CREATED:20251217T145414Z
LAST-MODIFIED:20251217T151120Z
UID:10007225-1768471200-1768474800@wienzimmer.fsw.at
SUMMARY:Krafttraining mit Bernd
DESCRIPTION:Für ältere Menschen und alle\, die mitmachen wollen.\nIm Souterrain.
URL:https://wienzimmer.fsw.at/event/krafttraining-mit-bernd-2/2026-01-15/
ATTACH;FMTTYPE=image/png:https://wienzimmer.fsw.at/wp-content/uploads/2023/12/Fitness-1536x1024-Bildmitte-weiter-oben.png
END:VEVENT
BEGIN:VEVENT
DTSTART;TZID=Europe/Vienna:20260115T140000
DTEND;TZID=Europe/Vienna:20260115T160000
DTSTAMP:20260420T025115
CREATED:20251217T145632Z
LAST-MODIFIED:20260304T111822Z
UID:10007231-1768485600-1768492800@wienzimmer.fsw.at
SUMMARY:Hausaufgabenbegleitung – mit rettet das Kind Österreich
DESCRIPTION:Im kleinen Seminarraum (1. Stock).
URL:https://wienzimmer.fsw.at/event/hausaufgabenbegleitung-mit-rettet-das-kind-oesterreich/2026-01-15/
CATEGORIES:Kinder und Jugendliche
ATTACH;FMTTYPE=image/png:https://wienzimmer.fsw.at/wp-content/uploads/2023/11/Hausaufgaben.png
END:VEVENT
BEGIN:VEVENT
DTSTART;TZID=Europe/Vienna:20260115T140000
DTEND;TZID=Europe/Vienna:20260115T180000
DTSTAMP:20260420T025115
CREATED:20251217T142814Z
LAST-MODIFIED:20260128T142053Z
UID:10007346-1768485600-1768500000@wienzimmer.fsw.at
SUMMARY:Kinderfreunde Wien – offene Kinder- & Jugendarbeit
DESCRIPTION:Im WienZimmer (diverse Räume).
URL:https://wienzimmer.fsw.at/event/kinderfreunde-wien-offene-kinder-jugendarbeit-17/2026-01-15/
CATEGORIES:Kinder und Jugendliche
END:VEVENT
BEGIN:VEVENT
DTSTART;TZID=Europe/Vienna:20260116T100000
DTEND;TZID=Europe/Vienna:20260116T130000
DTSTAMP:20260420T025115
CREATED:20251217T145758Z
LAST-MODIFIED:20251217T145758Z
UID:10007240-1768557600-1768568400@wienzimmer.fsw.at
SUMMARY:Deutschkurs für Frauen* - mit bit social
DESCRIPTION:Im kleinen Seminarraum (1. Stock).
URL:https://wienzimmer.fsw.at/event/deutschkurs-fuer-frauen-mit-bit-social/2026-01-16/
END:VEVENT
BEGIN:VEVENT
DTSTART;TZID=Europe/Vienna:20260116T160000
DTEND;TZID=Europe/Vienna:20260116T203000
DTSTAMP:20260420T025115
CREATED:20251217T150456Z
LAST-MODIFIED:20251217T151321Z
UID:10007255-1768579200-1768595400@wienzimmer.fsw.at
SUMMARY:LindyHop: Tea Dance – mit der IG Hop
DESCRIPTION:Im Festsaal.
URL:https://wienzimmer.fsw.at/event/lindyhop-tea-dance-mit-der-ig-hop/
ATTACH;FMTTYPE=image/png:https://wienzimmer.fsw.at/wp-content/uploads/2023/11/Tanzen.png
END:VEVENT
BEGIN:VEVENT
DTSTART;TZID=Europe/Vienna:20260119T100000
DTEND;TZID=Europe/Vienna:20260119T130000
DTSTAMP:20260420T025115
CREATED:20251217T145758Z
LAST-MODIFIED:20251217T145758Z
UID:10007241-1768816800-1768827600@wienzimmer.fsw.at
SUMMARY:Deutschkurs für Frauen* - mit bit social
DESCRIPTION:Im kleinen Seminarraum (1. Stock).
URL:https://wienzimmer.fsw.at/event/deutschkurs-fuer-frauen-mit-bit-social/2026-01-19/
END:VEVENT
BEGIN:VEVENT
DTSTART;TZID=Europe/Vienna:20260119T140000
DTEND;TZID=Europe/Vienna:20260119T160000
DTSTAMP:20260420T025115
CREATED:20251217T145632Z
LAST-MODIFIED:20260304T111822Z
UID:10007232-1768831200-1768838400@wienzimmer.fsw.at
SUMMARY:Hausaufgabenbegleitung – mit rettet das Kind Österreich
DESCRIPTION:Im kleinen Seminarraum (1. Stock).
URL:https://wienzimmer.fsw.at/event/hausaufgabenbegleitung-mit-rettet-das-kind-oesterreich/2026-01-19/
CATEGORIES:Kinder und Jugendliche
ATTACH;FMTTYPE=image/png:https://wienzimmer.fsw.at/wp-content/uploads/2023/11/Hausaufgaben.png
END:VEVENT
BEGIN:VEVENT
DTSTART;TZID=Europe/Vienna:20260120T080000
DTEND;TZID=Europe/Vienna:20260120T100000
DTSTAMP:20260420T025115
CREATED:20251217T150014Z
LAST-MODIFIED:20251217T151603Z
UID:10007247-1768896000-1768903200@wienzimmer.fsw.at
SUMMARY:Elterncafe – Austausch und Beratung für alle Eltern
DESCRIPTION:* Babies und Kleinkinder können mitgebracht werden\nIm Festsaal.
URL:https://wienzimmer.fsw.at/event/elterncafe-austausch-und-beratung-fuer-alle-eltern-2/2026-01-20/
ATTACH;FMTTYPE=image/png:https://wienzimmer.fsw.at/wp-content/uploads/2023/11/Plaudertischerl.png
END:VEVENT
BEGIN:VEVENT
DTSTART;TZID=Europe/Vienna:20260120T140000
DTEND;TZID=Europe/Vienna:20260120T160000
DTSTAMP:20260420T025115
CREATED:20251217T145632Z
LAST-MODIFIED:20260304T111822Z
UID:10007233-1768917600-1768924800@wienzimmer.fsw.at
SUMMARY:Hausaufgabenbegleitung – mit rettet das Kind Österreich
DESCRIPTION:Im kleinen Seminarraum (1. Stock).
URL:https://wienzimmer.fsw.at/event/hausaufgabenbegleitung-mit-rettet-das-kind-oesterreich/2026-01-20/
CATEGORIES:Kinder und Jugendliche
ATTACH;FMTTYPE=image/png:https://wienzimmer.fsw.at/wp-content/uploads/2023/11/Hausaufgaben.png
END:VEVENT
END:VCALENDAR