BEGIN:VCALENDAR
VERSION:2.0
PRODID:-//Wien Zimmer - ECPv6.15.17.1//NONSGML v1.0//EN
CALSCALE:GREGORIAN
METHOD:PUBLISH
X-ORIGINAL-URL:https://wienzimmer.fsw.at
X-WR-CALDESC:Veranstaltungen für Wien Zimmer
REFRESH-INTERVAL;VALUE=DURATION:PT1H
X-Robots-Tag:noindex
X-PUBLISHED-TTL:PT1H
BEGIN:VTIMEZONE
TZID:Europe/Vienna
BEGIN:DAYLIGHT
TZOFFSETFROM:+0100
TZOFFSETTO:+0200
TZNAME:CEST
DTSTART:20240331T010000
END:DAYLIGHT
BEGIN:STANDARD
TZOFFSETFROM:+0200
TZOFFSETTO:+0100
TZNAME:CET
DTSTART:20241027T010000
END:STANDARD
BEGIN:DAYLIGHT
TZOFFSETFROM:+0100
TZOFFSETTO:+0200
TZNAME:CEST
DTSTART:20250330T010000
END:DAYLIGHT
BEGIN:STANDARD
TZOFFSETFROM:+0200
TZOFFSETTO:+0100
TZNAME:CET
DTSTART:20251026T010000
END:STANDARD
BEGIN:DAYLIGHT
TZOFFSETFROM:+0100
TZOFFSETTO:+0200
TZNAME:CEST
DTSTART:20260329T010000
END:DAYLIGHT
BEGIN:STANDARD
TZOFFSETFROM:+0200
TZOFFSETTO:+0100
TZNAME:CET
DTSTART:20261025T010000
END:STANDARD
END:VTIMEZONE
BEGIN:VEVENT
DTSTART;TZID=Europe/Vienna:20251201T100000
DTEND;TZID=Europe/Vienna:20251201T130000
DTSTAMP:20260420T025113
CREATED:20251126T092922Z
LAST-MODIFIED:20251126T092922Z
UID:10006721-1764583200-1764594000@wienzimmer.fsw.at
SUMMARY:kostenlose Deutschkurse für Frauen* - mit bit social
DESCRIPTION:Sprachlerntreffen\, Niveau A1-B2\nim kleinen Seminarraum (1. Stock)\n\nAnmeldung bei: Andrea Pap; Tel. +43 664 6199 731; Mail. andrea.pap@bitsocial.at
URL:https://wienzimmer.fsw.at/event/kostenlose-deutschkurse-fuer-frauen-mit-bit-social-2/
END:VEVENT
BEGIN:VEVENT
DTSTART;TZID=Europe/Vienna:20251201T110000
DTEND;TZID=Europe/Vienna:20251201T130000
DTSTAMP:20260420T025113
CREATED:20251126T094959Z
LAST-MODIFIED:20251126T094959Z
UID:10006820-1764586800-1764594000@wienzimmer.fsw.at
SUMMARY:Gemeinsames Weihnachtsbaum-Aufputzen
DESCRIPTION:im Feestsaal (Hochparterre)
URL:https://wienzimmer.fsw.at/event/gemeinsames-weihnachtsbaum-aufputzen/
LOCATION:WienZimmer\, Karl-Seitz-Hof - Jedleseer Str. 66-94/Ecke Jedleseer Straße und Dunantgasse\, Wien\, 1210\, Österreich
CATEGORIES:Sonstiges
END:VEVENT
BEGIN:VEVENT
DTSTART;TZID=Europe/Vienna:20251201T140000
DTEND;TZID=Europe/Vienna:20251201T160000
DTSTAMP:20260420T025113
CREATED:20251126T094331Z
LAST-MODIFIED:20251126T094559Z
UID:10006811-1764597600-1764604800@wienzimmer.fsw.at
SUMMARY:Hausaufgabenbegleitung
DESCRIPTION:mit rettet das Kind Österreich\nim kleinen Seminarraum (1. Stock)
URL:https://wienzimmer.fsw.at/event/hausaufgabenbegleitung-5/2025-12-01/
CATEGORIES:Kinder und Jugendliche
ATTACH;FMTTYPE=image/png:https://wienzimmer.fsw.at/wp-content/uploads/2023/11/Hausaufgaben.png
END:VEVENT
BEGIN:VEVENT
DTSTART;TZID=Europe/Vienna:20251202T080000
DTEND;TZID=Europe/Vienna:20251202T100000
DTSTAMP:20260420T025113
CREATED:20251126T121707Z
LAST-MODIFIED:20251126T121707Z
UID:10006821-1764662400-1764669600@wienzimmer.fsw.at
SUMMARY:Elterncafé – Austausch und Beratung für alle Eltern
DESCRIPTION:Babies und Kleinkinder können mitgebracht werden.\nIm Festsaal
URL:https://wienzimmer.fsw.at/event/elterncafe-austausch-und-beratung-fuer-alle-eltern/2025-12-02/
CATEGORIES:Kinder und Jugendliche
END:VEVENT
BEGIN:VEVENT
DTSTART;TZID=Europe/Vienna:20251202T130000
DTEND;TZID=Europe/Vienna:20251202T134500
DTSTAMP:20260420T025113
CREATED:20251126T121945Z
LAST-MODIFIED:20251126T121945Z
UID:10006824-1764680400-1764683100@wienzimmer.fsw.at
SUMMARY:Leseratten Club - gemeinsames interaktives Vorlesen für Kinder
DESCRIPTION:im kleinen Seminarraum (1. Stock)
URL:https://wienzimmer.fsw.at/event/leseratten-club-gemeinsames-interaktives-vorlesen-fuer-kinder/2025-12-02/
CATEGORIES:Kinder und Jugendliche
END:VEVENT
BEGIN:VEVENT
DTSTART;TZID=Europe/Vienna:20251202T140000
DTEND;TZID=Europe/Vienna:20251202T160000
DTSTAMP:20260420T025113
CREATED:20251126T094331Z
LAST-MODIFIED:20251126T094559Z
UID:10006819-1764684000-1764691200@wienzimmer.fsw.at
SUMMARY:Hausaufgabenbegleitung
DESCRIPTION:mit rettet das Kind Österreich\nim kleinen Seminarraum (1. Stock)
URL:https://wienzimmer.fsw.at/event/hausaufgabenbegleitung-5/2025-12-02/
CATEGORIES:Kinder und Jugendliche
ATTACH;FMTTYPE=image/png:https://wienzimmer.fsw.at/wp-content/uploads/2023/11/Hausaufgaben.png
END:VEVENT
BEGIN:VEVENT
DTSTART;TZID=Europe/Vienna:20251202T153000
DTEND;TZID=Europe/Vienna:20251202T163000
DTSTAMP:20260420T025113
CREATED:20251126T135826Z
LAST-MODIFIED:20251126T135826Z
UID:10006975-1764689400-1764693000@wienzimmer.fsw.at
SUMMARY:Hobby Lobby: Bewegung & Spiele (Demokratie Fitness)
DESCRIPTION:Festsaal
URL:https://wienzimmer.fsw.at/event/hobby-lobby-bewegung-spiele-demokratie-fitness-2/2025-12-02/
END:VEVENT
BEGIN:VEVENT
DTSTART;TZID=Europe/Vienna:20251202T163000
DTEND;TZID=Europe/Vienna:20251202T173000
DTSTAMP:20260420T025113
CREATED:20251126T161023Z
LAST-MODIFIED:20251126T161023Z
UID:10007139-1764693000-1764696600@wienzimmer.fsw.at
SUMMARY:Hobby Lobby: Töpfern für Volkschüler:innen
DESCRIPTION:im Souterrain
URL:https://wienzimmer.fsw.at/event/hobby-lobby-toepfern-fuer-volkschuelerinnen/2025-12-02/
END:VEVENT
BEGIN:VEVENT
DTSTART;TZID=Europe/Vienna:20251202T163000
DTEND;TZID=Europe/Vienna:20251202T173000
DTSTAMP:20260420T025113
CREATED:20251126T161335Z
LAST-MODIFIED:20260304T112841Z
UID:10007141-1764693000-1764696600@wienzimmer.fsw.at
SUMMARY:Hobby Lobby – Hacker School (Mittelschule)
DESCRIPTION:Im kleinen Seminarraum im 1. Stock
URL:https://wienzimmer.fsw.at/event/hobby-lobby-toepfern-fuer-volkschuelerinnen-2/2025-12-02/
END:VEVENT
BEGIN:VEVENT
DTSTART;TZID=Europe/Vienna:20251202T170000
DTEND;TZID=Europe/Vienna:20251202T180000
DTSTAMP:20260420T025113
CREATED:20251126T140250Z
LAST-MODIFIED:20251126T140251Z
UID:10006995-1764694800-1764698400@wienzimmer.fsw.at
SUMMARY:Hobby Lobby: Schmuckdesign
DESCRIPTION:im kleinen Seminarraum (1. Stock)
URL:https://wienzimmer.fsw.at/event/hobby-lobby-schmuckdesign-2/2025-12-02/
END:VEVENT
BEGIN:VEVENT
DTSTART;TZID=Europe/Vienna:20251202T173000
DTEND;TZID=Europe/Vienna:20251202T183000
DTSTAMP:20260420T025113
CREATED:20251126T140348Z
LAST-MODIFIED:20251126T140348Z
UID:10007005-1764696600-1764700200@wienzimmer.fsw.at
SUMMARY:Hobby Lobby: Tanzen
DESCRIPTION:im Souterrain
URL:https://wienzimmer.fsw.at/event/hobby-lobby-tanzen-3/2025-12-02/
ATTACH;FMTTYPE=image/png:https://wienzimmer.fsw.at/wp-content/uploads/2023/11/Tanzen.png
END:VEVENT
BEGIN:VEVENT
DTSTART;TZID=Europe/Vienna:20251202T180000
DTEND;TZID=Europe/Vienna:20251202T193000
DTSTAMP:20260420T025113
CREATED:20251126T122138Z
LAST-MODIFIED:20251126T122138Z
UID:10006827-1764698400-1764703800@wienzimmer.fsw.at
SUMMARY:Bauchtanzgruppe
DESCRIPTION:im kleinen Seminarraum (1. Stock)
URL:https://wienzimmer.fsw.at/event/bauchtanzgruppe-3/2025-12-02/
END:VEVENT
BEGIN:VEVENT
DTSTART;TZID=Europe/Vienna:20251203T091500
DTEND;TZID=Europe/Vienna:20251203T101500
DTSTAMP:20260420T025113
CREATED:20251126T122326Z
LAST-MODIFIED:20251126T122326Z
UID:10006830-1764753300-1764756900@wienzimmer.fsw.at
SUMMARY:Yoga mit Sophie – für Senior:innen
DESCRIPTION:im kleinen Seminarraum (1. Stock)
URL:https://wienzimmer.fsw.at/event/yoga-mit-sophie-fuer-seniorinnen-4/2025-12-03/
END:VEVENT
BEGIN:VEVENT
DTSTART;TZID=Europe/Vienna:20251203T100000
DTEND;TZID=Europe/Vienna:20251203T120000
DTSTAMP:20260420T025113
CREATED:20251126T133140Z
LAST-MODIFIED:20251126T133140Z
UID:10006962-1764756000-1764763200@wienzimmer.fsw.at
SUMMARY:offene Aquarell-Malrunde – selbstorganisiert
DESCRIPTION:Für Senior:innen. \nIm Festsaal
URL:https://wienzimmer.fsw.at/event/offene-aquarell-malrunde-selbstorganisiert-5/2025-12-03/
END:VEVENT
BEGIN:VEVENT
DTSTART;TZID=Europe/Vienna:20251203T104000
DTEND;TZID=Europe/Vienna:20251203T114500
DTSTAMP:20260420T025113
CREATED:20251126T122401Z
LAST-MODIFIED:20251126T122401Z
UID:10006836-1764758400-1764762300@wienzimmer.fsw.at
SUMMARY:Yoga mit Sophie – für Senior:innen
DESCRIPTION:im kleinen Seminarraum (1. Stock)
URL:https://wienzimmer.fsw.at/event/yoga-mit-sophie-fuer-seniorinnen-5/2025-12-03/
END:VEVENT
BEGIN:VEVENT
DTSTART;TZID=Europe/Vienna:20251203T130000
DTEND;TZID=Europe/Vienna:20251203T134500
DTSTAMP:20260420T025113
CREATED:20251126T121945Z
LAST-MODIFIED:20251126T121945Z
UID:10006825-1764766800-1764769500@wienzimmer.fsw.at
SUMMARY:Leseratten Club - gemeinsames interaktives Vorlesen für Kinder
DESCRIPTION:im kleinen Seminarraum (1. Stock)
URL:https://wienzimmer.fsw.at/event/leseratten-club-gemeinsames-interaktives-vorlesen-fuer-kinder/2025-12-03/
CATEGORIES:Kinder und Jugendliche
END:VEVENT
BEGIN:VEVENT
DTSTART;TZID=Europe/Vienna:20251203T140000
DTEND;TZID=Europe/Vienna:20251203T190000
DTSTAMP:20260420T025113
CREATED:20251126T133355Z
LAST-MODIFIED:20251126T133356Z
UID:10006848-1764770400-1764788400@wienzimmer.fsw.at
SUMMARY:Kinderfreunde Wien – offene Kinder- & Jugendarbeit
DESCRIPTION:bei Schönwetter draußen im Karl-Seitz-Hof / bei Schlechtwetter im WienZimmer
URL:https://wienzimmer.fsw.at/event/kinderfreunde-wien-offene-kinder-jugendarbeit-16-2/
CATEGORIES:Kinder und Jugendliche
END:VEVENT
BEGIN:VEVENT
DTSTART;TZID=Europe/Vienna:20251203T160000
DTEND;TZID=Europe/Vienna:20251203T170000
DTSTAMP:20260420T025113
CREATED:20251126T154548Z
LAST-MODIFIED:20251126T154548Z
UID:10007026-1764777600-1764781200@wienzimmer.fsw.at
SUMMARY:Hobby Lobby: Nachhilfe
DESCRIPTION:im kleinen Seminarraum
URL:https://wienzimmer.fsw.at/event/hobby-lobby-nachhilfe-3/2025-12-03/
CATEGORIES:Kinder und Jugendliche
END:VEVENT
BEGIN:VEVENT
DTSTART;TZID=Europe/Vienna:20251203T160000
DTEND;TZID=Europe/Vienna:20251203T170000
DTSTAMP:20260420T025113
CREATED:20251126T160852Z
LAST-MODIFIED:20251126T160852Z
UID:10007085-1764777600-1764781200@wienzimmer.fsw.at
SUMMARY:Hobby Lobby: Kunstwerkstatt
DESCRIPTION:im Souterrain
URL:https://wienzimmer.fsw.at/event/hobby-lobby-kunstwerkstatt-3/2025-12-03/
END:VEVENT
BEGIN:VEVENT
DTSTART;TZID=Europe/Vienna:20251203T160000
DTEND;TZID=Europe/Vienna:20251203T170000
DTSTAMP:20260420T025113
CREATED:20251126T161505Z
LAST-MODIFIED:20251126T161507Z
UID:10007088-1764777600-1764781200@wienzimmer.fsw.at
SUMMARY:Hobby Lobby: Kunstwerkstatt
DESCRIPTION:im Souterrain
URL:https://wienzimmer.fsw.at/event/hobby-lobby-kunstwerkstatt-3-2/2025-12-03/
END:VEVENT
BEGIN:VEVENT
DTSTART;TZID=Europe/Vienna:20251203T170000
DTEND;TZID=Europe/Vienna:20251203T180000
DTSTAMP:20260420T025113
CREATED:20251126T123038Z
LAST-MODIFIED:20251126T123038Z
UID:10006853-1764781200-1764784800@wienzimmer.fsw.at
SUMMARY:LineDance Schnupperstunde
DESCRIPTION:im kleinen Seminarraum (1. Stock)
URL:https://wienzimmer.fsw.at/event/linedance-schnupperstunde-3/
END:VEVENT
BEGIN:VEVENT
DTSTART;TZID=Europe/Vienna:20251203T170000
DTEND;TZID=Europe/Vienna:20251203T180000
DTSTAMP:20260420T025113
CREATED:20251126T154709Z
LAST-MODIFIED:20251126T154709Z
UID:10007037-1764781200-1764784800@wienzimmer.fsw.at
SUMMARY:Hobby Lobby: Anime & Manga
DESCRIPTION:im Souterrain
URL:https://wienzimmer.fsw.at/event/hobby-lobby-anime-manga-2/2025-12-03/
CATEGORIES:Kinder und Jugendliche
END:VEVENT
BEGIN:VEVENT
DTSTART;TZID=Europe/Vienna:20251203T180000
DTEND;TZID=Europe/Vienna:20251203T200000
DTSTAMP:20260420T025113
CREATED:20251126T123124Z
LAST-MODIFIED:20260305T084835Z
UID:10006854-1764784800-1764792000@wienzimmer.fsw.at
SUMMARY:LineDance Gruppe
DESCRIPTION:im kleinen Seminarraum (1. Stock)
URL:https://wienzimmer.fsw.at/event/linedance-gruppe-3/2025-12-03/
END:VEVENT
BEGIN:VEVENT
DTSTART;TZID=Europe/Vienna:20251204T100000
DTEND;TZID=Europe/Vienna:20251204T110000
DTSTAMP:20260420T025113
CREATED:20251126T125221Z
LAST-MODIFIED:20251126T125222Z
UID:10006909-1764842400-1764846000@wienzimmer.fsw.at
SUMMARY:Krafttraining mit Bernd
DESCRIPTION:für ältere Menschen und alle\, die mitmachen wollen. \nIm Souterrain. 
URL:https://wienzimmer.fsw.at/event/krafttraining-mit-bernd-2-2/2025-12-04/
END:VEVENT
BEGIN:VEVENT
DTSTART;TZID=Europe/Vienna:20251204T130000
DTEND;TZID=Europe/Vienna:20251204T134500
DTSTAMP:20260420T025113
CREATED:20251126T121945Z
LAST-MODIFIED:20251126T121945Z
UID:10006826-1764853200-1764855900@wienzimmer.fsw.at
SUMMARY:Leseratten Club - gemeinsames interaktives Vorlesen für Kinder
DESCRIPTION:im kleinen Seminarraum (1. Stock)
URL:https://wienzimmer.fsw.at/event/leseratten-club-gemeinsames-interaktives-vorlesen-fuer-kinder/2025-12-04/
CATEGORIES:Kinder und Jugendliche
END:VEVENT
BEGIN:VEVENT
DTSTART;TZID=Europe/Vienna:20251204T133000
DTEND;TZID=Europe/Vienna:20251204T190000
DTSTAMP:20260420T025113
CREATED:20251126T122930Z
LAST-MODIFIED:20251126T133342Z
UID:10006849-1764855000-1764874800@wienzimmer.fsw.at
SUMMARY:Kinderfreunde Wien – offene Kinder- & Jugendarbeit
DESCRIPTION:bei Schönwetter draußen im Karl-Seitz-Hof / bei Schlechtwetter im WienZimmer
URL:https://wienzimmer.fsw.at/event/kinderfreunde-wien-offene-kinder-jugendarbeit-16/2025-12-04/
CATEGORIES:Kinder und Jugendliche
END:VEVENT
BEGIN:VEVENT
DTSTART;TZID=Europe/Vienna:20251204T140000
DTEND;TZID=Europe/Vienna:20251204T160000
DTSTAMP:20260420T025113
CREATED:20251126T094331Z
LAST-MODIFIED:20251126T094559Z
UID:10006812-1764856800-1764864000@wienzimmer.fsw.at
SUMMARY:Hausaufgabenbegleitung
DESCRIPTION:mit rettet das Kind Österreich\nim kleinen Seminarraum (1. Stock)
URL:https://wienzimmer.fsw.at/event/hausaufgabenbegleitung-5/2025-12-04/
CATEGORIES:Kinder und Jugendliche
ATTACH;FMTTYPE=image/png:https://wienzimmer.fsw.at/wp-content/uploads/2023/11/Hausaufgaben.png
END:VEVENT
BEGIN:VEVENT
DTSTART;TZID=Europe/Vienna:20251204T140000
DTEND;TZID=Europe/Vienna:20251204T160000
DTSTAMP:20260420T025113
CREATED:20251126T130832Z
LAST-MODIFIED:20251126T130921Z
UID:10006941-1764856800-1764864000@wienzimmer.fsw.at
SUMMARY:Handarbeitsstammtisch – selbstorganisiert aus der Nachbarschaft
DESCRIPTION:im Festsaal
URL:https://wienzimmer.fsw.at/event/handarbeitsstammtisch-selbstorganisiert-aus-der-nachbarschaft-2/2025-12-04/
END:VEVENT
BEGIN:VEVENT
DTSTART;TZID=Europe/Vienna:20251204T153000
DTEND;TZID=Europe/Vienna:20251204T163000
DTSTAMP:20260420T025113
CREATED:20251126T154831Z
LAST-MODIFIED:20251126T154831Z
UID:10007048-1764862200-1764865800@wienzimmer.fsw.at
SUMMARY:Hobby Lobby: Schauspielen
DESCRIPTION:im Souterrain
URL:https://wienzimmer.fsw.at/event/hobby-lobby-schauspielen-2/2025-12-04/
CATEGORIES:Kinder und Jugendliche
END:VEVENT
BEGIN:VEVENT
DTSTART;TZID=Europe/Vienna:20251204T160000
DTEND;TZID=Europe/Vienna:20251204T173000
DTSTAMP:20260420T025113
CREATED:20251126T131047Z
LAST-MODIFIED:20251126T131114Z
UID:10006946-1764864000-1764869400@wienzimmer.fsw.at
SUMMARY:WienZimmer-Chor mit Sophie
DESCRIPTION:Chorprojekt für alle\, die gerne singen – Vorkenntnisse nicht notwendig! \nIn der Küche \nAnmeldung unter: sophie.gnad@fsw.at
URL:https://wienzimmer.fsw.at/event/wienzimmer-chor-mit-sophie-2/2025-12-04/
ATTACH;FMTTYPE=image/png:https://wienzimmer.fsw.at/wp-content/uploads/2024/04/musik_singen.png
END:VEVENT
END:VCALENDAR