BEGIN:VCALENDAR
VERSION:2.0
PRODID:-//Wien Zimmer - ECPv6.15.17.1//NONSGML v1.0//EN
CALSCALE:GREGORIAN
METHOD:PUBLISH
X-WR-CALNAME:Wien Zimmer
X-ORIGINAL-URL:https://wienzimmer.fsw.at
X-WR-CALDESC:Veranstaltungen für Wien Zimmer
REFRESH-INTERVAL;VALUE=DURATION:PT1H
X-Robots-Tag:noindex
X-PUBLISHED-TTL:PT1H
BEGIN:VTIMEZONE
TZID:Europe/Vienna
BEGIN:DAYLIGHT
TZOFFSETFROM:+0100
TZOFFSETTO:+0200
TZNAME:CEST
DTSTART:20240331T010000
END:DAYLIGHT
BEGIN:STANDARD
TZOFFSETFROM:+0200
TZOFFSETTO:+0100
TZNAME:CET
DTSTART:20241027T010000
END:STANDARD
BEGIN:DAYLIGHT
TZOFFSETFROM:+0100
TZOFFSETTO:+0200
TZNAME:CEST
DTSTART:20250330T010000
END:DAYLIGHT
BEGIN:STANDARD
TZOFFSETFROM:+0200
TZOFFSETTO:+0100
TZNAME:CET
DTSTART:20251026T010000
END:STANDARD
BEGIN:DAYLIGHT
TZOFFSETFROM:+0100
TZOFFSETTO:+0200
TZNAME:CEST
DTSTART:20260329T010000
END:DAYLIGHT
BEGIN:STANDARD
TZOFFSETFROM:+0200
TZOFFSETTO:+0100
TZNAME:CET
DTSTART:20261025T010000
END:STANDARD
END:VTIMEZONE
BEGIN:VEVENT
DTSTART;TZID=Europe/Vienna:20251103T100000
DTEND;TZID=Europe/Vienna:20251103T130000
DTSTAMP:20260420T031129
CREATED:20251021T130815Z
LAST-MODIFIED:20251126T093433Z
UID:10006455-1762164000-1762174800@wienzimmer.fsw.at
SUMMARY:kostenlose Deutschkurse für Frauen* - mit bit social
DESCRIPTION:Sprachlerntreffen\, Niveau A1-B2\nim kleinen Seminarraum (1. Stock)\n\nAnmeldung bei: Andrea Pap; Tel. +43 664 6199 731; Mail. andrea.pap@bitsocial.at
URL:https://wienzimmer.fsw.at/event/kostenlose-deutschkurse-fuer-frauen-mit-bit-social/2025-11-03/
END:VEVENT
BEGIN:VEVENT
DTSTART;TZID=Europe/Vienna:20251103T140000
DTEND;TZID=Europe/Vienna:20251103T160000
DTSTAMP:20260420T031129
CREATED:20251001T085925Z
LAST-MODIFIED:20251021T131127Z
UID:10006567-1762178400-1762185600@wienzimmer.fsw.at
SUMMARY:Hausaufgabenbegleitung
DESCRIPTION:mit rettet das Kind Österreich\nim kleinen Seminarraum (1. Stock)
URL:https://wienzimmer.fsw.at/event/hausaufgabenbegleitung-4/2025-11-03/
CATEGORIES:Kinder und Jugendliche
ATTACH;FMTTYPE=image/png:https://wienzimmer.fsw.at/wp-content/uploads/2023/11/Hausaufgaben.png
END:VEVENT
BEGIN:VEVENT
DTSTART;TZID=Europe/Vienna:20251104T080000
DTEND;TZID=Europe/Vienna:20251104T100000
DTSTAMP:20260420T031129
CREATED:20250806T140131Z
LAST-MODIFIED:20251021T131447Z
UID:10006579-1762243200-1762250400@wienzimmer.fsw.at
SUMMARY:Elterncafé im WienZimmer
DESCRIPTION:Austausch und Beratung für alle Eltern\nBabies und Kleinkinder können mitgebracht werden\nim Festsaal
URL:https://wienzimmer.fsw.at/event/elterncafe-im-wienzimmer-5/2025-11-04/
LOCATION:WienZimmer\, Karl-Seitz-Hof - Jedleseer Str. 66-94/Ecke Jedleseer Straße und Dunantgasse\, Wien\, 1210\, Österreich
END:VEVENT
BEGIN:VEVENT
DTSTART;TZID=Europe/Vienna:20251104T130000
DTEND;TZID=Europe/Vienna:20251104T134500
DTSTAMP:20260420T031129
CREATED:20250821T095227Z
LAST-MODIFIED:20251021T133014Z
UID:10006583-1762261200-1762263900@wienzimmer.fsw.at
SUMMARY:Leseratten Club
DESCRIPTION:gemeinsames interaktives Vorlesen für Kinder\nim kleinen Seminarraum (1. Stock) \n 
URL:https://wienzimmer.fsw.at/event/leseratten-club-6/2025-11-04/
CATEGORIES:Kinder und Jugendliche
END:VEVENT
BEGIN:VEVENT
DTSTART;TZID=Europe/Vienna:20251104T140000
DTEND;TZID=Europe/Vienna:20251104T160000
DTSTAMP:20260420T031129
CREATED:20251001T085925Z
LAST-MODIFIED:20251021T131127Z
UID:10006568-1762264800-1762272000@wienzimmer.fsw.at
SUMMARY:Hausaufgabenbegleitung
DESCRIPTION:mit rettet das Kind Österreich\nim kleinen Seminarraum (1. Stock)
URL:https://wienzimmer.fsw.at/event/hausaufgabenbegleitung-4/2025-11-04/
CATEGORIES:Kinder und Jugendliche
ATTACH;FMTTYPE=image/png:https://wienzimmer.fsw.at/wp-content/uploads/2023/11/Hausaufgaben.png
END:VEVENT
BEGIN:VEVENT
DTSTART;TZID=Europe/Vienna:20251104T153000
DTEND;TZID=Europe/Vienna:20251104T163000
DTSTAMP:20260420T031129
CREATED:20250930T130957Z
LAST-MODIFIED:20251021T133334Z
UID:10006595-1762270200-1762273800@wienzimmer.fsw.at
SUMMARY:Hobby Lobby: Bewegung & Spiele (Demokratie Fitness)
DESCRIPTION:Festsaal
URL:https://wienzimmer.fsw.at/event/hobby-lobby-bewegung-spiele-demokratie-fitness/2025-11-04/
END:VEVENT
BEGIN:VEVENT
DTSTART;TZID=Europe/Vienna:20251104T163000
DTEND;TZID=Europe/Vienna:20251104T173000
DTSTAMP:20260420T031129
CREATED:20251001T085028Z
LAST-MODIFIED:20251021T133441Z
UID:10006599-1762273800-1762277400@wienzimmer.fsw.at
SUMMARY:Hobby Lobby: Töpfern für Volksschulkinder
DESCRIPTION:im Souterrain
URL:https://wienzimmer.fsw.at/event/hobby-lobby-toepfern-fuer-volksschulkinder/2025-11-04/
CATEGORIES:Kinder und Jugendliche
ATTACH;FMTTYPE=image/png:https://wienzimmer.fsw.at/wp-content/uploads/2023/11/Toepfern.png
END:VEVENT
BEGIN:VEVENT
DTSTART;TZID=Europe/Vienna:20251104T170000
DTEND;TZID=Europe/Vienna:20251104T180000
DTSTAMP:20260420T031129
CREATED:20250930T131122Z
LAST-MODIFIED:20251021T133552Z
UID:10006603-1762275600-1762279200@wienzimmer.fsw.at
SUMMARY:Hobby Lobby: Schmuckdesign
DESCRIPTION:im kleinen Seminarraum
URL:https://wienzimmer.fsw.at/event/hobby-lobby-schmuckdesign/2025-11-04/
END:VEVENT
BEGIN:VEVENT
DTSTART;TZID=Europe/Vienna:20251104T173000
DTEND;TZID=Europe/Vienna:20251104T183000
DTSTAMP:20260420T031129
CREATED:20250930T131309Z
LAST-MODIFIED:20251021T133648Z
UID:10006607-1762277400-1762281000@wienzimmer.fsw.at
SUMMARY:Hobby Lobby: Tanzen
DESCRIPTION:im Souterrain
URL:https://wienzimmer.fsw.at/event/hobby-lobby-tanzen-2/2025-11-04/
ATTACH;FMTTYPE=image/png:https://wienzimmer.fsw.at/wp-content/uploads/2023/11/Tanzen.png
END:VEVENT
BEGIN:VEVENT
DTSTART;TZID=Europe/Vienna:20251104T183000
DTEND;TZID=Europe/Vienna:20251104T193000
DTSTAMP:20260420T031129
CREATED:20250826T111055Z
LAST-MODIFIED:20251021T133751Z
UID:10006611-1762281000-1762284600@wienzimmer.fsw.at
SUMMARY:Bauchtanzgruppe
DESCRIPTION:im kleinen Seminarraum (1. Stock) \nBauchtanz ist eine wunderbare Bewegungsform\, die besonders geeignet ist für Damen jeden Alters\, jeder Figur und jedes Fitnesslevels. Der Spaß an der Musik und an der Bewegung liegen im Vordergrund und gleichzeitig macht man auch noch etwas für die eigene Gesundheit. Besonders für das Stärken von Rücken\, Muskulatur\, Beweglichkeit und Koordination ist Bauchtanz ein schöner Weg. Und neben der Tatsache\, dass man etwas mit anderen Menschen in Gemeinschaft macht\, ist Bauchtanz auch für die geistige und seelische Gesundheit eine ganz tolle Beschäftigung. Was besonders schön ist\, ist dass die Teilnehmer:innen beim Bauchtanz ihre eigene Sinnlichkeit mit der Musik und sehr weichen\, schönen Bewegungen entdecken können. Aktuell besteht die Gruppe aus rund 13 Teilnehmer:innen\, die wöchentlich zusammenkommen und dabei viel Freude haben. \nBei Interesse am Bauchtanzen\, melden Sie sich bei Brigitte Komarek: k.brigitte@bellabur.at \n 
URL:https://wienzimmer.fsw.at/event/bauchtanzgruppe-2/2025-11-04/
END:VEVENT
BEGIN:VEVENT
DTSTART;TZID=Europe/Vienna:20251105T091500
DTEND;TZID=Europe/Vienna:20251105T101500
DTSTAMP:20260420T031129
CREATED:20250806T140720Z
LAST-MODIFIED:20251021T133852Z
UID:10006615-1762334100-1762337700@wienzimmer.fsw.at
SUMMARY:Yoga mit Sophie – für Senior:innen
DESCRIPTION:im kleinen Seminarraum (1. Stock)
URL:https://wienzimmer.fsw.at/event/yoga-mit-sophie-fuer-seniorinnen-3/2025-11-05/
END:VEVENT
BEGIN:VEVENT
DTSTART;TZID=Europe/Vienna:20251105T100000
DTEND;TZID=Europe/Vienna:20251105T120000
DTSTAMP:20260420T031129
CREATED:20251021T134118Z
LAST-MODIFIED:20251022T104202Z
UID:10006630-1762336800-1762344000@wienzimmer.fsw.at
SUMMARY:offene Aquarell-Malrunde  - selbstorganisiert
DESCRIPTION:– selbstorganisiert\nim Festsaal (außer am 5.11.\, an diesem Tag findet die Malrunde in der Küche statt!)
URL:https://wienzimmer.fsw.at/event/offene-aquarell-malrunde-selbstorganisiert-4/2025-11-05/
ATTACH;FMTTYPE=image/png:https://wienzimmer.fsw.at/wp-content/uploads/2023/11/Malen.png
END:VEVENT
BEGIN:VEVENT
DTSTART;TZID=Europe/Vienna:20251105T100000
DTEND;TZID=Europe/Vienna:20251105T140000
DTSTAMP:20260420T031129
CREATED:20251021T134225Z
LAST-MODIFIED:20251021T134225Z
UID:10006634-1762336800-1762351200@wienzimmer.fsw.at
SUMMARY:Halloweenfest – ausgerichtet von Jugend am Werk
DESCRIPTION:10.00-14.00 Uhr\nHalloweenfest – ausgerichtet von Jugend am Werk\nim Festsaal
URL:https://wienzimmer.fsw.at/event/halloweenfest-ausgerichtet-von-jugend-am-werk/
CATEGORIES:Kinder und Jugendliche
END:VEVENT
BEGIN:VEVENT
DTSTART;TZID=Europe/Vienna:20251105T104000
DTEND;TZID=Europe/Vienna:20251105T114500
DTSTAMP:20260420T031129
CREATED:20250806T141016Z
LAST-MODIFIED:20251021T134335Z
UID:10006635-1762339200-1762343100@wienzimmer.fsw.at
SUMMARY:Yoga mit Sophie – Yoga für Anfänger:innen
DESCRIPTION:im kleinen Seminarraum (1. Stock)
URL:https://wienzimmer.fsw.at/event/yoga-mit-sophie-yoga-fuer-anfaengerinnen-3/2025-11-05/
END:VEVENT
BEGIN:VEVENT
DTSTART;TZID=Europe/Vienna:20251105T130000
DTEND;TZID=Europe/Vienna:20251105T134500
DTSTAMP:20260420T031129
CREATED:20250821T095255Z
LAST-MODIFIED:20251021T133045Z
UID:10006587-1762347600-1762350300@wienzimmer.fsw.at
SUMMARY:Leseratten Club
DESCRIPTION:gemeinsames interaktives Vorlesen für Kinder (auf Deutsch und Arabisch)\nim kleinen Seminarraum (1. Stock) \n 
URL:https://wienzimmer.fsw.at/event/uhr-leseratten-club-2/2025-11-05/
CATEGORIES:Kinder und Jugendliche
END:VEVENT
BEGIN:VEVENT
DTSTART;TZID=Europe/Vienna:20251105T160000
DTEND;TZID=Europe/Vienna:20251105T170000
DTSTAMP:20260420T031129
CREATED:20250930T120751Z
LAST-MODIFIED:20251021T134531Z
UID:10006640-1762358400-1762362000@wienzimmer.fsw.at
SUMMARY:Hobby Lobby: Kunstwerkstatt
DESCRIPTION:im Souterrain
URL:https://wienzimmer.fsw.at/event/hobby-lobby-kunstwerkstatt/2025-11-05/
CATEGORIES:Kinder und Jugendliche
END:VEVENT
BEGIN:VEVENT
DTSTART;TZID=Europe/Vienna:20251105T160000
DTEND;TZID=Europe/Vienna:20251105T170000
DTSTAMP:20260420T031129
CREATED:20250930T120905Z
LAST-MODIFIED:20251021T134629Z
UID:10006644-1762358400-1762362000@wienzimmer.fsw.at
SUMMARY:Hobby Lobby: Nachhilfe
DESCRIPTION:im kleinen Seminarraum
URL:https://wienzimmer.fsw.at/event/hobby-lobby-nachhilfe-2/2025-11-05/
CATEGORIES:Kinder und Jugendliche
END:VEVENT
BEGIN:VEVENT
DTSTART;TZID=Europe/Vienna:20251105T160000
DTEND;TZID=Europe/Vienna:20251105T170000
DTSTAMP:20260420T031129
CREATED:20251126T154456Z
LAST-MODIFIED:20251126T154456Z
UID:10007013-1762358400-1762362000@wienzimmer.fsw.at
SUMMARY:Hobby Lobby: Kunstwerkstatt
DESCRIPTION:im Souterrain
URL:https://wienzimmer.fsw.at/event/hobby-lobby-kunstwerkstatt-2/2025-11-05/
CATEGORIES:Kinder und Jugendliche
END:VEVENT
BEGIN:VEVENT
DTSTART;TZID=Europe/Vienna:20251105T170000
DTEND;TZID=Europe/Vienna:20251105T180000
DTSTAMP:20260420T031129
CREATED:20250930T121116Z
LAST-MODIFIED:20251021T134720Z
UID:10006648-1762362000-1762365600@wienzimmer.fsw.at
SUMMARY:Hobby Lobby: Anime & Manga
DESCRIPTION:im Souterrain
URL:https://wienzimmer.fsw.at/event/hobby-lobby-anime-manga/2025-11-05/
CATEGORIES:Kinder und Jugendliche
END:VEVENT
BEGIN:VEVENT
DTSTART;TZID=Europe/Vienna:20251105T170000
DTEND;TZID=Europe/Vienna:20251105T180000
DTSTAMP:20260420T031129
CREATED:20250930T131920Z
LAST-MODIFIED:20251021T134817Z
UID:10006652-1762362000-1762365600@wienzimmer.fsw.at
SUMMARY:LineDance Schnupperstunde
DESCRIPTION:im kleinen Seminarraum (1. Stock)
URL:https://wienzimmer.fsw.at/event/linedance-schnupperstunde-2/2025-11-05/
END:VEVENT
BEGIN:VEVENT
DTSTART;TZID=Europe/Vienna:20251105T180000
DTEND;TZID=Europe/Vienna:20251105T200000
DTSTAMP:20260420T031129
CREATED:20250826T112805Z
LAST-MODIFIED:20251021T134903Z
UID:10006653-1762365600-1762372800@wienzimmer.fsw.at
SUMMARY:LineDance Gruppe
DESCRIPTION:im kleinen Seminarraum (1. Stock) \nLine Dance ist eine choreografierte Tanzform\, bei der einzelne Tänzer:innen in Reihen vor- und nebeneinander tanzen (Reihentanz). Die Tänze sind passend zur Musik choreografiert\, die meist aus den Kategorien Country und Pop stammt.
URL:https://wienzimmer.fsw.at/event/linedance-gruppe-2/2025-11-05/
END:VEVENT
BEGIN:VEVENT
DTSTART;TZID=Europe/Vienna:20251106T100000
DTEND;TZID=Europe/Vienna:20251106T110000
DTSTAMP:20260420T031129
CREATED:20250806T135301Z
LAST-MODIFIED:20251030T102441Z
UID:10006717-1762423200-1762426800@wienzimmer.fsw.at
SUMMARY:Krafttraining mit Bernd – für ältere Menschen und alle die mitmachen wollen
DESCRIPTION:im Souterrain
URL:https://wienzimmer.fsw.at/event/krafttraining-mit-bernd-fuer-aeltere-menschen-und-alle-die-mitmachen-wollen-3/2025-11-06/
ATTACH;FMTTYPE=image/png:https://wienzimmer.fsw.at/wp-content/uploads/2023/11/Fitness.png
END:VEVENT
BEGIN:VEVENT
DTSTART;TZID=Europe/Vienna:20251106T130000
DTEND;TZID=Europe/Vienna:20251106T134500
DTSTAMP:20260420T031129
CREATED:20250821T095551Z
LAST-MODIFIED:20251021T133120Z
UID:10006591-1762434000-1762436700@wienzimmer.fsw.at
SUMMARY:Leseratten Club
DESCRIPTION:gemeinsames interaktives Vorlesen für Kinder\nim kleinen Seminarraum (1. Stock) \n 
URL:https://wienzimmer.fsw.at/event/leseratten-club-5/2025-11-06/
CATEGORIES:Kinder und Jugendliche
END:VEVENT
BEGIN:VEVENT
DTSTART;TZID=Europe/Vienna:20251106T140000
DTEND;TZID=Europe/Vienna:20251106T160000
DTSTAMP:20260420T031129
CREATED:20250326T150703Z
LAST-MODIFIED:20251022T083833Z
UID:10006664-1762437600-1762444800@wienzimmer.fsw.at
SUMMARY:Handarbeitsstammtisch – selbstorganisiert aus der Nachbarschaft
DESCRIPTION:im Festsaal
URL:https://wienzimmer.fsw.at/event/handarbeitsstammtisch-selbstorganisiert-aus-der-nachbarschaft/2025-11-06/
END:VEVENT
BEGIN:VEVENT
DTSTART;TZID=Europe/Vienna:20251106T140000
DTEND;TZID=Europe/Vienna:20251106T160000
DTSTAMP:20260420T031129
CREATED:20251001T085925Z
LAST-MODIFIED:20251021T131127Z
UID:10006569-1762437600-1762444800@wienzimmer.fsw.at
SUMMARY:Hausaufgabenbegleitung
DESCRIPTION:mit rettet das Kind Österreich\nim kleinen Seminarraum (1. Stock)
URL:https://wienzimmer.fsw.at/event/hausaufgabenbegleitung-4/2025-11-06/
CATEGORIES:Kinder und Jugendliche
ATTACH;FMTTYPE=image/png:https://wienzimmer.fsw.at/wp-content/uploads/2023/11/Hausaufgaben.png
END:VEVENT
BEGIN:VEVENT
DTSTART;TZID=Europe/Vienna:20251106T153000
DTEND;TZID=Europe/Vienna:20251106T163000
DTSTAMP:20260420T031129
CREATED:20250930T122406Z
LAST-MODIFIED:20251022T084437Z
UID:10006672-1762443000-1762446600@wienzimmer.fsw.at
SUMMARY:Hobby Lobby: Schauspielen
DESCRIPTION:im Souterrain
URL:https://wienzimmer.fsw.at/event/hobby-lobby-schauspielen/2025-11-06/
CATEGORIES:Kinder und Jugendliche
END:VEVENT
BEGIN:VEVENT
DTSTART;TZID=Europe/Vienna:20251106T160000
DTEND;TZID=Europe/Vienna:20251106T170000
DTSTAMP:20260420T031129
CREATED:20250930T122544Z
LAST-MODIFIED:20251022T084549Z
UID:10006676-1762444800-1762448400@wienzimmer.fsw.at
SUMMARY:Hobby Lobby: Malen
DESCRIPTION:im kleinen Seminarraum (1. Stock)
URL:https://wienzimmer.fsw.at/event/hobby-lobby-malen/2025-11-06/
CATEGORIES:Kinder und Jugendliche
END:VEVENT
BEGIN:VEVENT
DTSTART;TZID=Europe/Vienna:20251106T160000
DTEND;TZID=Europe/Vienna:20251106T173000
DTSTAMP:20260420T031129
CREATED:20251022T084232Z
LAST-MODIFIED:20251030T101630Z
UID:10006668-1762444800-1762450200@wienzimmer.fsw.at
SUMMARY:WienZimmer-Chor mit Sophie
DESCRIPTION:Chorprojekt für alle\, die gerne singen – Vorkenntnisse nicht notwendig! \nIn der Küche \nAnmeldung unter: sophie.gnad@fsw.at
URL:https://wienzimmer.fsw.at/event/wienzimmer-chor-mit-sophie/2025-11-06/
ATTACH;FMTTYPE=image/png:https://wienzimmer.fsw.at/wp-content/uploads/2024/04/musik_singen.png
END:VEVENT
BEGIN:VEVENT
DTSTART;TZID=Europe/Vienna:20251106T173000
DTEND;TZID=Europe/Vienna:20251106T183000
DTSTAMP:20260420T031129
CREATED:20250930T122710Z
LAST-MODIFIED:20251022T084736Z
UID:10006680-1762450200-1762453800@wienzimmer.fsw.at
SUMMARY:Hobby Lobby: Kampfsport
DESCRIPTION:im Soutterain
URL:https://wienzimmer.fsw.at/event/hobby-lobby-kampfsport-2/2025-11-06/
ATTACH;FMTTYPE=image/png:https://wienzimmer.fsw.at/wp-content/uploads/2024/04/kampfsport.png
END:VEVENT
BEGIN:VEVENT
DTSTART;TZID=Europe/Vienna:20251106T173000
DTEND;TZID=Europe/Vienna:20251106T183000
DTSTAMP:20260420T031129
CREATED:20251001T084740Z
LAST-MODIFIED:20251022T084852Z
UID:10006684-1762450200-1762453800@wienzimmer.fsw.at
SUMMARY:Hobby Lobby: Töpfern
DESCRIPTION:im kleinen Seminarraum (1. Stock)
URL:https://wienzimmer.fsw.at/event/hobbylobby-toepfern/2025-11-06/
CATEGORIES:Kinder und Jugendliche
ATTACH;FMTTYPE=image/png:https://wienzimmer.fsw.at/wp-content/uploads/2023/11/Toepfern.png
END:VEVENT
END:VCALENDAR