BEGIN:VCALENDAR
VERSION:2.0
PRODID:-//Wien Zimmer - ECPv6.15.17.1//NONSGML v1.0//EN
CALSCALE:GREGORIAN
METHOD:PUBLISH
X-ORIGINAL-URL:https://wienzimmer.fsw.at
X-WR-CALDESC:Veranstaltungen für Wien Zimmer
REFRESH-INTERVAL;VALUE=DURATION:PT1H
X-Robots-Tag:noindex
X-PUBLISHED-TTL:PT1H
BEGIN:VTIMEZONE
TZID:Europe/Vienna
BEGIN:DAYLIGHT
TZOFFSETFROM:+0100
TZOFFSETTO:+0200
TZNAME:CEST
DTSTART:20240331T010000
END:DAYLIGHT
BEGIN:STANDARD
TZOFFSETFROM:+0200
TZOFFSETTO:+0100
TZNAME:CET
DTSTART:20241027T010000
END:STANDARD
BEGIN:DAYLIGHT
TZOFFSETFROM:+0100
TZOFFSETTO:+0200
TZNAME:CEST
DTSTART:20250330T010000
END:DAYLIGHT
BEGIN:STANDARD
TZOFFSETFROM:+0200
TZOFFSETTO:+0100
TZNAME:CET
DTSTART:20251026T010000
END:STANDARD
BEGIN:DAYLIGHT
TZOFFSETFROM:+0100
TZOFFSETTO:+0200
TZNAME:CEST
DTSTART:20260329T010000
END:DAYLIGHT
BEGIN:STANDARD
TZOFFSETFROM:+0200
TZOFFSETTO:+0100
TZNAME:CET
DTSTART:20261025T010000
END:STANDARD
END:VTIMEZONE
BEGIN:VEVENT
DTSTART;TZID=Europe/Vienna:20251001T080000
DTEND;TZID=Europe/Vienna:20251001T170000
DTSTAMP:20260420T050953
CREATED:20250930T120751Z
LAST-MODIFIED:20251021T134531Z
UID:10006639-1759305600-1759338000@wienzimmer.fsw.at
SUMMARY:Hobby Lobby: Kunstwerkstatt
DESCRIPTION:im Souterrain
URL:https://wienzimmer.fsw.at/event/hobby-lobby-kunstwerkstatt/2025-10-01/1/
CATEGORIES:Kinder und Jugendliche
END:VEVENT
BEGIN:VEVENT
DTSTART;TZID=Europe/Vienna:20251001T080000
DTEND;TZID=Europe/Vienna:20251001T170000
DTSTAMP:20260420T050953
CREATED:20251126T154456Z
LAST-MODIFIED:20251126T154456Z
UID:10007007-1759305600-1759338000@wienzimmer.fsw.at
SUMMARY:Hobby Lobby: Kunstwerkstatt
DESCRIPTION:im Souterrain
URL:https://wienzimmer.fsw.at/event/hobby-lobby-kunstwerkstatt-2/2025-10-01/1/
CATEGORIES:Kinder und Jugendliche
END:VEVENT
BEGIN:VEVENT
DTSTART;TZID=Europe/Vienna:20251001T091500
DTEND;TZID=Europe/Vienna:20251001T101500
DTSTAMP:20260420T050953
CREATED:20250806T140720Z
LAST-MODIFIED:20251021T133852Z
UID:10006178-1759310100-1759313700@wienzimmer.fsw.at
SUMMARY:Yoga mit Sophie – für Senior:innen
DESCRIPTION:im kleinen Seminarraum (1. Stock)
URL:https://wienzimmer.fsw.at/event/yoga-mit-sophie-fuer-seniorinnen-3/2025-10-01/
END:VEVENT
BEGIN:VEVENT
DTSTART;TZID=Europe/Vienna:20251001T100000
DTEND;TZID=Europe/Vienna:20251001T120000
DTSTAMP:20260420T050953
CREATED:20250806T140834Z
LAST-MODIFIED:20250930T115904Z
UID:10006202-1759312800-1759320000@wienzimmer.fsw.at
SUMMARY:offene Aquarell-Malrunde  - selbstorganisiert
DESCRIPTION:– selbstorganisiert\nkleiner Seminarraum (1. Stock)
URL:https://wienzimmer.fsw.at/event/offene-aquarell-malrunde-selbstorganisiert-3/2025-10-01/
ATTACH;FMTTYPE=image/png:https://wienzimmer.fsw.at/wp-content/uploads/2023/11/Malen.png
END:VEVENT
BEGIN:VEVENT
DTSTART;TZID=Europe/Vienna:20251001T100000
DTEND;TZID=Europe/Vienna:20251001T120000
DTSTAMP:20260420T050953
CREATED:20250930T115537Z
LAST-MODIFIED:20250930T115555Z
UID:10006183-1759312800-1759320000@wienzimmer.fsw.at
SUMMARY:Oldiebrunch
DESCRIPTION:mit und von Jugend am Werk. \nim Festsaal.
URL:https://wienzimmer.fsw.at/event/oldiebrunch/2025-10-01/
END:VEVENT
BEGIN:VEVENT
DTSTART;TZID=Europe/Vienna:20251001T104000
DTEND;TZID=Europe/Vienna:20251001T114500
DTSTAMP:20260420T050953
CREATED:20250806T141016Z
LAST-MODIFIED:20251021T134335Z
UID:10006207-1759315200-1759319100@wienzimmer.fsw.at
SUMMARY:Yoga mit Sophie – Yoga für Anfänger:innen
DESCRIPTION:im kleinen Seminarraum (1. Stock)
URL:https://wienzimmer.fsw.at/event/yoga-mit-sophie-yoga-fuer-anfaengerinnen-3/2025-10-01/
END:VEVENT
BEGIN:VEVENT
DTSTART;TZID=Europe/Vienna:20251001T130000
DTEND;TZID=Europe/Vienna:20251001T134500
DTSTAMP:20260420T050953
CREATED:20250821T095255Z
LAST-MODIFIED:20251021T133045Z
UID:10006216-1759323600-1759326300@wienzimmer.fsw.at
SUMMARY:Leseratten Club
DESCRIPTION:gemeinsames interaktives Vorlesen für Kinder (auf Deutsch und Arabisch)\nim kleinen Seminarraum (1. Stock) \n 
URL:https://wienzimmer.fsw.at/event/uhr-leseratten-club-2/2025-10-01/
CATEGORIES:Kinder und Jugendliche
END:VEVENT
BEGIN:VEVENT
DTSTART;TZID=Europe/Vienna:20251001T160000
DTEND;TZID=Europe/Vienna:20251001T170000
DTSTAMP:20260420T050953
CREATED:20250930T120751Z
LAST-MODIFIED:20251021T134531Z
UID:10006226-1759334400-1759338000@wienzimmer.fsw.at
SUMMARY:Hobby Lobby: Kunstwerkstatt
DESCRIPTION:im Souterrain
URL:https://wienzimmer.fsw.at/event/hobby-lobby-kunstwerkstatt/2025-10-01/2/
CATEGORIES:Kinder und Jugendliche
END:VEVENT
BEGIN:VEVENT
DTSTART;TZID=Europe/Vienna:20251001T160000
DTEND;TZID=Europe/Vienna:20251001T170000
DTSTAMP:20260420T050953
CREATED:20250930T120905Z
LAST-MODIFIED:20251021T134629Z
UID:10006231-1759334400-1759338000@wienzimmer.fsw.at
SUMMARY:Hobby Lobby: Nachhilfe
DESCRIPTION:im kleinen Seminarraum
URL:https://wienzimmer.fsw.at/event/hobby-lobby-nachhilfe-2/2025-10-01/
CATEGORIES:Kinder und Jugendliche
END:VEVENT
BEGIN:VEVENT
DTSTART;TZID=Europe/Vienna:20251001T160000
DTEND;TZID=Europe/Vienna:20251001T170000
DTSTAMP:20260420T050953
CREATED:20251126T154456Z
LAST-MODIFIED:20251126T154456Z
UID:10007008-1759334400-1759338000@wienzimmer.fsw.at
SUMMARY:Hobby Lobby: Kunstwerkstatt
DESCRIPTION:im Souterrain
URL:https://wienzimmer.fsw.at/event/hobby-lobby-kunstwerkstatt-2/2025-10-01/2/
CATEGORIES:Kinder und Jugendliche
END:VEVENT
BEGIN:VEVENT
DTSTART;TZID=Europe/Vienna:20251001T170000
DTEND;TZID=Europe/Vienna:20251001T180000
DTSTAMP:20260420T050953
CREATED:20250930T121116Z
LAST-MODIFIED:20251021T134720Z
UID:10006236-1759338000-1759341600@wienzimmer.fsw.at
SUMMARY:Hobby Lobby: Anime & Manga
DESCRIPTION:im Souterrain
URL:https://wienzimmer.fsw.at/event/hobby-lobby-anime-manga/2025-10-01/
CATEGORIES:Kinder und Jugendliche
END:VEVENT
BEGIN:VEVENT
DTSTART;TZID=Europe/Vienna:20251001T170000
DTEND;TZID=Europe/Vienna:20251001T200000
DTSTAMP:20260420T050953
CREATED:20250930T121350Z
LAST-MODIFIED:20251022T103234Z
UID:10006243-1759338000-1759348800@wienzimmer.fsw.at
SUMMARY:Gruppentherapie: Psychodrama
DESCRIPTION:im kleinen Seminarraum (1. Stock) \nHilfe bei Angst\, bei Depression und anderen Schwierigkeiten. Gruppenpsychotherapie mit der Methode Psychodrama. \nAb 17.15 – 20.00 Uhr\, mit Pause \nOhne Kosten bei Vorlage einer ärztlichen Überweisung zur Psychotherapie. \nFür die Anmeldung und mehr Information: Michael Josef Seiss\, MMSc. unter 0699-11133441. praxis@michaeljosefseiss.at
URL:https://wienzimmer.fsw.at/event/gruppentherapie-psychodrama-29/2025-10-01/
LOCATION:WienZimmer\, Karl-Seitz-Hof - Jedleseer Str. 66-94/Ecke Jedleseer Straße und Dunantgasse\, Wien\, 1210\, Österreich
CATEGORIES:Sonstiges
ATTACH;FMTTYPE=image/png:https://wienzimmer.fsw.at/wp-content/uploads/2023/11/Gruppentherapie.png
END:VEVENT
BEGIN:VEVENT
DTSTART;TZID=Europe/Vienna:20251002T100000
DTEND;TZID=Europe/Vienna:20251002T110000
DTSTAMP:20260420T050953
CREATED:20250806T135301Z
LAST-MODIFIED:20251030T102441Z
UID:10006246-1759399200-1759402800@wienzimmer.fsw.at
SUMMARY:Krafttraining mit Bernd – für ältere Menschen und alle die mitmachen wollen
DESCRIPTION:im Souterrain
URL:https://wienzimmer.fsw.at/event/krafttraining-mit-bernd-fuer-aeltere-menschen-und-alle-die-mitmachen-wollen-3/2025-10-02/
ATTACH;FMTTYPE=image/png:https://wienzimmer.fsw.at/wp-content/uploads/2023/11/Fitness.png
END:VEVENT
BEGIN:VEVENT
DTSTART;TZID=Europe/Vienna:20251002T111500
DTEND;TZID=Europe/Vienna:20251002T121500
DTSTAMP:20260420T050953
CREATED:20250930T121653Z
LAST-MODIFIED:20251030T102309Z
UID:10006708-1759403700-1759407300@wienzimmer.fsw.at
SUMMARY:Krafttraining mit Bernd 2 – für ältere Menschen und alle die mitmachen wollen
DESCRIPTION:im Souterrain
URL:https://wienzimmer.fsw.at/event/krafttraining-mit-bernd-2-fuer-aeltere-menschen-und-alle-die-mitmachen-wollen/2025-10-02/
ATTACH;FMTTYPE=image/png:https://wienzimmer.fsw.at/wp-content/uploads/2023/11/Fitness.png
END:VEVENT
BEGIN:VEVENT
DTSTART;TZID=Europe/Vienna:20251002T130000
DTEND;TZID=Europe/Vienna:20251002T134500
DTSTAMP:20260420T050953
CREATED:20250821T095551Z
LAST-MODIFIED:20251021T133120Z
UID:10006221-1759410000-1759412700@wienzimmer.fsw.at
SUMMARY:Leseratten Club
DESCRIPTION:gemeinsames interaktives Vorlesen für Kinder\nim kleinen Seminarraum (1. Stock) \n 
URL:https://wienzimmer.fsw.at/event/leseratten-club-5/2025-10-02/
CATEGORIES:Kinder und Jugendliche
END:VEVENT
BEGIN:VEVENT
DTSTART;TZID=Europe/Vienna:20251002T140000
DTEND;TZID=Europe/Vienna:20251002T160000
DTSTAMP:20260420T050953
CREATED:20250326T150703Z
LAST-MODIFIED:20251022T083833Z
UID:10006265-1759413600-1759420800@wienzimmer.fsw.at
SUMMARY:Handarbeitsstammtisch – selbstorganisiert aus der Nachbarschaft
DESCRIPTION:im Festsaal
URL:https://wienzimmer.fsw.at/event/handarbeitsstammtisch-selbstorganisiert-aus-der-nachbarschaft/2025-10-02/
END:VEVENT
BEGIN:VEVENT
DTSTART;TZID=Europe/Vienna:20251002T140000
DTEND;TZID=Europe/Vienna:20251002T160000
DTSTAMP:20260420T050953
CREATED:20251001T085925Z
LAST-MODIFIED:20251021T131127Z
UID:10006439-1759413600-1759420800@wienzimmer.fsw.at
SUMMARY:Hausaufgabenbegleitung
DESCRIPTION:mit rettet das Kind Österreich\nim kleinen Seminarraum (1. Stock)
URL:https://wienzimmer.fsw.at/event/hausaufgabenbegleitung-4/2025-10-02/
CATEGORIES:Kinder und Jugendliche
ATTACH;FMTTYPE=image/png:https://wienzimmer.fsw.at/wp-content/uploads/2023/11/Hausaufgaben.png
END:VEVENT
BEGIN:VEVENT
DTSTART;TZID=Europe/Vienna:20251002T153000
DTEND;TZID=Europe/Vienna:20251002T163000
DTSTAMP:20260420T050953
CREATED:20250930T122406Z
LAST-MODIFIED:20251022T084437Z
UID:10006270-1759419000-1759422600@wienzimmer.fsw.at
SUMMARY:Hobby Lobby: Schauspielen
DESCRIPTION:im Souterrain
URL:https://wienzimmer.fsw.at/event/hobby-lobby-schauspielen/2025-10-02/
CATEGORIES:Kinder und Jugendliche
END:VEVENT
BEGIN:VEVENT
DTSTART;TZID=Europe/Vienna:20251002T160000
DTEND;TZID=Europe/Vienna:20251002T170000
DTSTAMP:20260420T050953
CREATED:20250930T122544Z
LAST-MODIFIED:20251022T084549Z
UID:10006275-1759420800-1759424400@wienzimmer.fsw.at
SUMMARY:Hobby Lobby: Malen
DESCRIPTION:im kleinen Seminarraum (1. Stock)
URL:https://wienzimmer.fsw.at/event/hobby-lobby-malen/2025-10-02/
CATEGORIES:Kinder und Jugendliche
END:VEVENT
BEGIN:VEVENT
DTSTART;TZID=Europe/Vienna:20251002T173000
DTEND;TZID=Europe/Vienna:20251002T183000
DTSTAMP:20260420T050953
CREATED:20250930T122710Z
LAST-MODIFIED:20251022T084736Z
UID:10006285-1759426200-1759429800@wienzimmer.fsw.at
SUMMARY:Hobby Lobby: Kampfsport
DESCRIPTION:im Soutterain
URL:https://wienzimmer.fsw.at/event/hobby-lobby-kampfsport-2/2025-10-02/
ATTACH;FMTTYPE=image/png:https://wienzimmer.fsw.at/wp-content/uploads/2024/04/kampfsport.png
END:VEVENT
BEGIN:VEVENT
DTSTART;TZID=Europe/Vienna:20251002T173000
DTEND;TZID=Europe/Vienna:20251002T183000
DTSTAMP:20260420T050953
CREATED:20251001T084740Z
LAST-MODIFIED:20251022T084852Z
UID:10006369-1759426200-1759429800@wienzimmer.fsw.at
SUMMARY:Hobby Lobby: Töpfern
DESCRIPTION:im kleinen Seminarraum (1. Stock)
URL:https://wienzimmer.fsw.at/event/hobbylobby-toepfern/2025-10-02/
CATEGORIES:Kinder und Jugendliche
ATTACH;FMTTYPE=image/png:https://wienzimmer.fsw.at/wp-content/uploads/2023/11/Toepfern.png
END:VEVENT
BEGIN:VEVENT
DTSTART;TZID=Europe/Vienna:20251002T180000
DTEND;TZID=Europe/Vienna:20251002T180000
DTSTAMP:20260420T050953
CREATED:20250930T125739Z
LAST-MODIFIED:20250930T125755Z
UID:10006290-1759428000-1759428000@wienzimmer.fsw.at
SUMMARY:Kulturlabor Tanzworkshop – “Storytelling in Freestyle Dance – Breaking and Wacking”
DESCRIPTION:– mit The Here And Now Collective \nIm Tanz können\, ganz ohne gesprochenem Text\, Rollen erfunden und Geschichten erzählt werden. Mit Methoden und Techniken aus HipHop und anderen Street- und Club Dance Styles\, kann im Freestyle individueller Ausdruck entdeckt und Improvisation geübt werden. Diese Workshopreihe richtet sich an alle\, die Freude an Bewegung und Musik haben – Musikwünsche sind herzlich willkommen!\nim Festsaal
URL:https://wienzimmer.fsw.at/event/kulturlabor-tanzworkshop-storytelling-in-freestyle-dance-breaking-and-wacking/
END:VEVENT
BEGIN:VEVENT
DTSTART;TZID=Europe/Vienna:20251003T160000
DTEND;TZID=Europe/Vienna:20251003T170000
DTSTAMP:20260420T050953
CREATED:20250930T130217Z
LAST-MODIFIED:20251022T085108Z
UID:10006295-1759507200-1759510800@wienzimmer.fsw.at
SUMMARY:Hobby Lobby: Singen
DESCRIPTION:im kleinen Seminarraum (1. Stock)
URL:https://wienzimmer.fsw.at/event/hobby-lobby-singen/2025-10-03/
ATTACH;FMTTYPE=image/png:https://wienzimmer.fsw.at/wp-content/uploads/2024/04/musik_singen.png
END:VEVENT
BEGIN:VEVENT
DTSTART;TZID=Europe/Vienna:20251003T160000
DTEND;TZID=Europe/Vienna:20251003T170000
DTSTAMP:20260420T050953
CREATED:20251001T085340Z
LAST-MODIFIED:20251022T085543Z
UID:10006430-1759507200-1759510800@wienzimmer.fsw.at
SUMMARY:Hobby Lobby: Textilwerkstatt für Volksschulkinder
DESCRIPTION:im Souterrain
URL:https://wienzimmer.fsw.at/event/hobby-lobby-textilwerkstatt-fuer-volksschulkinder/2025-10-03/
CATEGORIES:Kinder und Jugendliche
END:VEVENT
BEGIN:VEVENT
DTSTART;TZID=Europe/Vienna:20251003T160000
DTEND;TZID=Europe/Vienna:20251003T200000
DTSTAMP:20260420T050953
CREATED:20250930T125845Z
LAST-MODIFIED:20250930T125845Z
UID:10006291-1759507200-1759521600@wienzimmer.fsw.at
SUMMARY:Immersives Stationentheater widerSTADT (offene Generalprobe)
DESCRIPTION:– Theater der Unterdrückten Wien\nKarl-Seitz-Hof / WienZimmer (unterschiedliche Stationen zum Mitgehen) \n„Wir nehmen unser Publikum mit auf eine Zeitreise ins Wien der 1930er Jahre\, lassen historische Figuren zum Leben erwecken und schlagen gemeinsam eine Brücke ins Heute: Das partizipative Stationentheater widerSTADT macht unterschiedliche Widerstandsformen gegen den Austrofaschismus im Wien der 1930er erlebbar.“
URL:https://wienzimmer.fsw.at/event/immersives-stationentheater-widerstadt-offene-generalprobe/
END:VEVENT
BEGIN:VEVENT
DTSTART;TZID=Europe/Vienna:20251003T160000
DTEND;TZID=Europe/Vienna:20251003T203000
DTSTAMP:20260420T050953
CREATED:20250930T130000Z
LAST-MODIFIED:20251001T110707Z
UID:10006452-1759507200-1759523400@wienzimmer.fsw.at
SUMMARY:LindyHop Kurs
DESCRIPTION:mit der IG Hop\nim Festsaal \n 
URL:https://wienzimmer.fsw.at/event/lindyhop-kurs/2025-10-03/
END:VEVENT
BEGIN:VEVENT
DTSTART;TZID=Europe/Vienna:20251003T170000
DTEND;TZID=Europe/Vienna:20251003T180000
DTSTAMP:20260420T050953
CREATED:20250930T130413Z
LAST-MODIFIED:20251022T085622Z
UID:10006300-1759510800-1759514400@wienzimmer.fsw.at
SUMMARY:Hobby Lobby: Experimente
DESCRIPTION:im Souterrain
URL:https://wienzimmer.fsw.at/event/hobby-lobby-experimente-2/2025-10-03/
ATTACH;FMTTYPE=image/png:https://wienzimmer.fsw.at/wp-content/uploads/2024/10/WienZimmer_Veranstaltungskalender-Experimente.png
END:VEVENT
BEGIN:VEVENT
DTSTART;TZID=Europe/Vienna:20251006T103000
DTEND;TZID=Europe/Vienna:20251006T123000
DTSTAMP:20260420T050953
CREATED:20250930T130545Z
LAST-MODIFIED:20250930T130545Z
UID:10006305-1759746600-1759753800@wienzimmer.fsw.at
SUMMARY:Filmbrunch: "Der schönste Tag"
DESCRIPTION:Filmvormittag mit kleinen Snacks und ausgewählten Filmen des Stadtkinos\nim kleinen Seminarraum \nÜber den Film des Tages: Der schönste Tag – Kamera und Mikrofon eröffnen einmalige Gespräche zwischen Zeitzeugen und ihren Enkeln – ein Vermächtnis\, das mahnt: Das Unbegreifliche kann jederzeit zurückkehren.
URL:https://wienzimmer.fsw.at/event/filmbrunch-der-schoenste-tag/
END:VEVENT
BEGIN:VEVENT
DTSTART;TZID=Europe/Vienna:20251006T140000
DTEND;TZID=Europe/Vienna:20251006T160000
DTSTAMP:20260420T050953
CREATED:20251001T085925Z
LAST-MODIFIED:20251021T131127Z
UID:10006440-1759759200-1759766400@wienzimmer.fsw.at
SUMMARY:Hausaufgabenbegleitung
DESCRIPTION:mit rettet das Kind Österreich\nim kleinen Seminarraum (1. Stock)
URL:https://wienzimmer.fsw.at/event/hausaufgabenbegleitung-4/2025-10-06/
CATEGORIES:Kinder und Jugendliche
ATTACH;FMTTYPE=image/png:https://wienzimmer.fsw.at/wp-content/uploads/2023/11/Hausaufgaben.png
END:VEVENT
BEGIN:VEVENT
DTSTART;TZID=Europe/Vienna:20251006T180000
DTEND;TZID=Europe/Vienna:20251006T210000
DTSTAMP:20260420T050953
CREATED:20250930T130703Z
LAST-MODIFIED:20250930T130703Z
UID:10006306-1759773600-1759784400@wienzimmer.fsw.at
SUMMARY:Kulturlabor Theaterworkshop (WS2) – „Oh Vienna!“
DESCRIPTION:Theater mit Julia Vandehof\nim Festsaal \nJulia Vandehof zeichnet für die künstlerische Leitung des Gemeindebautheaters verantwortlich. Hier hast du die Möglichkeit\, in die Arbeit des Gemeindebautheaters hineinzuschnuppern und\nvielfältige Formen von Theaterarbeit auszuprobieren.\nTheater- und Performance Workshop – Outdoor Themen finden\, hinaus gehen in den Gemeindebau.
URL:https://wienzimmer.fsw.at/event/kulturlabor-theaterworkshop-ws2-oh-vienna/
END:VEVENT
END:VCALENDAR