BEGIN:VCALENDAR
VERSION:2.0
PRODID:-//Wien Zimmer - ECPv6.15.17.1//NONSGML v1.0//EN
CALSCALE:GREGORIAN
METHOD:PUBLISH
X-WR-CALNAME:Wien Zimmer
X-ORIGINAL-URL:https://wienzimmer.fsw.at
X-WR-CALDESC:Veranstaltungen für Wien Zimmer
REFRESH-INTERVAL;VALUE=DURATION:PT1H
X-Robots-Tag:noindex
X-PUBLISHED-TTL:PT1H
BEGIN:VTIMEZONE
TZID:Europe/Vienna
BEGIN:DAYLIGHT
TZOFFSETFROM:+0100
TZOFFSETTO:+0200
TZNAME:CEST
DTSTART:20240331T010000
END:DAYLIGHT
BEGIN:STANDARD
TZOFFSETFROM:+0200
TZOFFSETTO:+0100
TZNAME:CET
DTSTART:20241027T010000
END:STANDARD
BEGIN:DAYLIGHT
TZOFFSETFROM:+0100
TZOFFSETTO:+0200
TZNAME:CEST
DTSTART:20250330T010000
END:DAYLIGHT
BEGIN:STANDARD
TZOFFSETFROM:+0200
TZOFFSETTO:+0100
TZNAME:CET
DTSTART:20251026T010000
END:STANDARD
BEGIN:DAYLIGHT
TZOFFSETFROM:+0100
TZOFFSETTO:+0200
TZNAME:CEST
DTSTART:20260329T010000
END:DAYLIGHT
BEGIN:STANDARD
TZOFFSETFROM:+0200
TZOFFSETTO:+0100
TZNAME:CET
DTSTART:20261025T010000
END:STANDARD
END:VTIMEZONE
BEGIN:VEVENT
DTSTART;TZID=Europe/Vienna:20250801T080000
DTEND;TZID=Europe/Vienna:20250801T170000
DTSTAMP:20260422T143609
CREATED:20250625T124705Z
LAST-MODIFIED:20250625T124818Z
UID:10004135-1754035200-1754067600@wienzimmer.fsw.at
SUMMARY:WienZimmer als Hauptquartier für Teach4Austria und die HobbyLobby
DESCRIPTION:Ab dem 21. Juli bis zum 1. August ist das WienZimmer exklusiv für Teach4Austria und die HobbyLobby als Hauptquartier für ihre kostenlosen „Sommer Spezialwochen“ reserviert. \nHier der Link zum Anmeldeformular: https://www.hobbylobby.co.at/sommerwochen/
URL:https://wienzimmer.fsw.at/event/wienzimmer-als-hauptquartier-fuer-teach4austria-und-die-hobbylobby/2025-08-01/
CATEGORIES:Kinder und Jugendliche
END:VEVENT
BEGIN:VEVENT
DTSTART;TZID=Europe/Vienna:20250807T080000
DTEND;TZID=Europe/Vienna:20250807T170000
DTSTAMP:20260422T143609
CREATED:20250806T135301Z
LAST-MODIFIED:20251030T102441Z
UID:10005778-1754553600-1754586000@wienzimmer.fsw.at
SUMMARY:Krafttraining mit Bernd – für ältere Menschen und alle die mitmachen wollen
DESCRIPTION:im Souterrain
URL:https://wienzimmer.fsw.at/event/krafttraining-mit-bernd-fuer-aeltere-menschen-und-alle-die-mitmachen-wollen-3/2025-08-07/1/
ATTACH;FMTTYPE=image/png:https://wienzimmer.fsw.at/wp-content/uploads/2023/11/Fitness.png
END:VEVENT
BEGIN:VEVENT
DTSTART;TZID=Europe/Vienna:20250807T100000
DTEND;TZID=Europe/Vienna:20250807T110000
DTSTAMP:20260422T143609
CREATED:20250806T135301Z
LAST-MODIFIED:20251030T102441Z
UID:10004873-1754560800-1754564400@wienzimmer.fsw.at
SUMMARY:Krafttraining mit Bernd – für ältere Menschen und alle die mitmachen wollen
DESCRIPTION:im Souterrain
URL:https://wienzimmer.fsw.at/event/krafttraining-mit-bernd-fuer-aeltere-menschen-und-alle-die-mitmachen-wollen-3/2025-08-07/2/
ATTACH;FMTTYPE=image/png:https://wienzimmer.fsw.at/wp-content/uploads/2023/11/Fitness.png
END:VEVENT
BEGIN:VEVENT
DTSTART;TZID=Europe/Vienna:20250807T133000
DTEND;TZID=Europe/Vienna:20250807T200000
DTSTAMP:20260422T143609
CREATED:20250806T135833Z
LAST-MODIFIED:20250806T135833Z
UID:10004877-1754573400-1754596800@wienzimmer.fsw.at
SUMMARY:Kinderfreunde Wien – offene Kinder- & Jugendarbeit
DESCRIPTION:bei Schönwetter draußen im Innenhof des Karl-Seitz-Hofs (beim Spielplatz)/ bei Schlechtwetter im WienZimmer
URL:https://wienzimmer.fsw.at/event/kinderfreunde-wien-offene-kinder-jugendarbeit-6/
CATEGORIES:Kinder und Jugendliche
END:VEVENT
BEGIN:VEVENT
DTSTART;TZID=Europe/Vienna:20250807T140000
DTEND;TZID=Europe/Vienna:20250807T160000
DTSTAMP:20260422T143609
CREATED:20250326T150703Z
LAST-MODIFIED:20251022T083833Z
UID:10005348-1754575200-1754582400@wienzimmer.fsw.at
SUMMARY:Handarbeitsstammtisch – selbstorganisiert aus der Nachbarschaft
DESCRIPTION:im Festsaal
URL:https://wienzimmer.fsw.at/event/handarbeitsstammtisch-selbstorganisiert-aus-der-nachbarschaft/2025-08-07/
END:VEVENT
BEGIN:VEVENT
DTSTART;TZID=Europe/Vienna:20250808T133000
DTEND;TZID=Europe/Vienna:20250808T200000
DTSTAMP:20260422T143609
CREATED:20250806T140021Z
LAST-MODIFIED:20250806T140021Z
UID:10004878-1754659800-1754683200@wienzimmer.fsw.at
SUMMARY:Kinderfreunde Wien – offene Kinder- & Jugendarbeit
DESCRIPTION:bei Schönwetter draußen im Robinsonpark / bei Schlechtwetter im JUVIVO 21
URL:https://wienzimmer.fsw.at/event/kinderfreunde-wien-offene-kinder-jugendarbeit-7/
CATEGORIES:Kinder und Jugendliche
END:VEVENT
BEGIN:VEVENT
DTSTART;TZID=Europe/Vienna:20250812T080000
DTEND;TZID=Europe/Vienna:20250812T100000
DTSTAMP:20260422T143609
CREATED:20250806T140131Z
LAST-MODIFIED:20251021T131447Z
UID:10004905-1754985600-1754992800@wienzimmer.fsw.at
SUMMARY:Elterncafé im WienZimmer
DESCRIPTION:Austausch und Beratung für alle Eltern\nBabies und Kleinkinder können mitgebracht werden\nim Festsaal
URL:https://wienzimmer.fsw.at/event/elterncafe-im-wienzimmer-5/2025-08-12/
LOCATION:WienZimmer\, Karl-Seitz-Hof - Jedleseer Str. 66-94/Ecke Jedleseer Straße und Dunantgasse\, Wien\, 1210\, Österreich
END:VEVENT
BEGIN:VEVENT
DTSTART;TZID=Europe/Vienna:20250812T100000
DTEND;TZID=Europe/Vienna:20250812T123000
DTSTAMP:20260422T143609
CREATED:20250806T140427Z
LAST-MODIFIED:20250806T141618Z
UID:10004908-1754992800-1755001800@wienzimmer.fsw.at
SUMMARY:KlimaLab: KinderKochwoche / Werkeln
DESCRIPTION:Kinder 8-12 Jahre\nin der Küche
URL:https://wienzimmer.fsw.at/event/klimalab-kinderkochwoche-werkeln/2025-08-12/
END:VEVENT
BEGIN:VEVENT
DTSTART;TZID=Europe/Vienna:20250813T091500
DTEND;TZID=Europe/Vienna:20250813T101500
DTSTAMP:20260422T143609
CREATED:20250806T140720Z
LAST-MODIFIED:20251021T133852Z
UID:10005295-1755076500-1755080100@wienzimmer.fsw.at
SUMMARY:Yoga mit Sophie – für Senior:innen
DESCRIPTION:im kleinen Seminarraum (1. Stock)
URL:https://wienzimmer.fsw.at/event/yoga-mit-sophie-fuer-seniorinnen-3/2025-08-13/
END:VEVENT
BEGIN:VEVENT
DTSTART;TZID=Europe/Vienna:20250813T100000
DTEND;TZID=Europe/Vienna:20250813T120000
DTSTAMP:20260422T143609
CREATED:20250806T140834Z
LAST-MODIFIED:20250930T115904Z
UID:10005308-1755079200-1755086400@wienzimmer.fsw.at
SUMMARY:offene Aquarell-Malrunde  - selbstorganisiert
DESCRIPTION:– selbstorganisiert\nkleiner Seminarraum (1. Stock)
URL:https://wienzimmer.fsw.at/event/offene-aquarell-malrunde-selbstorganisiert-3/2025-08-13/
ATTACH;FMTTYPE=image/png:https://wienzimmer.fsw.at/wp-content/uploads/2023/11/Malen.png
END:VEVENT
BEGIN:VEVENT
DTSTART;TZID=Europe/Vienna:20250813T100000
DTEND;TZID=Europe/Vienna:20250813T123000
DTSTAMP:20260422T143609
CREATED:20250806T140427Z
LAST-MODIFIED:20250806T141618Z
UID:10004909-1755079200-1755088200@wienzimmer.fsw.at
SUMMARY:KlimaLab: KinderKochwoche / Werkeln
DESCRIPTION:Kinder 8-12 Jahre\nin der Küche
URL:https://wienzimmer.fsw.at/event/klimalab-kinderkochwoche-werkeln/2025-08-13/
END:VEVENT
BEGIN:VEVENT
DTSTART;TZID=Europe/Vienna:20250813T104000
DTEND;TZID=Europe/Vienna:20250813T114500
DTSTAMP:20260422T143609
CREATED:20250806T141016Z
LAST-MODIFIED:20251021T134335Z
UID:10005328-1755081600-1755085500@wienzimmer.fsw.at
SUMMARY:Yoga mit Sophie – Yoga für Anfänger:innen
DESCRIPTION:im kleinen Seminarraum (1. Stock)
URL:https://wienzimmer.fsw.at/event/yoga-mit-sophie-yoga-fuer-anfaengerinnen-3/2025-08-13/
END:VEVENT
BEGIN:VEVENT
DTSTART;TZID=Europe/Vienna:20250813T133000
DTEND;TZID=Europe/Vienna:20250813T200000
DTSTAMP:20260422T143609
CREATED:20250806T141125Z
LAST-MODIFIED:20250806T141125Z
UID:10005330-1755091800-1755115200@wienzimmer.fsw.at
SUMMARY:Kinderfreunde Wien – offene Kinder- & Jugendarbeit
DESCRIPTION:bei Schönwetter draußen im Freiligrathpark /  bei Schlechtwetter im WienZimmer
URL:https://wienzimmer.fsw.at/event/kinderfreunde-wien-offene-kinder-jugendarbeit-8/
CATEGORIES:Kinder und Jugendliche
END:VEVENT
BEGIN:VEVENT
DTSTART;TZID=Europe/Vienna:20250814T100000
DTEND;TZID=Europe/Vienna:20250814T110000
DTSTAMP:20260422T143609
CREATED:20250806T135301Z
LAST-MODIFIED:20251030T102441Z
UID:10004874-1755165600-1755169200@wienzimmer.fsw.at
SUMMARY:Krafttraining mit Bernd – für ältere Menschen und alle die mitmachen wollen
DESCRIPTION:im Souterrain
URL:https://wienzimmer.fsw.at/event/krafttraining-mit-bernd-fuer-aeltere-menschen-und-alle-die-mitmachen-wollen-3/2025-08-14/
ATTACH;FMTTYPE=image/png:https://wienzimmer.fsw.at/wp-content/uploads/2023/11/Fitness.png
END:VEVENT
BEGIN:VEVENT
DTSTART;TZID=Europe/Vienna:20250814T100000
DTEND;TZID=Europe/Vienna:20250814T123000
DTSTAMP:20260422T143609
CREATED:20250806T140427Z
LAST-MODIFIED:20250806T141618Z
UID:10004910-1755165600-1755174600@wienzimmer.fsw.at
SUMMARY:KlimaLab: KinderKochwoche / Werkeln
DESCRIPTION:Kinder 8-12 Jahre\nin der Küche
URL:https://wienzimmer.fsw.at/event/klimalab-kinderkochwoche-werkeln/2025-08-14/
END:VEVENT
BEGIN:VEVENT
DTSTART;TZID=Europe/Vienna:20250814T133000
DTEND;TZID=Europe/Vienna:20250814T200000
DTSTAMP:20260422T143609
CREATED:20250806T141218Z
LAST-MODIFIED:20250806T141218Z
UID:10005331-1755178200-1755201600@wienzimmer.fsw.at
SUMMARY:Kinderfreunde Wien – offene Kinder- & Jugendarbeit
DESCRIPTION:bei Schönwetter draußen im Innenhof des Karl-Seitz-Hofs (beim Spielplatz)/ bei Schlechtwetter im WienZimmer
URL:https://wienzimmer.fsw.at/event/kinderfreunde-wien-offene-kinder-jugendarbeit-9/
CATEGORIES:Kinder und Jugendliche
END:VEVENT
BEGIN:VEVENT
DTSTART;TZID=Europe/Vienna:20250814T140000
DTEND;TZID=Europe/Vienna:20250814T160000
DTSTAMP:20260422T143609
CREATED:20250326T150703Z
LAST-MODIFIED:20251022T083833Z
UID:10005349-1755180000-1755187200@wienzimmer.fsw.at
SUMMARY:Handarbeitsstammtisch – selbstorganisiert aus der Nachbarschaft
DESCRIPTION:im Festsaal
URL:https://wienzimmer.fsw.at/event/handarbeitsstammtisch-selbstorganisiert-aus-der-nachbarschaft/2025-08-14/
END:VEVENT
BEGIN:VEVENT
DTSTART;TZID=Europe/Vienna:20250814T140000
DTEND;TZID=Europe/Vienna:20250814T170000
DTSTAMP:20260422T143609
CREATED:20250806T141315Z
LAST-MODIFIED:20250806T141315Z
UID:10005332-1755180000-1755190800@wienzimmer.fsw.at
SUMMARY:Act now! – Klima-Theater Workshop für Kinder
DESCRIPTION:mit Theaterpädagogin Elisabeth Langwieser\nTeilnahme für Kinder ab 6 Jahren \nim kleinen Seminarraum
URL:https://wienzimmer.fsw.at/event/act-now-klima-theater-workshop-fuer-kinder/
CATEGORIES:Kinder und Jugendliche
END:VEVENT
BEGIN:VEVENT
DTSTART;TZID=Europe/Vienna:20250819T080000
DTEND;TZID=Europe/Vienna:20250819T100000
DTSTAMP:20260422T143609
CREATED:20250806T140131Z
LAST-MODIFIED:20251021T131447Z
UID:10004906-1755590400-1755597600@wienzimmer.fsw.at
SUMMARY:Elterncafé im WienZimmer
DESCRIPTION:Austausch und Beratung für alle Eltern\nBabies und Kleinkinder können mitgebracht werden\nim Festsaal
URL:https://wienzimmer.fsw.at/event/elterncafe-im-wienzimmer-5/2025-08-19/
LOCATION:WienZimmer\, Karl-Seitz-Hof - Jedleseer Str. 66-94/Ecke Jedleseer Straße und Dunantgasse\, Wien\, 1210\, Österreich
END:VEVENT
BEGIN:VEVENT
DTSTART;TZID=Europe/Vienna:20250819T100000
DTEND;TZID=Europe/Vienna:20250819T123000
DTSTAMP:20260422T143609
CREATED:20250806T140427Z
LAST-MODIFIED:20250806T141618Z
UID:10004911-1755597600-1755606600@wienzimmer.fsw.at
SUMMARY:KlimaLab: KinderKochwoche / Werkeln
DESCRIPTION:Kinder 8-12 Jahre\nin der Küche
URL:https://wienzimmer.fsw.at/event/klimalab-kinderkochwoche-werkeln/2025-08-19/
END:VEVENT
BEGIN:VEVENT
DTSTART;TZID=Europe/Vienna:20250819T120000
DTEND;TZID=Europe/Vienna:20250819T140000
DTSTAMP:20260422T143609
CREATED:20250806T125355Z
LAST-MODIFIED:20250806T125429Z
UID:10004501-1755604800-1755612000@wienzimmer.fsw.at
SUMMARY:Kinder Klimabootcamp
DESCRIPTION:Ein fitter und starker Körper ist Voraussetzung für einen starken Kampf für das Klima! Mach dich fit mit unserem Trainer Bernd und lerne spannendes Kraft- und Ausdauertraining kennen. \nFür Kinder von 8-12 Jahre
URL:https://wienzimmer.fsw.at/event/kinder-klimabootcamp/2025-08-19/
CATEGORIES:Kinder und Jugendliche
END:VEVENT
BEGIN:VEVENT
DTSTART;TZID=Europe/Vienna:20250819T130000
DTEND;TZID=Europe/Vienna:20250819T134500
DTSTAMP:20260422T143609
CREATED:20250807T100530Z
LAST-MODIFIED:20250807T100629Z
UID:10005354-1755608400-1755611100@wienzimmer.fsw.at
SUMMARY:Leseratten-Club
DESCRIPTION:gemeinsames interaktives Vorlesen für Kinder (auf Deutsch und Arabisch)\nim kleinen Seminarraum
URL:https://wienzimmer.fsw.at/event/leseratten-club-4/2025-08-19/
CATEGORIES:Kinder und Jugendliche
END:VEVENT
BEGIN:VEVENT
DTSTART;TZID=Europe/Vienna:20250819T170000
DTEND;TZID=Europe/Vienna:20250819T200000
DTSTAMP:20260422T143609
CREATED:20250806T141523Z
LAST-MODIFIED:20250806T141523Z
UID:10005333-1755622800-1755633600@wienzimmer.fsw.at
SUMMARY:Tanz mit Franz
DESCRIPTION:mit DJ Franz Haberl\nim Festsaal
URL:https://wienzimmer.fsw.at/event/tanz-mit-franz-5/
END:VEVENT
BEGIN:VEVENT
DTSTART;TZID=Europe/Vienna:20250820T091500
DTEND;TZID=Europe/Vienna:20250820T101500
DTSTAMP:20260422T143610
CREATED:20250806T140720Z
LAST-MODIFIED:20251021T133852Z
UID:10005296-1755681300-1755684900@wienzimmer.fsw.at
SUMMARY:Yoga mit Sophie – für Senior:innen
DESCRIPTION:im kleinen Seminarraum (1. Stock)
URL:https://wienzimmer.fsw.at/event/yoga-mit-sophie-fuer-seniorinnen-3/2025-08-20/
END:VEVENT
BEGIN:VEVENT
DTSTART;TZID=Europe/Vienna:20250820T100000
DTEND;TZID=Europe/Vienna:20250820T120000
DTSTAMP:20260422T143610
CREATED:20250806T140834Z
LAST-MODIFIED:20250930T115904Z
UID:10005309-1755684000-1755691200@wienzimmer.fsw.at
SUMMARY:offene Aquarell-Malrunde  - selbstorganisiert
DESCRIPTION:– selbstorganisiert\nkleiner Seminarraum (1. Stock)
URL:https://wienzimmer.fsw.at/event/offene-aquarell-malrunde-selbstorganisiert-3/2025-08-20/
ATTACH;FMTTYPE=image/png:https://wienzimmer.fsw.at/wp-content/uploads/2023/11/Malen.png
END:VEVENT
BEGIN:VEVENT
DTSTART;TZID=Europe/Vienna:20250820T100000
DTEND;TZID=Europe/Vienna:20250820T123000
DTSTAMP:20260422T143610
CREATED:20250806T140427Z
LAST-MODIFIED:20250806T141618Z
UID:10005334-1755684000-1755693000@wienzimmer.fsw.at
SUMMARY:KlimaLab: KinderKochwoche / Werkeln
DESCRIPTION:Kinder 8-12 Jahre\nin der Küche
URL:https://wienzimmer.fsw.at/event/klimalab-kinderkochwoche-werkeln/2025-08-20/
END:VEVENT
BEGIN:VEVENT
DTSTART;TZID=Europe/Vienna:20250820T104000
DTEND;TZID=Europe/Vienna:20250820T114500
DTSTAMP:20260422T143610
CREATED:20250806T141016Z
LAST-MODIFIED:20251021T134335Z
UID:10005329-1755686400-1755690300@wienzimmer.fsw.at
SUMMARY:Yoga mit Sophie – Yoga für Anfänger:innen
DESCRIPTION:im kleinen Seminarraum (1. Stock)
URL:https://wienzimmer.fsw.at/event/yoga-mit-sophie-yoga-fuer-anfaengerinnen-3/2025-08-20/
END:VEVENT
BEGIN:VEVENT
DTSTART;TZID=Europe/Vienna:20250820T120000
DTEND;TZID=Europe/Vienna:20250820T140000
DTSTAMP:20260422T143610
CREATED:20250806T125355Z
LAST-MODIFIED:20250806T125429Z
UID:10004502-1755691200-1755698400@wienzimmer.fsw.at
SUMMARY:Kinder Klimabootcamp
DESCRIPTION:Ein fitter und starker Körper ist Voraussetzung für einen starken Kampf für das Klima! Mach dich fit mit unserem Trainer Bernd und lerne spannendes Kraft- und Ausdauertraining kennen. \nFür Kinder von 8-12 Jahre
URL:https://wienzimmer.fsw.at/event/kinder-klimabootcamp/2025-08-20/
CATEGORIES:Kinder und Jugendliche
END:VEVENT
BEGIN:VEVENT
DTSTART;TZID=Europe/Vienna:20250820T130000
DTEND;TZID=Europe/Vienna:20250820T134500
DTSTAMP:20260422T143610
CREATED:20250807T100530Z
LAST-MODIFIED:20250807T100629Z
UID:10005355-1755694800-1755697500@wienzimmer.fsw.at
SUMMARY:Leseratten-Club
DESCRIPTION:gemeinsames interaktives Vorlesen für Kinder (auf Deutsch und Arabisch)\nim kleinen Seminarraum
URL:https://wienzimmer.fsw.at/event/leseratten-club-4/2025-08-20/
CATEGORIES:Kinder und Jugendliche
END:VEVENT
BEGIN:VEVENT
DTSTART;TZID=Europe/Vienna:20250820T133000
DTEND;TZID=Europe/Vienna:20250820T200000
DTSTAMP:20260422T143610
CREATED:20250806T141709Z
LAST-MODIFIED:20250806T141709Z
UID:10005335-1755696600-1755720000@wienzimmer.fsw.at
SUMMARY:Kinderfreunde Wien – offene Kinder- & Jugendarbeit
DESCRIPTION:bei Schönwetter draußen im Freiligrathpark /  bei Schlechtwetter im WienZimmer
URL:https://wienzimmer.fsw.at/event/kinderfreunde-wien-offene-kinder-jugendarbeit-10/
CATEGORIES:Kinder und Jugendliche
END:VEVENT
END:VCALENDAR