BEGIN:VCALENDAR
VERSION:2.0
PRODID:-//Wien Zimmer - ECPv6.15.17.1//NONSGML v1.0//EN
CALSCALE:GREGORIAN
METHOD:PUBLISH
X-ORIGINAL-URL:https://wienzimmer.fsw.at
X-WR-CALDESC:Veranstaltungen für Wien Zimmer
REFRESH-INTERVAL;VALUE=DURATION:PT1H
X-Robots-Tag:noindex
X-PUBLISHED-TTL:PT1H
BEGIN:VTIMEZONE
TZID:Europe/Vienna
BEGIN:DAYLIGHT
TZOFFSETFROM:+0100
TZOFFSETTO:+0200
TZNAME:CEST
DTSTART:20240331T010000
END:DAYLIGHT
BEGIN:STANDARD
TZOFFSETFROM:+0200
TZOFFSETTO:+0100
TZNAME:CET
DTSTART:20241027T010000
END:STANDARD
BEGIN:DAYLIGHT
TZOFFSETFROM:+0100
TZOFFSETTO:+0200
TZNAME:CEST
DTSTART:20250330T010000
END:DAYLIGHT
BEGIN:STANDARD
TZOFFSETFROM:+0200
TZOFFSETTO:+0100
TZNAME:CET
DTSTART:20251026T010000
END:STANDARD
BEGIN:DAYLIGHT
TZOFFSETFROM:+0100
TZOFFSETTO:+0200
TZNAME:CEST
DTSTART:20260329T010000
END:DAYLIGHT
BEGIN:STANDARD
TZOFFSETFROM:+0200
TZOFFSETTO:+0100
TZNAME:CET
DTSTART:20261025T010000
END:STANDARD
END:VTIMEZONE
BEGIN:VEVENT
DTSTART;TZID=Europe/Vienna:20250701T080000
DTEND;TZID=Europe/Vienna:20250701T100000
DTSTAMP:20260422T180610
CREATED:20241127T134110Z
LAST-MODIFIED:20250625T114952Z
UID:10004071-1751356800-1751364000@wienzimmer.fsw.at
SUMMARY:Elterncafé im WienZimmer
DESCRIPTION:Austausch und Beratung für alle Eltern\nBabies und Kleinkinder können mitgebracht werden\nim Festsaal
URL:https://wienzimmer.fsw.at/event/elterncafe-im-wienzimmer-4/2025-07-01/
LOCATION:WienZimmer\, Karl-Seitz-Hof - Jedleseer Str. 66-94/Ecke Jedleseer Straße und Dunantgasse\, Wien\, 1210\, Österreich
END:VEVENT
BEGIN:VEVENT
DTSTART;TZID=Europe/Vienna:20250701T180000
DTEND;TZID=Europe/Vienna:20250701T193000
DTSTAMP:20260422T180610
CREATED:20250625T115410Z
LAST-MODIFIED:20250625T115410Z
UID:10004086-1751392800-1751398200@wienzimmer.fsw.at
SUMMARY:Bauchtanzgruppe
DESCRIPTION:im kleinen Seminarraum (1. Stock)
URL:https://wienzimmer.fsw.at/event/bauchtanzgruppe/
END:VEVENT
BEGIN:VEVENT
DTSTART;TZID=Europe/Vienna:20250702T100000
DTEND;TZID=Europe/Vienna:20250702T120000
DTSTAMP:20260422T180610
CREATED:20250422T111725Z
LAST-MODIFIED:20250625T123020Z
UID:10004087-1751450400-1751457600@wienzimmer.fsw.at
SUMMARY:offene Aquarell-Malrunde  - selbstorganisiert
DESCRIPTION:– selbstorganisiert\nkleiner Seminarraum (1. Stock)
URL:https://wienzimmer.fsw.at/event/offene-aquarell-malrunde-selbstorganisiert-2/2025-07-02/
ATTACH;FMTTYPE=image/png:https://wienzimmer.fsw.at/wp-content/uploads/2023/11/Malen.png
END:VEVENT
BEGIN:VEVENT
DTSTART;TZID=Europe/Vienna:20250702T133000
DTEND;TZID=Europe/Vienna:20250702T190000
DTSTAMP:20260422T180610
CREATED:20250625T115745Z
LAST-MODIFIED:20250625T115958Z
UID:10004089-1751463000-1751482800@wienzimmer.fsw.at
SUMMARY:Kinderfreunde Wien – offene Kinder- & Jugendarbeit
DESCRIPTION:für Kinder von 6-12Jahre\nbei Schönwetter draußen im Freiligrathpark /  bei Schlechtwetter im WienZimmer \n 
URL:https://wienzimmer.fsw.at/event/kinderfreunde-wien-offene-kinder-jugendarbeit-5/2025-07-02/
CATEGORIES:Kinder und Jugendliche
END:VEVENT
BEGIN:VEVENT
DTSTART;TZID=Europe/Vienna:20250703T100000
DTEND;TZID=Europe/Vienna:20250703T110000
DTSTAMP:20260422T180610
CREATED:20250625T120054Z
LAST-MODIFIED:20250625T120148Z
UID:10004092-1751536800-1751540400@wienzimmer.fsw.at
SUMMARY:Krafttraining mit Bernd – für ältere Menschen und alle die mitmachen wollen
DESCRIPTION:kleiner Keller
URL:https://wienzimmer.fsw.at/event/krafttraining-mit-bernd-fuer-aeltere-menschen-und-alle-die-mitmachen-wollen-2/2025-07-03/
ATTACH;FMTTYPE=image/png:https://wienzimmer.fsw.at/wp-content/uploads/2023/11/Fitness.png
END:VEVENT
BEGIN:VEVENT
DTSTART;TZID=Europe/Vienna:20250703T133000
DTEND;TZID=Europe/Vienna:20250703T200000
DTSTAMP:20260422T180610
CREATED:20250422T113629Z
LAST-MODIFIED:20250625T120300Z
UID:10004095-1751549400-1751572800@wienzimmer.fsw.at
SUMMARY:Kinderfreunde Wien – offene Kinder- & Jugendarbeit
DESCRIPTION:bei Schönwetter draußen im Innenhof des Karl-Seitz-Hofs (beim Spielplatz)/ bei Schlechtwetter im WienZimmer
URL:https://wienzimmer.fsw.at/event/kinderfreunde-wien-offene-kinder-jugendarbeit-4/2025-07-03/
END:VEVENT
BEGIN:VEVENT
DTSTART;TZID=Europe/Vienna:20250703T140000
DTEND;TZID=Europe/Vienna:20250703T160000
DTSTAMP:20260422T180610
CREATED:20250326T150703Z
LAST-MODIFIED:20251022T083833Z
UID:10004098-1751551200-1751558400@wienzimmer.fsw.at
SUMMARY:Handarbeitsstammtisch – selbstorganisiert aus der Nachbarschaft
DESCRIPTION:im Festsaal
URL:https://wienzimmer.fsw.at/event/handarbeitsstammtisch-selbstorganisiert-aus-der-nachbarschaft/2025-07-03/
END:VEVENT
BEGIN:VEVENT
DTSTART;TZID=Europe/Vienna:20250704T133000
DTEND;TZID=Europe/Vienna:20250704T143000
DTSTAMP:20260422T180610
CREATED:20250625T121115Z
LAST-MODIFIED:20250625T121115Z
UID:10004101-1751635800-1751639400@wienzimmer.fsw.at
SUMMARY:Mentaltraining (FEM)
DESCRIPTION:mit Trainerin Marion Woch-Adang\nim kleinen Seminarraum\n* women only!
URL:https://wienzimmer.fsw.at/event/mentaltraining-fem-2/
END:VEVENT
BEGIN:VEVENT
DTSTART;TZID=Europe/Vienna:20250704T133000
DTEND;TZID=Europe/Vienna:20250704T200000
DTSTAMP:20260422T180610
CREATED:20250422T105320Z
LAST-MODIFIED:20250625T121423Z
UID:10004102-1751635800-1751659200@wienzimmer.fsw.at
SUMMARY:Kinderfreunde Wien – offene Kinder- & Jugendarbeit
DESCRIPTION:bei Schönwetter draußen im Robinsonpark / bei Schlechtwetter im WienZimmer
URL:https://wienzimmer.fsw.at/event/kinderfreunde-wien-offene-kinder-jugendarbeit-3/2025-07-04/
CATEGORIES:Kinder und Jugendliche
END:VEVENT
BEGIN:VEVENT
DTSTART;TZID=Europe/Vienna:20250705T103000
DTEND;TZID=Europe/Vienna:20250705T120000
DTSTAMP:20260422T180610
CREATED:20250625T122046Z
LAST-MODIFIED:20250625T122046Z
UID:10004105-1751711400-1751716800@wienzimmer.fsw.at
SUMMARY:sowieso! Tanzworkshop für Kinder und Jugendliche mit unterschiedlichen Fähigkeiten
DESCRIPTION:(Kinder mit und ohne Behinderung\, im Alter von 6-10Jahren) \n In den sowieso! Tanzworkshops lernen Kinder (von 6 bis 10 J.) mit unterschiedlichen Fähigkeiten auf spielerische Art ihren Körper als kreatives\, rhythmisches und kunstvolles Ausdrucksmedium kennen. Dabei werden Improvisation und individuelle Bewegungsgestaltung großgeschrieben.  \nGemütliche Kleidung mitnehmen und los geht‘s! \nAb sofort könnt ihr euch/eure Kinder anmelden bei:\nMichael Baumgartner; 0664 9231818 (telefonisch oder per SMS) \n*Bitte den vollen Namen sowie Geburtsjahr des Kindes mitteilen. Auch zusätzliche Informationen wie Interessen\, Musikgeschmack usw. sind herzlich willkommen.
URL:https://wienzimmer.fsw.at/event/sowieso-tanzworkshop-fuer-kinder-und-jugendliche-mit-unterschiedlichen-faehigkeiten/
CATEGORIES:Kinder und Jugendliche
ATTACH;FMTTYPE=image/png:https://wienzimmer.fsw.at/wp-content/uploads/2023/11/Tanzen.png
END:VEVENT
BEGIN:VEVENT
DTSTART;TZID=Europe/Vienna:20250708T080000
DTEND;TZID=Europe/Vienna:20250708T100000
DTSTAMP:20260422T180610
CREATED:20241127T134110Z
LAST-MODIFIED:20250625T114952Z
UID:10004072-1751961600-1751968800@wienzimmer.fsw.at
SUMMARY:Elterncafé im WienZimmer
DESCRIPTION:Austausch und Beratung für alle Eltern\nBabies und Kleinkinder können mitgebracht werden\nim Festsaal
URL:https://wienzimmer.fsw.at/event/elterncafe-im-wienzimmer-4/2025-07-08/
LOCATION:WienZimmer\, Karl-Seitz-Hof - Jedleseer Str. 66-94/Ecke Jedleseer Straße und Dunantgasse\, Wien\, 1210\, Österreich
END:VEVENT
BEGIN:VEVENT
DTSTART;TZID=Europe/Vienna:20250708T170000
DTEND;TZID=Europe/Vienna:20250708T200000
DTSTAMP:20260422T180610
CREATED:20250625T122241Z
LAST-MODIFIED:20250625T122241Z
UID:10004106-1751994000-1752004800@wienzimmer.fsw.at
SUMMARY:Tanz mit Franz
DESCRIPTION:mit DJ Franz Haberl\nim Festsaal \n* nur für Erwachsene
URL:https://wienzimmer.fsw.at/event/tanz-mit-franz-4/
ATTACH;FMTTYPE=image/png:https://wienzimmer.fsw.at/wp-content/uploads/2023/11/Tanzen.png
END:VEVENT
BEGIN:VEVENT
DTSTART;TZID=Europe/Vienna:20250709T091500
DTEND;TZID=Europe/Vienna:20250709T101500
DTSTAMP:20260422T180610
CREATED:20250326T145010Z
LAST-MODIFIED:20250625T122341Z
UID:10004107-1752052500-1752056100@wienzimmer.fsw.at
SUMMARY:Yoga mit Sophie – für Senior:innen
DESCRIPTION:im kleinen Seminarraum (1. Stock)
URL:https://wienzimmer.fsw.at/event/yoga-mit-sophie-fuer-seniorinnen-2/2025-07-09/
END:VEVENT
BEGIN:VEVENT
DTSTART;TZID=Europe/Vienna:20250709T100000
DTEND;TZID=Europe/Vienna:20250709T120000
DTSTAMP:20260422T180610
CREATED:20250422T111725Z
LAST-MODIFIED:20250625T123020Z
UID:10004088-1752055200-1752062400@wienzimmer.fsw.at
SUMMARY:offene Aquarell-Malrunde  - selbstorganisiert
DESCRIPTION:– selbstorganisiert\nkleiner Seminarraum (1. Stock)
URL:https://wienzimmer.fsw.at/event/offene-aquarell-malrunde-selbstorganisiert-2/2025-07-09/
ATTACH;FMTTYPE=image/png:https://wienzimmer.fsw.at/wp-content/uploads/2023/11/Malen.png
END:VEVENT
BEGIN:VEVENT
DTSTART;TZID=Europe/Vienna:20250709T104000
DTEND;TZID=Europe/Vienna:20250709T114500
DTSTAMP:20260422T180610
CREATED:20250326T144820Z
LAST-MODIFIED:20250625T122455Z
UID:10004111-1752057600-1752061500@wienzimmer.fsw.at
SUMMARY:Yoga mit Sophie – Yoga für Anfänger:innen
DESCRIPTION:im kleinen Seminarraum (1. Stock)
URL:https://wienzimmer.fsw.at/event/yoga-mit-sophie-yoga-fuer-anfaengerinnen-2/2025-07-09/
END:VEVENT
BEGIN:VEVENT
DTSTART;TZID=Europe/Vienna:20250709T133000
DTEND;TZID=Europe/Vienna:20250709T190000
DTSTAMP:20260422T180610
CREATED:20250625T115745Z
LAST-MODIFIED:20250625T115958Z
UID:10004090-1752067800-1752087600@wienzimmer.fsw.at
SUMMARY:Kinderfreunde Wien – offene Kinder- & Jugendarbeit
DESCRIPTION:für Kinder von 6-12Jahre\nbei Schönwetter draußen im Freiligrathpark /  bei Schlechtwetter im WienZimmer \n 
URL:https://wienzimmer.fsw.at/event/kinderfreunde-wien-offene-kinder-jugendarbeit-5/2025-07-09/
CATEGORIES:Kinder und Jugendliche
END:VEVENT
BEGIN:VEVENT
DTSTART;TZID=Europe/Vienna:20250710T100000
DTEND;TZID=Europe/Vienna:20250710T110000
DTSTAMP:20260422T180610
CREATED:20250625T120054Z
LAST-MODIFIED:20250625T120148Z
UID:10004093-1752141600-1752145200@wienzimmer.fsw.at
SUMMARY:Krafttraining mit Bernd – für ältere Menschen und alle die mitmachen wollen
DESCRIPTION:kleiner Keller
URL:https://wienzimmer.fsw.at/event/krafttraining-mit-bernd-fuer-aeltere-menschen-und-alle-die-mitmachen-wollen-2/2025-07-10/
ATTACH;FMTTYPE=image/png:https://wienzimmer.fsw.at/wp-content/uploads/2023/11/Fitness.png
END:VEVENT
BEGIN:VEVENT
DTSTART;TZID=Europe/Vienna:20250710T133000
DTEND;TZID=Europe/Vienna:20250710T200000
DTSTAMP:20260422T180610
CREATED:20250422T113629Z
LAST-MODIFIED:20250625T120300Z
UID:10004096-1752154200-1752177600@wienzimmer.fsw.at
SUMMARY:Kinderfreunde Wien – offene Kinder- & Jugendarbeit
DESCRIPTION:bei Schönwetter draußen im Innenhof des Karl-Seitz-Hofs (beim Spielplatz)/ bei Schlechtwetter im WienZimmer
URL:https://wienzimmer.fsw.at/event/kinderfreunde-wien-offene-kinder-jugendarbeit-4/2025-07-10/
END:VEVENT
BEGIN:VEVENT
DTSTART;TZID=Europe/Vienna:20250710T140000
DTEND;TZID=Europe/Vienna:20250710T160000
DTSTAMP:20260422T180610
CREATED:20250326T150703Z
LAST-MODIFIED:20251022T083833Z
UID:10004099-1752156000-1752163200@wienzimmer.fsw.at
SUMMARY:Handarbeitsstammtisch – selbstorganisiert aus der Nachbarschaft
DESCRIPTION:im Festsaal
URL:https://wienzimmer.fsw.at/event/handarbeitsstammtisch-selbstorganisiert-aus-der-nachbarschaft/2025-07-10/
END:VEVENT
BEGIN:VEVENT
DTSTART;TZID=Europe/Vienna:20250710T170000
DTEND;TZID=Europe/Vienna:20250710T200000
DTSTAMP:20260422T180610
CREATED:20250625T122759Z
LAST-MODIFIED:20250625T122759Z
UID:10004115-1752166800-1752177600@wienzimmer.fsw.at
SUMMARY:Gruppentherapie: Psychodrama
DESCRIPTION:im kleinen Seminarraum (1. Stock) \nHilfe bei Angst\, bei Depression und anderen Schwierigkeiten. Gruppenpsychotherapie mit der Methode Psychodrama. \nAb 17.15 – 20.00 Uhr\, mit Pause \nOhne Kosten bei Vorlage einer ärztlichen Überweisung zur Psychotherapie. \nFür die Anmeldung und mehr Information: Michael Josef Seiss\, MMSc. unter 0699-11133441. praxis@michaeljosefseiss.at
URL:https://wienzimmer.fsw.at/event/gruppentherapie-psychodrama-26/
LOCATION:WienZimmer\, Karl-Seitz-Hof - Jedleseer Str. 66-94/Ecke Jedleseer Straße und Dunantgasse\, Wien\, 1210\, Österreich
CATEGORIES:Sonstiges
ATTACH;FMTTYPE=image/png:https://wienzimmer.fsw.at/wp-content/uploads/2023/11/Gruppentherapie.png
END:VEVENT
BEGIN:VEVENT
DTSTART;TZID=Europe/Vienna:20250711T133000
DTEND;TZID=Europe/Vienna:20250711T200000
DTSTAMP:20260422T180610
CREATED:20250422T105320Z
LAST-MODIFIED:20250625T121423Z
UID:10004103-1752240600-1752264000@wienzimmer.fsw.at
SUMMARY:Kinderfreunde Wien – offene Kinder- & Jugendarbeit
DESCRIPTION:bei Schönwetter draußen im Robinsonpark / bei Schlechtwetter im WienZimmer
URL:https://wienzimmer.fsw.at/event/kinderfreunde-wien-offene-kinder-jugendarbeit-3/2025-07-11/
CATEGORIES:Kinder und Jugendliche
END:VEVENT
BEGIN:VEVENT
DTSTART;TZID=Europe/Vienna:20250711T163000
DTEND;TZID=Europe/Vienna:20250711T180000
DTSTAMP:20260422T180610
CREATED:20250625T122901Z
LAST-MODIFIED:20250625T122901Z
UID:10004117-1752251400-1752256800@wienzimmer.fsw.at
SUMMARY:zoom mobil: Alles Gips! (Gipsbinden)
DESCRIPTION:im Keller \nSkulpturen aus Gips wachsen beim zoom mobil „Alles Gips“ Workshop in alle Richtungen. Mit Draht und jeder Menge Gipsbinden erwecken wir die dabei entstehenden Gebilde zum Leben.\nDie Kinder experimentieren mit dem Material Gips\, gestalten damit fantasievolle Figuren\, Landschaften oder Skulpturen und spüren mit den eigenen Händen\, wie aus Flüssigem schnell Festes\, aus Weichem etwas Hartes wird. Und all das mitunter kunterbunt! \nAnmeldung unter:\nEmail. wienzimmer@fsw.at Betreff: Alles Gips!\nTel. +43 676 8289 40055\noder persönlich zu den Öffnungszeiten (Di-Fr 10.00 bis 17.00Uhr) im WienZimmer
URL:https://wienzimmer.fsw.at/event/zoom-mobil-alles-gips-gipsbinden/
CATEGORIES:Kinder und Jugendliche
END:VEVENT
BEGIN:VEVENT
DTSTART;TZID=Europe/Vienna:20250714T100000
DTEND;TZID=Europe/Vienna:20250714T130000
DTSTAMP:20260422T180610
CREATED:20250625T124217Z
LAST-MODIFIED:20250625T124224Z
UID:10004119-1752487200-1752498000@wienzimmer.fsw.at
SUMMARY:KlimaLabor Kochwoche
DESCRIPTION:Tagesthema: Artenvielfalt & Regionalität\nin der Küche\n\nGemeinsam erkunden wir verschiedene regionale und saisonale Produkte – von Gemüse\, über Reis\, bis hin zum Saft – und richten unseren Fokus dabei auf Artenvielfalt\, Saisonalität und Regionalität. Wir schauen uns an\, was in Wien und Umgebung an essbaren Zutaten produziert wird\, wie unterschiedlich verschiedene Sorten vom Gleichen schmecken können und wie vielfältig und abwechslungsreich man diese Zutaten kulinarisch verarbeiten kann.\nGemeinsam bereiten wir verschiedene Dips und einfaches FingerFood zu und tasten uns bei einer Blindverkostung an verschiedene Geschmackserlebnisse heran. \nUm 12.30Uhr wird dann gemeinsam mit der Gruppe zu Mittag gegessen. \n* Es wird immer auch etwas Vegane/Vegetarisches geben \nAnmeldung unter:\nEmail. wienzimmer@fsw.at Betreff: regional/saisonal\nTel. +43 676 8289 40055\noder persönlich zu den Öffnungszeiten (Di-Fr 10.00 bis 17.00Uhr) im WienZimmer
URL:https://wienzimmer.fsw.at/event/wzi-klimalabor-kochwoche/
END:VEVENT
BEGIN:VEVENT
DTSTART;TZID=Europe/Vienna:20250715T080000
DTEND;TZID=Europe/Vienna:20250715T100000
DTSTAMP:20260422T180610
CREATED:20241127T134110Z
LAST-MODIFIED:20250625T114952Z
UID:10004073-1752566400-1752573600@wienzimmer.fsw.at
SUMMARY:Elterncafé im WienZimmer
DESCRIPTION:Austausch und Beratung für alle Eltern\nBabies und Kleinkinder können mitgebracht werden\nim Festsaal
URL:https://wienzimmer.fsw.at/event/elterncafe-im-wienzimmer-4/2025-07-15/
LOCATION:WienZimmer\, Karl-Seitz-Hof - Jedleseer Str. 66-94/Ecke Jedleseer Straße und Dunantgasse\, Wien\, 1210\, Österreich
END:VEVENT
BEGIN:VEVENT
DTSTART;TZID=Europe/Vienna:20250715T100000
DTEND;TZID=Europe/Vienna:20250715T130000
DTSTAMP:20260422T180610
CREATED:20250625T124252Z
LAST-MODIFIED:20250625T124252Z
UID:10004120-1752573600-1752584400@wienzimmer.fsw.at
SUMMARY:KlimaLabor Kochwoche
DESCRIPTION:Tagesthema: Einkochen & haltbar machen\nin der Küche\n\nGemeinsam widmen wir uns dem Verkosten\, sowie dem Einkochen und haltbar machen von Gemüse und Obst in Form von Marmelade\, Kompott\, Sirup\, Wasserkefir\, Kombucha\, Salzgurken\, Kimchi\, Turşu etc. Wir erkunden und vergleichen Produkte aus verschiedenen Kulturkreisen und bereiten eine Auswahl dieser dann vor Ort zu. \nUm 12.30Uhr wird dann gemeinsam mit der Gruppe zu Mittag gegessen. \n* Es wird immer auch etwas Vegane/Vegetarisches geben \nAnmeldung unter:\nEmail. wienzimmer@fsw.at Betreff: Einkochen\nTel. +43 676 8289 40055\noder persönlich zu den Öffnungszeiten (Di-Fr 10.00 bis 17.00Uhr) im WienZimmer
URL:https://wienzimmer.fsw.at/event/klimalabor-kochwoche/
END:VEVENT
BEGIN:VEVENT
DTSTART;TZID=Europe/Vienna:20250716T091500
DTEND;TZID=Europe/Vienna:20250716T101500
DTSTAMP:20260422T180610
CREATED:20250326T145010Z
LAST-MODIFIED:20250625T122341Z
UID:10004108-1752657300-1752660900@wienzimmer.fsw.at
SUMMARY:Yoga mit Sophie – für Senior:innen
DESCRIPTION:im kleinen Seminarraum (1. Stock)
URL:https://wienzimmer.fsw.at/event/yoga-mit-sophie-fuer-seniorinnen-2/2025-07-16/
END:VEVENT
BEGIN:VEVENT
DTSTART;TZID=Europe/Vienna:20250716T100000
DTEND;TZID=Europe/Vienna:20250716T120000
DTSTAMP:20260422T180610
CREATED:20250422T111725Z
LAST-MODIFIED:20250625T123020Z
UID:10004118-1752660000-1752667200@wienzimmer.fsw.at
SUMMARY:offene Aquarell-Malrunde  - selbstorganisiert
DESCRIPTION:– selbstorganisiert\nkleiner Seminarraum (1. Stock)
URL:https://wienzimmer.fsw.at/event/offene-aquarell-malrunde-selbstorganisiert-2/2025-07-16/
ATTACH;FMTTYPE=image/png:https://wienzimmer.fsw.at/wp-content/uploads/2023/11/Malen.png
END:VEVENT
BEGIN:VEVENT
DTSTART;TZID=Europe/Vienna:20250716T100000
DTEND;TZID=Europe/Vienna:20250716T130000
DTSTAMP:20260422T180610
CREATED:20250625T124320Z
LAST-MODIFIED:20250625T124320Z
UID:10004121-1752660000-1752670800@wienzimmer.fsw.at
SUMMARY:KlimaLabor Kochwoche
DESCRIPTION:Tagesthema: Kitchen Impossible (1)\nin der Küche\n\nAn diesem Tag treten 2 Teams „gegeneinander“ an. Das erste Team kocht ein Originalrezept das zweite Team kocht dieses Rezept mit möglichst (nur) österreichischen Zutaten nach und versucht sich so gut es geht geschmacklich\, dem Originalrezept anzunähern. \nUm 12.30Uhr wird dann gemeinsam mit der Gruppe zu Mittag gegessen und beide Gerichte verglichen! \n* Es wird immer auch etwas Vegane/Vegetarisches geben \nAnmeldung unter:\nEmail. wienzimmer@fsw.at Betreff: Kitchen Impossible 1\nTel. +43 676 8289 40055\noder persönlich zu den Öffnungszeiten (Di-Fr 10.00 bis 17.00Uhr) im WienZimmer
URL:https://wienzimmer.fsw.at/event/klimalabor-kochwoche-2/
END:VEVENT
BEGIN:VEVENT
DTSTART;TZID=Europe/Vienna:20250716T104000
DTEND;TZID=Europe/Vienna:20250716T114500
DTSTAMP:20260422T180610
CREATED:20250326T144820Z
LAST-MODIFIED:20250625T122455Z
UID:10004112-1752662400-1752666300@wienzimmer.fsw.at
SUMMARY:Yoga mit Sophie – Yoga für Anfänger:innen
DESCRIPTION:im kleinen Seminarraum (1. Stock)
URL:https://wienzimmer.fsw.at/event/yoga-mit-sophie-yoga-fuer-anfaengerinnen-2/2025-07-16/
END:VEVENT
BEGIN:VEVENT
DTSTART;TZID=Europe/Vienna:20250716T133000
DTEND;TZID=Europe/Vienna:20250716T190000
DTSTAMP:20260422T180610
CREATED:20250625T115745Z
LAST-MODIFIED:20250625T115958Z
UID:10004091-1752672600-1752692400@wienzimmer.fsw.at
SUMMARY:Kinderfreunde Wien – offene Kinder- & Jugendarbeit
DESCRIPTION:für Kinder von 6-12Jahre\nbei Schönwetter draußen im Freiligrathpark /  bei Schlechtwetter im WienZimmer \n 
URL:https://wienzimmer.fsw.at/event/kinderfreunde-wien-offene-kinder-jugendarbeit-5/2025-07-16/
CATEGORIES:Kinder und Jugendliche
END:VEVENT
END:VCALENDAR