BEGIN:VCALENDAR
VERSION:2.0
PRODID:-//Wien Zimmer - ECPv6.15.17.1//NONSGML v1.0//EN
CALSCALE:GREGORIAN
METHOD:PUBLISH
X-WR-CALNAME:Wien Zimmer
X-ORIGINAL-URL:https://wienzimmer.fsw.at
X-WR-CALDESC:Veranstaltungen für Wien Zimmer
REFRESH-INTERVAL;VALUE=DURATION:PT1H
X-Robots-Tag:noindex
X-PUBLISHED-TTL:PT1H
BEGIN:VTIMEZONE
TZID:Europe/Vienna
BEGIN:DAYLIGHT
TZOFFSETFROM:+0100
TZOFFSETTO:+0200
TZNAME:CEST
DTSTART:20240331T010000
END:DAYLIGHT
BEGIN:STANDARD
TZOFFSETFROM:+0200
TZOFFSETTO:+0100
TZNAME:CET
DTSTART:20241027T010000
END:STANDARD
BEGIN:DAYLIGHT
TZOFFSETFROM:+0100
TZOFFSETTO:+0200
TZNAME:CEST
DTSTART:20250330T010000
END:DAYLIGHT
BEGIN:STANDARD
TZOFFSETFROM:+0200
TZOFFSETTO:+0100
TZNAME:CET
DTSTART:20251026T010000
END:STANDARD
BEGIN:DAYLIGHT
TZOFFSETFROM:+0100
TZOFFSETTO:+0200
TZNAME:CEST
DTSTART:20260329T010000
END:DAYLIGHT
BEGIN:STANDARD
TZOFFSETFROM:+0200
TZOFFSETTO:+0100
TZNAME:CET
DTSTART:20261025T010000
END:STANDARD
END:VTIMEZONE
BEGIN:VEVENT
DTSTART;TZID=Europe/Vienna:20250501T130000
DTEND;TZID=Europe/Vienna:20250501T134500
DTSTAMP:20260422T231154
CREATED:20250326T140917Z
LAST-MODIFIED:20250528T104753Z
UID:10003763-1746104400-1746107100@wienzimmer.fsw.at
SUMMARY:Leseratten Club
DESCRIPTION:gemeinsames interaktives Vorlesen für Kinder (auf Deutsch und Arabisch)\nim kleinen Seminarraum
URL:https://wienzimmer.fsw.at/event/leseratten-club/2025-05-01/
CATEGORIES:Kinder und Jugendliche
END:VEVENT
BEGIN:VEVENT
DTSTART;TZID=Europe/Vienna:20250502T133000
DTEND;TZID=Europe/Vienna:20250502T200000
DTSTAMP:20260422T231154
CREATED:20250422T105320Z
LAST-MODIFIED:20250625T121423Z
UID:10003753-1746192600-1746216000@wienzimmer.fsw.at
SUMMARY:Kinderfreunde Wien – offene Kinder- & Jugendarbeit
DESCRIPTION:bei Schönwetter draußen im Robinsonpark / bei Schlechtwetter im WienZimmer
URL:https://wienzimmer.fsw.at/event/kinderfreunde-wien-offene-kinder-jugendarbeit-3/2025-05-02/
CATEGORIES:Kinder und Jugendliche
END:VEVENT
BEGIN:VEVENT
DTSTART;TZID=Europe/Vienna:20250502T160000
DTEND;TZID=Europe/Vienna:20250502T170000
DTSTAMP:20260422T231154
CREATED:20250401T085745Z
LAST-MODIFIED:20250422T105623Z
UID:10003754-1746201600-1746205200@wienzimmer.fsw.at
SUMMARY:HobbyLobby-Kurs Musik & Singen
DESCRIPTION:im kleinen Seminarraum
URL:https://wienzimmer.fsw.at/event/hobbylobby-kurs-musik-singen/2025-05-02/
CATEGORIES:Kinder und Jugendliche
ATTACH;FMTTYPE=image/png:https://wienzimmer.fsw.at/wp-content/uploads/2024/04/musik_singen.png
END:VEVENT
BEGIN:VEVENT
DTSTART;TZID=Europe/Vienna:20250502T160000
DTEND;TZID=Europe/Vienna:20250502T170000
DTSTAMP:20260422T231154
CREATED:20250401T085927Z
LAST-MODIFIED:20250422T105749Z
UID:10003647-1746201600-1746205200@wienzimmer.fsw.at
SUMMARY:HobbyLobby Kurs Taekwondo
DESCRIPTION:im Keller
URL:https://wienzimmer.fsw.at/event/hobbylobby-kurs-taekwondo/2025-05-02/
CATEGORIES:Kinder und Jugendliche
ATTACH;FMTTYPE=image/png:https://wienzimmer.fsw.at/wp-content/uploads/2024/04/kampfsport.png
END:VEVENT
BEGIN:VEVENT
DTSTART;TZID=Europe/Vienna:20250502T170000
DTEND;TZID=Europe/Vienna:20250502T180000
DTSTAMP:20260422T231154
CREATED:20250401T090108Z
LAST-MODIFIED:20250422T105917Z
UID:10003699-1746205200-1746208800@wienzimmer.fsw.at
SUMMARY:HobbyLobby-Kurs Experimente
DESCRIPTION:im Keller
URL:https://wienzimmer.fsw.at/event/hobbylobby-kurs-experimente/2025-05-02/
ATTACH;FMTTYPE=image/png:https://wienzimmer.fsw.at/wp-content/uploads/2024/10/WienZimmer_Veranstaltungskalender-Experimente.png
END:VEVENT
BEGIN:VEVENT
DTSTART;TZID=Europe/Vienna:20250506T080000
DTEND;TZID=Europe/Vienna:20250506T100000
DTSTAMP:20260422T231154
CREATED:20241127T134110Z
LAST-MODIFIED:20250625T114952Z
UID:10003759-1746518400-1746525600@wienzimmer.fsw.at
SUMMARY:Elterncafé im WienZimmer
DESCRIPTION:Austausch und Beratung für alle Eltern\nBabies und Kleinkinder können mitgebracht werden\nim Festsaal
URL:https://wienzimmer.fsw.at/event/elterncafe-im-wienzimmer-4/2025-05-06/
LOCATION:WienZimmer\, Karl-Seitz-Hof - Jedleseer Str. 66-94/Ecke Jedleseer Straße und Dunantgasse\, Wien\, 1210\, Österreich
END:VEVENT
BEGIN:VEVENT
DTSTART;TZID=Europe/Vienna:20250506T130000
DTEND;TZID=Europe/Vienna:20250506T134500
DTSTAMP:20260422T231154
CREATED:20250326T140917Z
LAST-MODIFIED:20250528T104753Z
UID:10003764-1746536400-1746539100@wienzimmer.fsw.at
SUMMARY:Leseratten Club
DESCRIPTION:gemeinsames interaktives Vorlesen für Kinder (auf Deutsch und Arabisch)\nim kleinen Seminarraum
URL:https://wienzimmer.fsw.at/event/leseratten-club/2025-05-06/
CATEGORIES:Kinder und Jugendliche
END:VEVENT
BEGIN:VEVENT
DTSTART;TZID=Europe/Vienna:20250506T140000
DTEND;TZID=Europe/Vienna:20250506T160000
DTSTAMP:20260422T231154
CREATED:20250402T075012Z
LAST-MODIFIED:20250528T083034Z
UID:10003771-1746540000-1746547200@wienzimmer.fsw.at
SUMMARY:Hausaufgabenbegleitung
DESCRIPTION:Hausaufgabenbegleitung mit rettet das Kind Österreich\nim Souterrain (Keller)
URL:https://wienzimmer.fsw.at/event/hausaufgabenbegleitung-3-2/2025-05-06/
LOCATION:WienZimmer\, Karl-Seitz-Hof - Jedleseer Str. 66-94/Ecke Jedleseer Straße und Dunantgasse\, Wien\, 1210\, Österreich
CATEGORIES:Kinder und Jugendliche
ATTACH;FMTTYPE=image/png:https://wienzimmer.fsw.at/wp-content/uploads/2023/11/Hausaufgaben.png
END:VEVENT
BEGIN:VEVENT
DTSTART;TZID=Europe/Vienna:20250506T163000
DTEND;TZID=Europe/Vienna:20250506T173000
DTSTAMP:20260422T231154
CREATED:20250326T143658Z
LAST-MODIFIED:20250528T083226Z
UID:10003775-1746549000-1746552600@wienzimmer.fsw.at
SUMMARY:HobbyLobby-Kurs Nachhilfe
DESCRIPTION:im kleinen Seminarraum
URL:https://wienzimmer.fsw.at/event/hobbylobby-kurs-nachhilfe/2025-05-06/
CATEGORIES:Kinder und Jugendliche
ATTACH;FMTTYPE=image/png:https://wienzimmer.fsw.at/wp-content/uploads/2023/11/Hausaufgaben.png
END:VEVENT
BEGIN:VEVENT
DTSTART;TZID=Europe/Vienna:20250506T163000
DTEND;TZID=Europe/Vienna:20250506T173000
DTSTAMP:20260422T231154
CREATED:20250326T143928Z
LAST-MODIFIED:20250528T083340Z
UID:10003779-1746549000-1746552600@wienzimmer.fsw.at
SUMMARY:HobbyLobby-Kurs Kreativwerkstatt (KlimaLabor)
DESCRIPTION:im Keller
URL:https://wienzimmer.fsw.at/event/hobbylobby-kurs-kreativwerkstatt-klimalabor/2025-05-06/
CATEGORIES:Kinder und Jugendliche
END:VEVENT
BEGIN:VEVENT
DTSTART;TZID=Europe/Vienna:20250506T173000
DTEND;TZID=Europe/Vienna:20250506T183000
DTSTAMP:20260422T231154
CREATED:20250326T144339Z
LAST-MODIFIED:20250528T083424Z
UID:10003786-1746552600-1746556200@wienzimmer.fsw.at
SUMMARY:HobbyLobby-Kurs Malen & Zeichnen
DESCRIPTION:im Keller
URL:https://wienzimmer.fsw.at/event/hobbylobby-kurs-malen-zeichnen/2025-05-06/
CATEGORIES:Kinder und Jugendliche
ATTACH;FMTTYPE=image/png:https://wienzimmer.fsw.at/wp-content/uploads/2023/11/Malen.png
END:VEVENT
BEGIN:VEVENT
DTSTART;TZID=Europe/Vienna:20250506T180000
DTEND;TZID=Europe/Vienna:20250506T200000
DTSTAMP:20260422T231154
CREATED:20250326T144457Z
LAST-MODIFIED:20250528T083522Z
UID:10003787-1746554400-1746561600@wienzimmer.fsw.at
SUMMARY:Bauchtanzkurs
DESCRIPTION:kostenlos – mit Brigitte Komarek\nimmer Dienstag\, im April und Mai\nim kleinen Seminarraum\nAnmeldung per Mail unter:  wienzimmer@fsw.at Betreff: Bauchtanz\,\ntelefonisch unter: +43 676  8289 40055 oder persönlich im WienZimmer
URL:https://wienzimmer.fsw.at/event/bauchtanzkurs/2025-05-06/
END:VEVENT
BEGIN:VEVENT
DTSTART;TZID=Europe/Vienna:20250507T091500
DTEND;TZID=Europe/Vienna:20250507T101500
DTSTAMP:20260422T231154
CREATED:20250326T145010Z
LAST-MODIFIED:20250625T122341Z
UID:10003791-1746609300-1746612900@wienzimmer.fsw.at
SUMMARY:Yoga mit Sophie – für Senior:innen
DESCRIPTION:im kleinen Seminarraum (1. Stock)
URL:https://wienzimmer.fsw.at/event/yoga-mit-sophie-fuer-seniorinnen-2/2025-05-07/
END:VEVENT
BEGIN:VEVENT
DTSTART;TZID=Europe/Vienna:20250507T100000
DTEND;TZID=Europe/Vienna:20250507T120000
DTSTAMP:20260422T231154
CREATED:20250422T111725Z
LAST-MODIFIED:20250625T123020Z
UID:10003804-1746612000-1746619200@wienzimmer.fsw.at
SUMMARY:offene Aquarell-Malrunde  - selbstorganisiert
DESCRIPTION:– selbstorganisiert\nkleiner Seminarraum (1. Stock)
URL:https://wienzimmer.fsw.at/event/offene-aquarell-malrunde-selbstorganisiert-2/2025-05-07/
ATTACH;FMTTYPE=image/png:https://wienzimmer.fsw.at/wp-content/uploads/2023/11/Malen.png
END:VEVENT
BEGIN:VEVENT
DTSTART;TZID=Europe/Vienna:20250507T104000
DTEND;TZID=Europe/Vienna:20250507T114500
DTSTAMP:20260422T231154
CREATED:20250326T144820Z
LAST-MODIFIED:20250625T122455Z
UID:10003795-1746614400-1746618300@wienzimmer.fsw.at
SUMMARY:Yoga mit Sophie – Yoga für Anfänger:innen
DESCRIPTION:im kleinen Seminarraum (1. Stock)
URL:https://wienzimmer.fsw.at/event/yoga-mit-sophie-yoga-fuer-anfaengerinnen-2/2025-05-07/
END:VEVENT
BEGIN:VEVENT
DTSTART;TZID=Europe/Vienna:20250507T133000
DTEND;TZID=Europe/Vienna:20250507T190000
DTSTAMP:20260422T231154
CREATED:20250326T145450Z
LAST-MODIFIED:20250528T084729Z
UID:10003812-1746624600-1746644400@wienzimmer.fsw.at
SUMMARY:Kinderfreunde Wien – offene Kinder- & Jugendarbeit
DESCRIPTION:für Kinder von 6-12Jahre\nim WienZimmer
URL:https://wienzimmer.fsw.at/event/kinderfreunde-wien-offene-kinder-jugendarbeit/2025-05-07/
CATEGORIES:Kinder und Jugendliche
END:VEVENT
BEGIN:VEVENT
DTSTART;TZID=Europe/Vienna:20250507T153000
DTEND;TZID=Europe/Vienna:20250507T163000
DTSTAMP:20260422T231154
CREATED:20250326T145816Z
LAST-MODIFIED:20250528T084933Z
UID:10003816-1746631800-1746635400@wienzimmer.fsw.at
SUMMARY:HobbyLobby-Kurs Anime & Manga
DESCRIPTION:15.30-16.30 Uhr\nHobbyLobby-Kurs Anime & Manga\nim kleinen Seminarraum
URL:https://wienzimmer.fsw.at/event/hobbylobby-kurs-anime-manga/2025-05-07/
CATEGORIES:Kinder und Jugendliche
ATTACH;FMTTYPE=image/png:https://wienzimmer.fsw.at/wp-content/uploads/2024/10/WienZimmer_Veranstaltungskalender-Anime.png
END:VEVENT
BEGIN:VEVENT
DTSTART;TZID=Europe/Vienna:20250507T160000
DTEND;TZID=Europe/Vienna:20250507T173000
DTSTAMP:20260422T231154
CREATED:20250422T112418Z
LAST-MODIFIED:20250422T112418Z
UID:10003820-1746633600-1746639000@wienzimmer.fsw.at
SUMMARY:s’Plaudertischerl – Einfach ins Gespräch kommen
DESCRIPTION:im Festsall (Hochparterre) \nEin kurzer Plausch über das Wetter oder eine längere Unterhaltung – regelmäßig am ersten Mittwoch im Monat kommen am Plaudertischerl in Wiener Kaffeehäusern und Nachbarschaftszentren Menschen auf einfachem Wege mit anderen ins Gespräch. \nwww.plaudertischerl.at
URL:https://wienzimmer.fsw.at/event/splaudertischerl-einfach-ins-gespraech-kommen-16/
LOCATION:WienZimmer\, Karl-Seitz-Hof - Jedleseer Str. 66-94/Ecke Jedleseer Straße und Dunantgasse\, Wien\, 1210\, Österreich
CATEGORIES:Sonstiges
ATTACH;FMTTYPE=image/png:https://wienzimmer.fsw.at/wp-content/uploads/2023/11/Plaudertischerl.png
END:VEVENT
BEGIN:VEVENT
DTSTART;TZID=Europe/Vienna:20250507T163000
DTEND;TZID=Europe/Vienna:20250507T173000
DTSTAMP:20260422T231154
CREATED:20250326T150122Z
LAST-MODIFIED:20250528T085028Z
UID:10003821-1746635400-1746639000@wienzimmer.fsw.at
SUMMARY:HobbyLobby-Kurs Fitness
DESCRIPTION:im Keller
URL:https://wienzimmer.fsw.at/event/hobbylobby-kurs-fitness/2025-05-07/
CATEGORIES:Kinder und Jugendliche
ATTACH;FMTTYPE=image/png:https://wienzimmer.fsw.at/wp-content/uploads/2023/11/Fitness.png
END:VEVENT
BEGIN:VEVENT
DTSTART;TZID=Europe/Vienna:20250507T170000
DTEND;TZID=Europe/Vienna:20250507T180000
DTSTAMP:20260422T231154
CREATED:20250422T112822Z
LAST-MODIFIED:20250422T112822Z
UID:10003829-1746637200-1746640800@wienzimmer.fsw.at
SUMMARY:offene LineDance Gruppe Schnupperstunde
DESCRIPTION:kleiner Seminarraum (1. Stock)
URL:https://wienzimmer.fsw.at/event/offene-linedance-gruppe-schnupperstunde-2/
END:VEVENT
BEGIN:VEVENT
DTSTART;TZID=Europe/Vienna:20250507T173000
DTEND;TZID=Europe/Vienna:20250507T183000
DTSTAMP:20260422T231154
CREATED:20250326T150343Z
LAST-MODIFIED:20250528T085113Z
UID:10003825-1746639000-1746642600@wienzimmer.fsw.at
SUMMARY:HobbyLobby-Kurs Tanzen
DESCRIPTION:im Keller
URL:https://wienzimmer.fsw.at/event/hobbylobby-kurs-tanzen/2025-05-07/
CATEGORIES:Kinder und Jugendliche
ATTACH;FMTTYPE=image/png:https://wienzimmer.fsw.at/wp-content/uploads/2023/11/Tanzen.png
END:VEVENT
BEGIN:VEVENT
DTSTART;TZID=Europe/Vienna:20250507T180000
DTEND;TZID=Europe/Vienna:20250507T200000
DTSTAMP:20260422T231154
CREATED:20250401T085432Z
LAST-MODIFIED:20250528T085404Z
UID:10003830-1746640800-1746648000@wienzimmer.fsw.at
SUMMARY:LineDance Gruppe
DESCRIPTION:kleiner Seminarraum (1. Stock)
URL:https://wienzimmer.fsw.at/event/linedance-gruppe/2025-05-07/
END:VEVENT
BEGIN:VEVENT
DTSTART;TZID=Europe/Vienna:20250508T100000
DTEND;TZID=Europe/Vienna:20250508T110000
DTSTAMP:20260422T231154
CREATED:20250326T150521Z
LAST-MODIFIED:20250528T085536Z
UID:10003832-1746698400-1746702000@wienzimmer.fsw.at
SUMMARY:Krafttraining mit Bernd – für ältere Menschen und alle die mitmachen wollen
DESCRIPTION:kleiner Seminarraum (1. Stock)
URL:https://wienzimmer.fsw.at/event/krafttraining-mit-bernd-fuer-aeltere-menschen-und-alle-die-mitmachen-wollen/2025-05-08/
ATTACH;FMTTYPE=image/png:https://wienzimmer.fsw.at/wp-content/uploads/2023/11/Fitness.png
END:VEVENT
BEGIN:VEVENT
DTSTART;TZID=Europe/Vienna:20250508T130000
DTEND;TZID=Europe/Vienna:20250508T134500
DTSTAMP:20260422T231154
CREATED:20250326T140917Z
LAST-MODIFIED:20250528T104753Z
UID:10003765-1746709200-1746711900@wienzimmer.fsw.at
SUMMARY:Leseratten Club
DESCRIPTION:gemeinsames interaktives Vorlesen für Kinder (auf Deutsch und Arabisch)\nim kleinen Seminarraum
URL:https://wienzimmer.fsw.at/event/leseratten-club/2025-05-08/
CATEGORIES:Kinder und Jugendliche
END:VEVENT
BEGIN:VEVENT
DTSTART;TZID=Europe/Vienna:20250508T133000
DTEND;TZID=Europe/Vienna:20250508T200000
DTSTAMP:20260422T231154
CREATED:20250422T113629Z
LAST-MODIFIED:20250625T120300Z
UID:10003890-1746711000-1746734400@wienzimmer.fsw.at
SUMMARY:Kinderfreunde Wien – offene Kinder- & Jugendarbeit
DESCRIPTION:bei Schönwetter draußen im Innenhof des Karl-Seitz-Hofs (beim Spielplatz)/ bei Schlechtwetter im WienZimmer
URL:https://wienzimmer.fsw.at/event/kinderfreunde-wien-offene-kinder-jugendarbeit-4/2025-05-08/
END:VEVENT
BEGIN:VEVENT
DTSTART;TZID=Europe/Vienna:20250508T140000
DTEND;TZID=Europe/Vienna:20250508T160000
DTSTAMP:20260422T231154
CREATED:20240919T142709Z
LAST-MODIFIED:20250604T093225Z
UID:10003893-1746712800-1746720000@wienzimmer.fsw.at
SUMMARY:Hausaufgabenbegleitung
DESCRIPTION:Hausaufgabenbegleitung mit rettet das Kind Österreich\nim Souterrain (Keller)
URL:https://wienzimmer.fsw.at/event/hausaufgabenbegleitung-2/2025-05-08/
LOCATION:WienZimmer\, Karl-Seitz-Hof - Jedleseer Str. 66-94/Ecke Jedleseer Straße und Dunantgasse\, Wien\, 1210\, Österreich
CATEGORIES:Kinder und Jugendliche
ATTACH;FMTTYPE=image/png:https://wienzimmer.fsw.at/wp-content/uploads/2023/11/Hausaufgaben.png
END:VEVENT
BEGIN:VEVENT
DTSTART;TZID=Europe/Vienna:20250508T140000
DTEND;TZID=Europe/Vienna:20250508T160000
DTSTAMP:20260422T231154
CREATED:20250326T150703Z
LAST-MODIFIED:20251022T083833Z
UID:10003896-1746712800-1746720000@wienzimmer.fsw.at
SUMMARY:Handarbeitsstammtisch – selbstorganisiert aus der Nachbarschaft
DESCRIPTION:im Festsaal
URL:https://wienzimmer.fsw.at/event/handarbeitsstammtisch-selbstorganisiert-aus-der-nachbarschaft/2025-05-08/
END:VEVENT
BEGIN:VEVENT
DTSTART;TZID=Europe/Vienna:20250508T153000
DTEND;TZID=Europe/Vienna:20250508T163000
DTSTAMP:20260422T231154
CREATED:20250326T150907Z
LAST-MODIFIED:20250604T093441Z
UID:10003899-1746718200-1746721800@wienzimmer.fsw.at
SUMMARY:HobbyLobby-Kurs Schauspielen
DESCRIPTION:im Keller
URL:https://wienzimmer.fsw.at/event/hobbylobby-kurs-schauspielen/2025-05-08/
CATEGORIES:Kinder und Jugendliche
END:VEVENT
BEGIN:VEVENT
DTSTART;TZID=Europe/Vienna:20250508T163000
DTEND;TZID=Europe/Vienna:20250508T173000
DTSTAMP:20260422T231154
CREATED:20250326T151027Z
LAST-MODIFIED:20250604T093523Z
UID:10003902-1746721800-1746725400@wienzimmer.fsw.at
SUMMARY:HobbyLobby-Kurs Fashion Design
DESCRIPTION:im kleinen Seminarraum
URL:https://wienzimmer.fsw.at/event/hobbylobby-kurs-fashion-design/2025-05-08/
CATEGORIES:Kinder und Jugendliche
END:VEVENT
BEGIN:VEVENT
DTSTART;TZID=Europe/Vienna:20250508T173000
DTEND;TZID=Europe/Vienna:20250508T183000
DTSTAMP:20260422T231154
CREATED:20250326T151143Z
LAST-MODIFIED:20250604T093634Z
UID:10003905-1746725400-1746729000@wienzimmer.fsw.at
SUMMARY:HobbyLobby-Kurs Töpfern
DESCRIPTION:im Keller
URL:https://wienzimmer.fsw.at/event/hobbylobby-kurs-toepfern/2025-05-08/
CATEGORIES:Kinder und Jugendliche
ATTACH;FMTTYPE=image/png:https://wienzimmer.fsw.at/wp-content/uploads/2023/11/Toepfern.png
END:VEVENT
END:VCALENDAR