BEGIN:VCALENDAR
VERSION:2.0
PRODID:-//Wien Zimmer - ECPv6.15.17.1//NONSGML v1.0//EN
CALSCALE:GREGORIAN
METHOD:PUBLISH
X-ORIGINAL-URL:https://wienzimmer.fsw.at
X-WR-CALDESC:Veranstaltungen für Wien Zimmer
REFRESH-INTERVAL;VALUE=DURATION:PT1H
X-Robots-Tag:noindex
X-PUBLISHED-TTL:PT1H
BEGIN:VTIMEZONE
TZID:Europe/Vienna
BEGIN:DAYLIGHT
TZOFFSETFROM:+0100
TZOFFSETTO:+0200
TZNAME:CEST
DTSTART:20230326T010000
END:DAYLIGHT
BEGIN:STANDARD
TZOFFSETFROM:+0200
TZOFFSETTO:+0100
TZNAME:CET
DTSTART:20231029T010000
END:STANDARD
BEGIN:DAYLIGHT
TZOFFSETFROM:+0100
TZOFFSETTO:+0200
TZNAME:CEST
DTSTART:20240331T010000
END:DAYLIGHT
BEGIN:STANDARD
TZOFFSETFROM:+0200
TZOFFSETTO:+0100
TZNAME:CET
DTSTART:20241027T010000
END:STANDARD
BEGIN:DAYLIGHT
TZOFFSETFROM:+0100
TZOFFSETTO:+0200
TZNAME:CEST
DTSTART:20250330T010000
END:DAYLIGHT
BEGIN:STANDARD
TZOFFSETFROM:+0200
TZOFFSETTO:+0100
TZNAME:CET
DTSTART:20251026T010000
END:STANDARD
END:VTIMEZONE
BEGIN:VEVENT
DTSTART;TZID=Europe/Vienna:20241203T080000
DTEND;TZID=Europe/Vienna:20241203T100000
DTSTAMP:20260423T080924
CREATED:20241127T134110Z
LAST-MODIFIED:20250625T114952Z
UID:10003316-1733212800-1733220000@wienzimmer.fsw.at
SUMMARY:Elterncafé im WienZimmer
DESCRIPTION:Austausch und Beratung für alle Eltern\nBabies und Kleinkinder können mitgebracht werden\nim Festsaal
URL:https://wienzimmer.fsw.at/event/elterncafe-im-wienzimmer-4/2024-12-03/
LOCATION:WienZimmer\, Karl-Seitz-Hof - Jedleseer Str. 66-94/Ecke Jedleseer Straße und Dunantgasse\, Wien\, 1210\, Österreich
END:VEVENT
BEGIN:VEVENT
DTSTART;TZID=Europe/Vienna:20241203T130000
DTEND;TZID=Europe/Vienna:20241203T150000
DTSTAMP:20260423T080924
CREATED:20241127T134340Z
LAST-MODIFIED:20241127T134506Z
UID:10003319-1733230800-1733238000@wienzimmer.fsw.at
SUMMARY:Gesundheitssprechstunde - mit den Community Nurses
DESCRIPTION:im Festsaal
URL:https://wienzimmer.fsw.at/event/gesundheitssprechstunde-mit-den-community-nurses-2/
END:VEVENT
BEGIN:VEVENT
DTSTART;TZID=Europe/Vienna:20241203T160000
DTEND;TZID=Europe/Vienna:20241203T170000
DTSTAMP:20260423T080924
CREATED:20240925T095530Z
LAST-MODIFIED:20241127T134834Z
UID:10003323-1733241600-1733245200@wienzimmer.fsw.at
SUMMARY:Hobby Lobby: Türkisch
DESCRIPTION:im kleinen Seminarraum
URL:https://wienzimmer.fsw.at/event/hobby-lobby-tuerkisch/2024-12-03/
CATEGORIES:Kinder und Jugendliche
ATTACH;FMTTYPE=image/png:https://wienzimmer.fsw.at/wp-content/uploads/2024/04/tuerkisch.png
END:VEVENT
BEGIN:VEVENT
DTSTART;TZID=Europe/Vienna:20241203T163000
DTEND;TZID=Europe/Vienna:20241203T173000
DTSTAMP:20260423T080924
CREATED:20240925T095804Z
LAST-MODIFIED:20241127T134950Z
UID:10003325-1733243400-1733247000@wienzimmer.fsw.at
SUMMARY:Hobby Lobby: Kampfsport
DESCRIPTION:im kleinen Seminarraum (1. Stock)
URL:https://wienzimmer.fsw.at/event/hobby-lobby-kampfsport/2024-12-03/
CATEGORIES:Kinder und Jugendliche
ATTACH;FMTTYPE=image/png:https://wienzimmer.fsw.at/wp-content/uploads/2023/11/Kampfsport.png
END:VEVENT
BEGIN:VEVENT
DTSTART;TZID=Europe/Vienna:20241203T170000
DTEND;TZID=Europe/Vienna:20241203T180000
DTSTAMP:20260423T080924
CREATED:20240925T100105Z
LAST-MODIFIED:20241127T135145Z
UID:10003327-1733245200-1733248800@wienzimmer.fsw.at
SUMMARY:Hobby Lobby: Nähen
DESCRIPTION:im kleinen Seminarraum (1. Stock)
URL:https://wienzimmer.fsw.at/event/hobby-lobby-naehen/2024-12-03/
CATEGORIES:Kinder und Jugendliche
ATTACH;FMTTYPE=image/png:https://wienzimmer.fsw.at/wp-content/uploads/2024/04/naehkurs.png
END:VEVENT
BEGIN:VEVENT
DTSTART;TZID=Europe/Vienna:20241204T091500
DTEND;TZID=Europe/Vienna:20241204T101500
DTSTAMP:20260423T080924
CREATED:20241015T114227Z
LAST-MODIFIED:20250123T142322Z
UID:10003329-1733303700-1733307300@wienzimmer.fsw.at
SUMMARY:Yoga mit Sophie - für Senior:innen
DESCRIPTION:im kleinen Seminarraum (1. Stock)
URL:https://wienzimmer.fsw.at/event/yoga-mit-sophie-fuer-seniorinnen/2024-12-04/
END:VEVENT
BEGIN:VEVENT
DTSTART;TZID=Europe/Vienna:20241204T100000
DTEND;TZID=Europe/Vienna:20241204T120000
DTSTAMP:20260423T080924
CREATED:20241127T135714Z
LAST-MODIFIED:20241127T135714Z
UID:10003334-1733306400-1733313600@wienzimmer.fsw.at
SUMMARY:Sozialsprechstunde
DESCRIPTION:mit den Wiener Sozialdiensten\nim Festsaal (Hochparterre)
URL:https://wienzimmer.fsw.at/event/sozialsprechstunde/
END:VEVENT
BEGIN:VEVENT
DTSTART;TZID=Europe/Vienna:20241204T103000
DTEND;TZID=Europe/Vienna:20241204T120000
DTSTAMP:20260423T080924
CREATED:20241127T140004Z
LAST-MODIFIED:20241218T124303Z
UID:10003337-1733308200-1733313600@wienzimmer.fsw.at
SUMMARY:Offene Aquarellmalrunde
DESCRIPTION:selbstorganisiert \nIm Festsaal (Hochparterre)
URL:https://wienzimmer.fsw.at/event/offene-aquarellmalrunde-5/2024-12-04/
ATTACH;FMTTYPE=image/png:https://wienzimmer.fsw.at/wp-content/uploads/2024/09/WienZimmer_MonatderSeniorinnen-neu.png
END:VEVENT
BEGIN:VEVENT
DTSTART;TZID=Europe/Vienna:20241204T160000
DTEND;TZID=Europe/Vienna:20241204T173000
DTSTAMP:20260423T080924
CREATED:20241127T140134Z
LAST-MODIFIED:20241127T140134Z
UID:10003338-1733328000-1733333400@wienzimmer.fsw.at
SUMMARY:s’Plaudertischerl – mit der Diakonie
DESCRIPTION:im Festsall (Hochparterre) \nEin kurzer Plausch über das Wetter oder eine längere Unterhaltung – regelmäßig am ersten Mittwoch im Monat kommen am Plaudertischerl in Wiener Kaffeehäusern und Nachbarschaftszentren Menschen auf einfachem Wege mit anderen ins Gespräch. \nwww.plaudertischerl.at
URL:https://wienzimmer.fsw.at/event/splaudertischerl-mit-der-diakonie-2/
LOCATION:WienZimmer\, Karl-Seitz-Hof - Jedleseer Str. 66-94/Ecke Jedleseer Straße und Dunantgasse\, Wien\, 1210\, Österreich
CATEGORIES:Sonstiges
ATTACH;FMTTYPE=image/png:https://wienzimmer.fsw.at/wp-content/uploads/2023/11/Plaudertischerl.png
END:VEVENT
BEGIN:VEVENT
DTSTART;TZID=Europe/Vienna:20241204T163000
DTEND;TZID=Europe/Vienna:20241204T173000
DTSTAMP:20260423T080924
CREATED:20240925T100356Z
LAST-MODIFIED:20241127T140251Z
UID:10003339-1733329800-1733333400@wienzimmer.fsw.at
SUMMARY:Hobby Lobby: Fotografie
DESCRIPTION:im kleinen Seminarraum (1. Stock)
URL:https://wienzimmer.fsw.at/event/hobby-lobby-fotografie/2024-12-04/
CATEGORIES:Kinder und Jugendliche
ATTACH;FMTTYPE=image/png:https://wienzimmer.fsw.at/wp-content/uploads/2024/10/WienZimmer_Veranstaltungskalender-Fotografie.png
END:VEVENT
BEGIN:VEVENT
DTSTART;TZID=Europe/Vienna:20241204T170000
DTEND;TZID=Europe/Vienna:20241204T180000
DTSTAMP:20260423T080924
CREATED:20241127T140701Z
LAST-MODIFIED:20241127T140701Z
UID:10003345-1733331600-1733335200@wienzimmer.fsw.at
SUMMARY:Line-Dance Schnupperstunde
DESCRIPTION:kleiner Seminarraum
URL:https://wienzimmer.fsw.at/event/line-dance-schnupperstunde-2/
END:VEVENT
BEGIN:VEVENT
DTSTART;TZID=Europe/Vienna:20241204T173000
DTEND;TZID=Europe/Vienna:20241204T180000
DTSTAMP:20260423T080924
CREATED:20240925T100958Z
LAST-MODIFIED:20241127T140518Z
UID:10003343-1733333400-1733335200@wienzimmer.fsw.at
SUMMARY:Hobby Lobby: Tanzen
DESCRIPTION:im Souterrain (Keller)
URL:https://wienzimmer.fsw.at/event/hobby-lobby-tanzen/2024-12-04/
CATEGORIES:Kinder und Jugendliche
ATTACH;FMTTYPE=image/png:https://wienzimmer.fsw.at/wp-content/uploads/2023/11/Tanzen.png
END:VEVENT
BEGIN:VEVENT
DTSTART;TZID=Europe/Vienna:20241204T173000
DTEND;TZID=Europe/Vienna:20241204T183000
DTSTAMP:20260423T080924
CREATED:20240925T100734Z
LAST-MODIFIED:20241127T140413Z
UID:10003341-1733333400-1733337000@wienzimmer.fsw.at
SUMMARY:Hobby Lobby: Anime und Manga
DESCRIPTION:im Festsaal (Hochparterre)
URL:https://wienzimmer.fsw.at/event/hobby-lobby-anime-und-manga/2024-12-04/
CATEGORIES:Kinder und Jugendliche
ATTACH;FMTTYPE=image/png:https://wienzimmer.fsw.at/wp-content/uploads/2024/10/WienZimmer_Veranstaltungskalender-Anime.png
END:VEVENT
BEGIN:VEVENT
DTSTART;TZID=Europe/Vienna:20241204T180000
DTEND;TZID=Europe/Vienna:20241204T200000
DTSTAMP:20260423T080924
CREATED:20241127T140817Z
LAST-MODIFIED:20241127T140817Z
UID:10003346-1733335200-1733342400@wienzimmer.fsw.at
SUMMARY:Line-Dance Gruppe
DESCRIPTION:kleiner Seminarraum
URL:https://wienzimmer.fsw.at/event/line-dance-gruppe-2/
END:VEVENT
BEGIN:VEVENT
DTSTART;TZID=Europe/Vienna:20241205T100000
DTEND;TZID=Europe/Vienna:20241205T110000
DTSTAMP:20260423T080924
CREATED:20241107T084840Z
LAST-MODIFIED:20250211T104841Z
UID:10003347-1733392800-1733396400@wienzimmer.fsw.at
SUMMARY:Krafttraining mit Bernd - für ältere Menschen und alle\, die mitmachen wollen
DESCRIPTION:im kleinen Seminarsaal
URL:https://wienzimmer.fsw.at/event/krattraining-mit-bernd-fuer-aeltere-menschen-und-alle-die-mitmachen-wollen/2024-12-05/
END:VEVENT
BEGIN:VEVENT
DTSTART;TZID=Europe/Vienna:20241205T140000
DTEND;TZID=Europe/Vienna:20241205T160000
DTSTAMP:20260423T080924
CREATED:20240919T142709Z
LAST-MODIFIED:20250604T093225Z
UID:10003349-1733407200-1733414400@wienzimmer.fsw.at
SUMMARY:Hausaufgabenbegleitung
DESCRIPTION:Hausaufgabenbegleitung mit rettet das Kind Österreich\nim Souterrain (Keller)
URL:https://wienzimmer.fsw.at/event/hausaufgabenbegleitung-2/2024-12-05/
LOCATION:WienZimmer\, Karl-Seitz-Hof - Jedleseer Str. 66-94/Ecke Jedleseer Straße und Dunantgasse\, Wien\, 1210\, Österreich
CATEGORIES:Kinder und Jugendliche
ATTACH;FMTTYPE=image/png:https://wienzimmer.fsw.at/wp-content/uploads/2023/11/Hausaufgaben.png
END:VEVENT
BEGIN:VEVENT
DTSTART;TZID=Europe/Vienna:20241205T153000
DTEND;TZID=Europe/Vienna:20241205T163000
DTSTAMP:20260423T080924
CREATED:20240925T101254Z
LAST-MODIFIED:20241127T141234Z
UID:10003352-1733412600-1733416200@wienzimmer.fsw.at
SUMMARY:Hobby Lobby: Malen & Zeichnen
DESCRIPTION:im Souterrain (Keller)
URL:https://wienzimmer.fsw.at/event/hobby-lobby-malen-zeichnen-4/2024-12-05/
CATEGORIES:Kinder und Jugendliche
ATTACH;FMTTYPE=image/png:https://wienzimmer.fsw.at/wp-content/uploads/2023/11/Malen.png
END:VEVENT
BEGIN:VEVENT
DTSTART;TZID=Europe/Vienna:20241205T163000
DTEND;TZID=Europe/Vienna:20241205T173000
DTSTAMP:20260423T080924
CREATED:20240925T101712Z
LAST-MODIFIED:20241127T141327Z
UID:10003354-1733416200-1733419800@wienzimmer.fsw.at
SUMMARY:Hobby Lobby: Sport & Ballspiele
DESCRIPTION:im Souterrain (Keller)
URL:https://wienzimmer.fsw.at/event/hobby-lobby-sport-ballspiele/2024-12-05/
CATEGORIES:Kinder und Jugendliche
ATTACH;FMTTYPE=image/png:https://wienzimmer.fsw.at/wp-content/uploads/2024/10/WienZimmer_Veranstaltungskalender-Ballspiele.png
END:VEVENT
BEGIN:VEVENT
DTSTART;TZID=Europe/Vienna:20241205T173000
DTEND;TZID=Europe/Vienna:20241205T183000
DTSTAMP:20260423T080924
CREATED:20240925T101904Z
LAST-MODIFIED:20241127T141424Z
UID:10003356-1733419800-1733423400@wienzimmer.fsw.at
SUMMARY:Hobby Lobby: Töpfern
DESCRIPTION:im Souterrain (Keller)
URL:https://wienzimmer.fsw.at/event/hobby-lobby-toepfern/2024-12-05/
CATEGORIES:Kinder und Jugendliche
ATTACH;FMTTYPE=image/png:https://wienzimmer.fsw.at/wp-content/uploads/2023/11/Toepfern.png
END:VEVENT
BEGIN:VEVENT
DTSTART;TZID=Europe/Vienna:20241206T140000
DTEND;TZID=Europe/Vienna:20241206T170000
DTSTAMP:20260423T080924
CREATED:20241127T141547Z
LAST-MODIFIED:20241127T141547Z
UID:10003358-1733493600-1733504400@wienzimmer.fsw.at
SUMMARY:Jugend am Werk: Adventmarkt
DESCRIPTION:im Festsaal
URL:https://wienzimmer.fsw.at/event/jugend-am-werk-adventmarkt/
END:VEVENT
BEGIN:VEVENT
DTSTART;TZID=Europe/Vienna:20241206T150000
DTEND;TZID=Europe/Vienna:20241206T160000
DTSTAMP:20260423T080924
CREATED:20240925T102133Z
LAST-MODIFIED:20241127T141647Z
UID:10003359-1733497200-1733500800@wienzimmer.fsw.at
SUMMARY:Hobby Lobby: Nachhilfe
DESCRIPTION:im kleinen Seminarraum (1. Stock)
URL:https://wienzimmer.fsw.at/event/hobby-lobby-nachhilfe/2024-12-06/
CATEGORIES:Kinder und Jugendliche
ATTACH;FMTTYPE=image/png:https://wienzimmer.fsw.at/wp-content/uploads/2023/11/Hausaufgaben.png
END:VEVENT
BEGIN:VEVENT
DTSTART;TZID=Europe/Vienna:20241206T160000
DTEND;TZID=Europe/Vienna:20241206T170000
DTSTAMP:20260423T080924
CREATED:20241015T123139Z
LAST-MODIFIED:20241127T141736Z
UID:10003361-1733500800-1733504400@wienzimmer.fsw.at
SUMMARY:Hobby Lobby: Musik & Singen
DESCRIPTION:im kleinen Seminarraum (1. Stock)
URL:https://wienzimmer.fsw.at/event/hobby-lobby-musik-singen-2/2024-12-06/
CATEGORIES:Kinder und Jugendliche
ATTACH;FMTTYPE=image/png:https://wienzimmer.fsw.at/wp-content/uploads/2024/04/musik_singen.png
END:VEVENT
BEGIN:VEVENT
DTSTART;TZID=Europe/Vienna:20241206T170000
DTEND;TZID=Europe/Vienna:20241206T180000
DTSTAMP:20260423T080924
CREATED:20240925T102649Z
LAST-MODIFIED:20241127T141907Z
UID:10003363-1733504400-1733508000@wienzimmer.fsw.at
SUMMARY:Hobby Lobby: Experimente
DESCRIPTION:im Festsaal (Hochparterre)
URL:https://wienzimmer.fsw.at/event/hobby-lobby-experimente/2024-12-06/
CATEGORIES:Kinder und Jugendliche
ATTACH;FMTTYPE=image/png:https://wienzimmer.fsw.at/wp-content/uploads/2024/10/WienZimmer_Veranstaltungskalender-Experimente.png
END:VEVENT
BEGIN:VEVENT
DTSTART;TZID=Europe/Vienna:20241207T100000
DTEND;TZID=Europe/Vienna:20241207T180000
DTSTAMP:20260423T080924
CREATED:20241127T142026Z
LAST-MODIFIED:20241127T142119Z
UID:10003365-1733565600-1733594400@wienzimmer.fsw.at
SUMMARY:Ausstellung der Aquarellmal-Runde
DESCRIPTION:im Festaaal\, auf der Galerie und im Souterrain
URL:https://wienzimmer.fsw.at/event/ausstellung-der-aquarellmal-runde/
ATTACH;FMTTYPE=image/png:https://wienzimmer.fsw.at/wp-content/uploads/2023/11/WienZimmer_Veranstaltungskalender-Icons_Zeichenfla╠eche-1-Kopie-14.png
END:VEVENT
BEGIN:VEVENT
DTSTART;TZID=Europe/Vienna:20241210T080000
DTEND;TZID=Europe/Vienna:20241210T100000
DTSTAMP:20260423T080924
CREATED:20241127T134110Z
LAST-MODIFIED:20250625T114952Z
UID:10003317-1733817600-1733824800@wienzimmer.fsw.at
SUMMARY:Elterncafé im WienZimmer
DESCRIPTION:Austausch und Beratung für alle Eltern\nBabies und Kleinkinder können mitgebracht werden\nim Festsaal
URL:https://wienzimmer.fsw.at/event/elterncafe-im-wienzimmer-4/2024-12-10/
LOCATION:WienZimmer\, Karl-Seitz-Hof - Jedleseer Str. 66-94/Ecke Jedleseer Straße und Dunantgasse\, Wien\, 1210\, Österreich
END:VEVENT
BEGIN:VEVENT
DTSTART;TZID=Europe/Vienna:20241210T160000
DTEND;TZID=Europe/Vienna:20241210T170000
DTSTAMP:20260423T080924
CREATED:20240925T095530Z
LAST-MODIFIED:20241127T134834Z
UID:10003324-1733846400-1733850000@wienzimmer.fsw.at
SUMMARY:Hobby Lobby: Türkisch
DESCRIPTION:im kleinen Seminarraum
URL:https://wienzimmer.fsw.at/event/hobby-lobby-tuerkisch/2024-12-10/
CATEGORIES:Kinder und Jugendliche
ATTACH;FMTTYPE=image/png:https://wienzimmer.fsw.at/wp-content/uploads/2024/04/tuerkisch.png
END:VEVENT
BEGIN:VEVENT
DTSTART;TZID=Europe/Vienna:20241210T163000
DTEND;TZID=Europe/Vienna:20241210T173000
DTSTAMP:20260423T080924
CREATED:20240925T095804Z
LAST-MODIFIED:20241127T134950Z
UID:10003326-1733848200-1733851800@wienzimmer.fsw.at
SUMMARY:Hobby Lobby: Kampfsport
DESCRIPTION:im kleinen Seminarraum (1. Stock)
URL:https://wienzimmer.fsw.at/event/hobby-lobby-kampfsport/2024-12-10/
CATEGORIES:Kinder und Jugendliche
ATTACH;FMTTYPE=image/png:https://wienzimmer.fsw.at/wp-content/uploads/2023/11/Kampfsport.png
END:VEVENT
BEGIN:VEVENT
DTSTART;TZID=Europe/Vienna:20241210T170000
DTEND;TZID=Europe/Vienna:20241210T180000
DTSTAMP:20260423T080924
CREATED:20240925T100105Z
LAST-MODIFIED:20241127T135145Z
UID:10003328-1733850000-1733853600@wienzimmer.fsw.at
SUMMARY:Hobby Lobby: Nähen
DESCRIPTION:im kleinen Seminarraum (1. Stock)
URL:https://wienzimmer.fsw.at/event/hobby-lobby-naehen/2024-12-10/
CATEGORIES:Kinder und Jugendliche
ATTACH;FMTTYPE=image/png:https://wienzimmer.fsw.at/wp-content/uploads/2024/04/naehkurs.png
END:VEVENT
BEGIN:VEVENT
DTSTART;TZID=Europe/Vienna:20241211T091500
DTEND;TZID=Europe/Vienna:20241211T101500
DTSTAMP:20260423T080924
CREATED:20241015T114227Z
LAST-MODIFIED:20250123T142322Z
UID:10003330-1733908500-1733912100@wienzimmer.fsw.at
SUMMARY:Yoga mit Sophie - für Senior:innen
DESCRIPTION:im kleinen Seminarraum (1. Stock)
URL:https://wienzimmer.fsw.at/event/yoga-mit-sophie-fuer-seniorinnen/2024-12-11/
END:VEVENT
BEGIN:VEVENT
DTSTART;TZID=Europe/Vienna:20241211T103000
DTEND;TZID=Europe/Vienna:20241211T120000
DTSTAMP:20260423T080924
CREATED:20241127T140004Z
LAST-MODIFIED:20241218T124303Z
UID:10003366-1733913000-1733918400@wienzimmer.fsw.at
SUMMARY:Offene Aquarellmalrunde
DESCRIPTION:selbstorganisiert \nIm Festsaal (Hochparterre)
URL:https://wienzimmer.fsw.at/event/offene-aquarellmalrunde-5/2024-12-11/
ATTACH;FMTTYPE=image/png:https://wienzimmer.fsw.at/wp-content/uploads/2024/09/WienZimmer_MonatderSeniorinnen-neu.png
END:VEVENT
END:VCALENDAR