BEGIN:VCALENDAR
VERSION:2.0
PRODID:-//Wien Zimmer - ECPv6.15.17.1//NONSGML v1.0//EN
CALSCALE:GREGORIAN
METHOD:PUBLISH
X-ORIGINAL-URL:https://wienzimmer.fsw.at
X-WR-CALDESC:Veranstaltungen für Wien Zimmer
REFRESH-INTERVAL;VALUE=DURATION:PT1H
X-Robots-Tag:noindex
X-PUBLISHED-TTL:PT1H
BEGIN:VTIMEZONE
TZID:Europe/Vienna
BEGIN:DAYLIGHT
TZOFFSETFROM:+0100
TZOFFSETTO:+0200
TZNAME:CEST
DTSTART:20230326T010000
END:DAYLIGHT
BEGIN:STANDARD
TZOFFSETFROM:+0200
TZOFFSETTO:+0100
TZNAME:CET
DTSTART:20231029T010000
END:STANDARD
BEGIN:DAYLIGHT
TZOFFSETFROM:+0100
TZOFFSETTO:+0200
TZNAME:CEST
DTSTART:20240331T010000
END:DAYLIGHT
BEGIN:STANDARD
TZOFFSETFROM:+0200
TZOFFSETTO:+0100
TZNAME:CET
DTSTART:20241027T010000
END:STANDARD
BEGIN:DAYLIGHT
TZOFFSETFROM:+0100
TZOFFSETTO:+0200
TZNAME:CEST
DTSTART:20250330T010000
END:DAYLIGHT
BEGIN:STANDARD
TZOFFSETFROM:+0200
TZOFFSETTO:+0100
TZNAME:CET
DTSTART:20251026T010000
END:STANDARD
END:VTIMEZONE
BEGIN:VEVENT
DTSTART;TZID=Europe/Vienna:20241105T080000
DTEND;TZID=Europe/Vienna:20241105T100000
DTSTAMP:20260423T095547
CREATED:20240919T142233Z
LAST-MODIFIED:20241015T112821Z
UID:10003155-1730793600-1730800800@wienzimmer.fsw.at
SUMMARY:Elterncafé im WienZimmer
DESCRIPTION:Austausch und Beratung für alle Eltern\nBabies und Kleinkinder können mitgebracht werden\nim Festsaal
URL:https://wienzimmer.fsw.at/event/elterncafe-im-wienzimmer-3/2024-11-05/
LOCATION:WienZimmer\, Karl-Seitz-Hof - Jedleseer Str. 66-94/Ecke Jedleseer Straße und Dunantgasse\, Wien\, 1210\, Österreich
END:VEVENT
BEGIN:VEVENT
DTSTART;TZID=Europe/Vienna:20241105T130000
DTEND;TZID=Europe/Vienna:20241105T150000
DTSTAMP:20260423T095547
CREATED:20241015T113004Z
LAST-MODIFIED:20241015T113004Z
UID:10003159-1730811600-1730818800@wienzimmer.fsw.at
SUMMARY:Gesundheitssprechstunde - mit den Community Nurses
DESCRIPTION:im Festsaal
URL:https://wienzimmer.fsw.at/event/gesundheitssprechstunde-mit-den-community-nurses/
END:VEVENT
BEGIN:VEVENT
DTSTART;TZID=Europe/Vienna:20241105T160000
DTEND;TZID=Europe/Vienna:20241105T170000
DTSTAMP:20260423T095547
CREATED:20240925T095530Z
LAST-MODIFIED:20241127T134834Z
UID:10003164-1730822400-1730826000@wienzimmer.fsw.at
SUMMARY:Hobby Lobby: Türkisch
DESCRIPTION:im kleinen Seminarraum
URL:https://wienzimmer.fsw.at/event/hobby-lobby-tuerkisch/2024-11-05/
CATEGORIES:Kinder und Jugendliche
ATTACH;FMTTYPE=image/png:https://wienzimmer.fsw.at/wp-content/uploads/2024/04/tuerkisch.png
END:VEVENT
BEGIN:VEVENT
DTSTART;TZID=Europe/Vienna:20241105T163000
DTEND;TZID=Europe/Vienna:20241105T173000
DTSTAMP:20260423T095547
CREATED:20240925T095804Z
LAST-MODIFIED:20241127T134950Z
UID:10003168-1730824200-1730827800@wienzimmer.fsw.at
SUMMARY:Hobby Lobby: Kampfsport
DESCRIPTION:im kleinen Seminarraum (1. Stock)
URL:https://wienzimmer.fsw.at/event/hobby-lobby-kampfsport/2024-11-05/
CATEGORIES:Kinder und Jugendliche
ATTACH;FMTTYPE=image/png:https://wienzimmer.fsw.at/wp-content/uploads/2023/11/Kampfsport.png
END:VEVENT
BEGIN:VEVENT
DTSTART;TZID=Europe/Vienna:20241105T170000
DTEND;TZID=Europe/Vienna:20241105T180000
DTSTAMP:20260423T095547
CREATED:20240925T100105Z
LAST-MODIFIED:20241127T135145Z
UID:10003172-1730826000-1730829600@wienzimmer.fsw.at
SUMMARY:Hobby Lobby: Nähen
DESCRIPTION:im kleinen Seminarraum (1. Stock)
URL:https://wienzimmer.fsw.at/event/hobby-lobby-naehen/2024-11-05/
CATEGORIES:Kinder und Jugendliche
ATTACH;FMTTYPE=image/png:https://wienzimmer.fsw.at/wp-content/uploads/2024/04/naehkurs.png
END:VEVENT
BEGIN:VEVENT
DTSTART;TZID=Europe/Vienna:20241106T080000
DTEND;TZID=Europe/Vienna:20241106T170000
DTSTAMP:20260423T095547
CREATED:20241015T114621Z
LAST-MODIFIED:20250123T142501Z
UID:10003412-1730880000-1730912400@wienzimmer.fsw.at
SUMMARY:Yoga mit Sophie - Yoga für Anfänger:innen
DESCRIPTION:im kleinen Seminarraum (1. Stock)
URL:https://wienzimmer.fsw.at/event/yoga-mit-sophie-yoga-fuer-anfaengerinnen/2024-11-06/1/
END:VEVENT
BEGIN:VEVENT
DTSTART;TZID=Europe/Vienna:20241106T091500
DTEND;TZID=Europe/Vienna:20241106T101500
DTSTAMP:20260423T095547
CREATED:20241015T114227Z
LAST-MODIFIED:20250123T142322Z
UID:10003176-1730884500-1730888100@wienzimmer.fsw.at
SUMMARY:Yoga mit Sophie - für Senior:innen
DESCRIPTION:im kleinen Seminarraum (1. Stock)
URL:https://wienzimmer.fsw.at/event/yoga-mit-sophie-fuer-seniorinnen/2024-11-06/
END:VEVENT
BEGIN:VEVENT
DTSTART;TZID=Europe/Vienna:20241106T100000
DTEND;TZID=Europe/Vienna:20241106T120000
DTSTAMP:20260423T095547
CREATED:20241015T114840Z
LAST-MODIFIED:20241015T114840Z
UID:10003238-1730887200-1730894400@wienzimmer.fsw.at
SUMMARY:Sprechstunde der Wiener Sozialdienste (WISO)
DESCRIPTION:Findet im Festsaal statt. \nwww.wienersozialdienste.at \n 
URL:https://wienzimmer.fsw.at/event/sprechstunde-der-wiener-sozialdienste-wiso-11/2024-11-06/
LOCATION:WienZimmer\, Karl-Seitz-Hof - Jedleseer Str. 66-94/Ecke Jedleseer Straße und Dunantgasse\, Wien\, 1210\, Österreich
CATEGORIES:Wiener Sozialdienste,Wiener Sozialdienste Sprechstunde
ATTACH;FMTTYPE=image/png:https://wienzimmer.fsw.at/wp-content/uploads/2024/09/WienZimmer_MonatderSeniorinnen-neu.png
END:VEVENT
BEGIN:VEVENT
DTSTART;TZID=Europe/Vienna:20241106T103000
DTEND;TZID=Europe/Vienna:20241106T120000
DTSTAMP:20260423T095547
CREATED:20241015T115037Z
LAST-MODIFIED:20241015T115153Z
UID:10003245-1730889000-1730894400@wienzimmer.fsw.at
SUMMARY:Offene Aquarellmalrunde
DESCRIPTION:Für Senior:innen\, selbstorganisiert. \nIm Festsaal (Hochparterre)
URL:https://wienzimmer.fsw.at/event/offene-aquarellmalrunde-4/2024-11-06/
ATTACH;FMTTYPE=image/png:https://wienzimmer.fsw.at/wp-content/uploads/2024/09/WienZimmer_MonatderSeniorinnen-neu.png
END:VEVENT
BEGIN:VEVENT
DTSTART;TZID=Europe/Vienna:20241106T104500
DTEND;TZID=Europe/Vienna:20241106T114500
DTSTAMP:20260423T095547
CREATED:20241015T114621Z
LAST-MODIFIED:20250123T142501Z
UID:10003232-1730889900-1730893500@wienzimmer.fsw.at
SUMMARY:Yoga mit Sophie - Yoga für Anfänger:innen
DESCRIPTION:im kleinen Seminarraum (1. Stock)
URL:https://wienzimmer.fsw.at/event/yoga-mit-sophie-yoga-fuer-anfaengerinnen/2024-11-06/2/
END:VEVENT
BEGIN:VEVENT
DTSTART;TZID=Europe/Vienna:20241106T160000
DTEND;TZID=Europe/Vienna:20241106T173000
DTSTAMP:20260423T095547
CREATED:20241015T115327Z
LAST-MODIFIED:20241015T115327Z
UID:10003248-1730908800-1730914200@wienzimmer.fsw.at
SUMMARY:s’Plaudertischerl – mit der Diakonie
DESCRIPTION:im Festsall (Hochparterre) \nEin kurzer Plausch über das Wetter oder eine längere Unterhaltung – regelmäßig am ersten Mittwoch im Monat kommen am Plaudertischerl in Wiener Kaffeehäusern und Nachbarschaftszentren Menschen auf einfachem Wege mit anderen ins Gespräch. \nwww.plaudertischerl.at
URL:https://wienzimmer.fsw.at/event/splaudertischerl-mit-der-diakonie/
LOCATION:WienZimmer\, Karl-Seitz-Hof - Jedleseer Str. 66-94/Ecke Jedleseer Straße und Dunantgasse\, Wien\, 1210\, Österreich
CATEGORIES:Sonstiges
ATTACH;FMTTYPE=image/png:https://wienzimmer.fsw.at/wp-content/uploads/2023/11/Plaudertischerl.png
END:VEVENT
BEGIN:VEVENT
DTSTART;TZID=Europe/Vienna:20241106T163000
DTEND;TZID=Europe/Vienna:20241106T173000
DTSTAMP:20260423T095547
CREATED:20240925T100356Z
LAST-MODIFIED:20241127T140251Z
UID:10003251-1730910600-1730914200@wienzimmer.fsw.at
SUMMARY:Hobby Lobby: Fotografie
DESCRIPTION:im kleinen Seminarraum (1. Stock)
URL:https://wienzimmer.fsw.at/event/hobby-lobby-fotografie/2024-11-06/
CATEGORIES:Kinder und Jugendliche
ATTACH;FMTTYPE=image/png:https://wienzimmer.fsw.at/wp-content/uploads/2024/10/WienZimmer_Veranstaltungskalender-Fotografie.png
END:VEVENT
BEGIN:VEVENT
DTSTART;TZID=Europe/Vienna:20241106T173000
DTEND;TZID=Europe/Vienna:20241106T180000
DTSTAMP:20260423T095547
CREATED:20240925T100958Z
LAST-MODIFIED:20241127T140518Z
UID:10003259-1730914200-1730916000@wienzimmer.fsw.at
SUMMARY:Hobby Lobby: Tanzen
DESCRIPTION:im Souterrain (Keller)
URL:https://wienzimmer.fsw.at/event/hobby-lobby-tanzen/2024-11-06/
CATEGORIES:Kinder und Jugendliche
ATTACH;FMTTYPE=image/png:https://wienzimmer.fsw.at/wp-content/uploads/2023/11/Tanzen.png
END:VEVENT
BEGIN:VEVENT
DTSTART;TZID=Europe/Vienna:20241106T173000
DTEND;TZID=Europe/Vienna:20241106T183000
DTSTAMP:20260423T095547
CREATED:20240925T100734Z
LAST-MODIFIED:20241127T140413Z
UID:10003255-1730914200-1730917800@wienzimmer.fsw.at
SUMMARY:Hobby Lobby: Anime und Manga
DESCRIPTION:im Festsaal (Hochparterre)
URL:https://wienzimmer.fsw.at/event/hobby-lobby-anime-und-manga/2024-11-06/
CATEGORIES:Kinder und Jugendliche
ATTACH;FMTTYPE=image/png:https://wienzimmer.fsw.at/wp-content/uploads/2024/10/WienZimmer_Veranstaltungskalender-Anime.png
END:VEVENT
BEGIN:VEVENT
DTSTART;TZID=Europe/Vienna:20241106T180000
DTEND;TZID=Europe/Vienna:20241106T200000
DTSTAMP:20260423T095547
CREATED:20241015T120531Z
LAST-MODIFIED:20241015T120531Z
UID:10003249-1730916000-1730923200@wienzimmer.fsw.at
SUMMARY:Line Dance Gruppe
DESCRIPTION:
URL:https://wienzimmer.fsw.at/event/line-dance-gruppe/2024-11-06/
END:VEVENT
BEGIN:VEVENT
DTSTART;TZID=Europe/Vienna:20241107T100000
DTEND;TZID=Europe/Vienna:20241107T110000
DTSTAMP:20260423T095547
CREATED:20241107T084840Z
LAST-MODIFIED:20250211T104841Z
UID:10003303-1730973600-1730977200@wienzimmer.fsw.at
SUMMARY:Krafttraining mit Bernd - für ältere Menschen und alle\, die mitmachen wollen
DESCRIPTION:im kleinen Seminarsaal
URL:https://wienzimmer.fsw.at/event/krattraining-mit-bernd-fuer-aeltere-menschen-und-alle-die-mitmachen-wollen/2024-11-07/
END:VEVENT
BEGIN:VEVENT
DTSTART;TZID=Europe/Vienna:20241107T140000
DTEND;TZID=Europe/Vienna:20241107T160000
DTSTAMP:20260423T095547
CREATED:20240919T142709Z
LAST-MODIFIED:20250604T093225Z
UID:10003263-1730988000-1730995200@wienzimmer.fsw.at
SUMMARY:Hausaufgabenbegleitung
DESCRIPTION:Hausaufgabenbegleitung mit rettet das Kind Österreich\nim Souterrain (Keller)
URL:https://wienzimmer.fsw.at/event/hausaufgabenbegleitung-2/2024-11-07/
LOCATION:WienZimmer\, Karl-Seitz-Hof - Jedleseer Str. 66-94/Ecke Jedleseer Straße und Dunantgasse\, Wien\, 1210\, Österreich
CATEGORIES:Kinder und Jugendliche
ATTACH;FMTTYPE=image/png:https://wienzimmer.fsw.at/wp-content/uploads/2023/11/Hausaufgaben.png
END:VEVENT
BEGIN:VEVENT
DTSTART;TZID=Europe/Vienna:20241107T153000
DTEND;TZID=Europe/Vienna:20241107T163000
DTSTAMP:20260423T095547
CREATED:20240925T101254Z
LAST-MODIFIED:20241127T141234Z
UID:10003267-1730993400-1730997000@wienzimmer.fsw.at
SUMMARY:Hobby Lobby: Malen & Zeichnen
DESCRIPTION:im Souterrain (Keller)
URL:https://wienzimmer.fsw.at/event/hobby-lobby-malen-zeichnen-4/2024-11-07/
CATEGORIES:Kinder und Jugendliche
ATTACH;FMTTYPE=image/png:https://wienzimmer.fsw.at/wp-content/uploads/2023/11/Malen.png
END:VEVENT
BEGIN:VEVENT
DTSTART;TZID=Europe/Vienna:20241107T163000
DTEND;TZID=Europe/Vienna:20241107T173000
DTSTAMP:20260423T095547
CREATED:20240925T101712Z
LAST-MODIFIED:20241127T141327Z
UID:10003271-1730997000-1731000600@wienzimmer.fsw.at
SUMMARY:Hobby Lobby: Sport & Ballspiele
DESCRIPTION:im Souterrain (Keller)
URL:https://wienzimmer.fsw.at/event/hobby-lobby-sport-ballspiele/2024-11-07/
CATEGORIES:Kinder und Jugendliche
ATTACH;FMTTYPE=image/png:https://wienzimmer.fsw.at/wp-content/uploads/2024/10/WienZimmer_Veranstaltungskalender-Ballspiele.png
END:VEVENT
BEGIN:VEVENT
DTSTART;TZID=Europe/Vienna:20241107T173000
DTEND;TZID=Europe/Vienna:20241107T183000
DTSTAMP:20260423T095547
CREATED:20240925T101904Z
LAST-MODIFIED:20241127T141424Z
UID:10003275-1731000600-1731004200@wienzimmer.fsw.at
SUMMARY:Hobby Lobby: Töpfern
DESCRIPTION:im Souterrain (Keller)
URL:https://wienzimmer.fsw.at/event/hobby-lobby-toepfern/2024-11-07/
CATEGORIES:Kinder und Jugendliche
ATTACH;FMTTYPE=image/png:https://wienzimmer.fsw.at/wp-content/uploads/2023/11/Toepfern.png
END:VEVENT
BEGIN:VEVENT
DTSTART;TZID=Europe/Vienna:20241108T150000
DTEND;TZID=Europe/Vienna:20241108T160000
DTSTAMP:20260423T095547
CREATED:20240925T102133Z
LAST-MODIFIED:20241127T141647Z
UID:10003280-1731078000-1731081600@wienzimmer.fsw.at
SUMMARY:Hobby Lobby: Nachhilfe
DESCRIPTION:im kleinen Seminarraum (1. Stock)
URL:https://wienzimmer.fsw.at/event/hobby-lobby-nachhilfe/2024-11-08/
CATEGORIES:Kinder und Jugendliche
ATTACH;FMTTYPE=image/png:https://wienzimmer.fsw.at/wp-content/uploads/2023/11/Hausaufgaben.png
END:VEVENT
BEGIN:VEVENT
DTSTART;TZID=Europe/Vienna:20241108T160000
DTEND;TZID=Europe/Vienna:20241108T170000
DTSTAMP:20260423T095547
CREATED:20241015T123139Z
LAST-MODIFIED:20241127T141736Z
UID:10003285-1731081600-1731085200@wienzimmer.fsw.at
SUMMARY:Hobby Lobby: Musik & Singen
DESCRIPTION:im kleinen Seminarraum (1. Stock)
URL:https://wienzimmer.fsw.at/event/hobby-lobby-musik-singen-2/2024-11-08/
CATEGORIES:Kinder und Jugendliche
ATTACH;FMTTYPE=image/png:https://wienzimmer.fsw.at/wp-content/uploads/2024/04/musik_singen.png
END:VEVENT
BEGIN:VEVENT
DTSTART;TZID=Europe/Vienna:20241108T170000
DTEND;TZID=Europe/Vienna:20241108T180000
DTSTAMP:20260423T095547
CREATED:20240925T102649Z
LAST-MODIFIED:20241127T141907Z
UID:10003290-1731085200-1731088800@wienzimmer.fsw.at
SUMMARY:Hobby Lobby: Experimente
DESCRIPTION:im Festsaal (Hochparterre)
URL:https://wienzimmer.fsw.at/event/hobby-lobby-experimente/2024-11-08/
CATEGORIES:Kinder und Jugendliche
ATTACH;FMTTYPE=image/png:https://wienzimmer.fsw.at/wp-content/uploads/2024/10/WienZimmer_Veranstaltungskalender-Experimente.png
END:VEVENT
BEGIN:VEVENT
DTSTART;TZID=Europe/Vienna:20241112T080000
DTEND;TZID=Europe/Vienna:20241112T100000
DTSTAMP:20260423T095547
CREATED:20240919T142233Z
LAST-MODIFIED:20241015T112821Z
UID:10003156-1731398400-1731405600@wienzimmer.fsw.at
SUMMARY:Elterncafé im WienZimmer
DESCRIPTION:Austausch und Beratung für alle Eltern\nBabies und Kleinkinder können mitgebracht werden\nim Festsaal
URL:https://wienzimmer.fsw.at/event/elterncafe-im-wienzimmer-3/2024-11-12/
LOCATION:WienZimmer\, Karl-Seitz-Hof - Jedleseer Str. 66-94/Ecke Jedleseer Straße und Dunantgasse\, Wien\, 1210\, Österreich
END:VEVENT
BEGIN:VEVENT
DTSTART;TZID=Europe/Vienna:20241112T160000
DTEND;TZID=Europe/Vienna:20241112T170000
DTSTAMP:20260423T095547
CREATED:20240925T095530Z
LAST-MODIFIED:20241127T134834Z
UID:10003165-1731427200-1731430800@wienzimmer.fsw.at
SUMMARY:Hobby Lobby: Türkisch
DESCRIPTION:im kleinen Seminarraum
URL:https://wienzimmer.fsw.at/event/hobby-lobby-tuerkisch/2024-11-12/
CATEGORIES:Kinder und Jugendliche
ATTACH;FMTTYPE=image/png:https://wienzimmer.fsw.at/wp-content/uploads/2024/04/tuerkisch.png
END:VEVENT
BEGIN:VEVENT
DTSTART;TZID=Europe/Vienna:20241112T163000
DTEND;TZID=Europe/Vienna:20241112T173000
DTSTAMP:20260423T095547
CREATED:20240925T095804Z
LAST-MODIFIED:20241127T134950Z
UID:10003169-1731429000-1731432600@wienzimmer.fsw.at
SUMMARY:Hobby Lobby: Kampfsport
DESCRIPTION:im kleinen Seminarraum (1. Stock)
URL:https://wienzimmer.fsw.at/event/hobby-lobby-kampfsport/2024-11-12/
CATEGORIES:Kinder und Jugendliche
ATTACH;FMTTYPE=image/png:https://wienzimmer.fsw.at/wp-content/uploads/2023/11/Kampfsport.png
END:VEVENT
BEGIN:VEVENT
DTSTART;TZID=Europe/Vienna:20241112T170000
DTEND;TZID=Europe/Vienna:20241112T180000
DTSTAMP:20260423T095547
CREATED:20240925T100105Z
LAST-MODIFIED:20241127T135145Z
UID:10003173-1731430800-1731434400@wienzimmer.fsw.at
SUMMARY:Hobby Lobby: Nähen
DESCRIPTION:im kleinen Seminarraum (1. Stock)
URL:https://wienzimmer.fsw.at/event/hobby-lobby-naehen/2024-11-12/
CATEGORIES:Kinder und Jugendliche
ATTACH;FMTTYPE=image/png:https://wienzimmer.fsw.at/wp-content/uploads/2024/04/naehkurs.png
END:VEVENT
BEGIN:VEVENT
DTSTART;TZID=Europe/Vienna:20241113T091500
DTEND;TZID=Europe/Vienna:20241113T101500
DTSTAMP:20260423T095547
CREATED:20241015T114227Z
LAST-MODIFIED:20250123T142322Z
UID:10003177-1731489300-1731492900@wienzimmer.fsw.at
SUMMARY:Yoga mit Sophie - für Senior:innen
DESCRIPTION:im kleinen Seminarraum (1. Stock)
URL:https://wienzimmer.fsw.at/event/yoga-mit-sophie-fuer-seniorinnen/2024-11-13/
END:VEVENT
BEGIN:VEVENT
DTSTART;TZID=Europe/Vienna:20241113T103000
DTEND;TZID=Europe/Vienna:20241113T120000
DTSTAMP:20260423T095547
CREATED:20241015T115037Z
LAST-MODIFIED:20241015T115153Z
UID:10003246-1731493800-1731499200@wienzimmer.fsw.at
SUMMARY:Offene Aquarellmalrunde
DESCRIPTION:Für Senior:innen\, selbstorganisiert. \nIm Festsaal (Hochparterre)
URL:https://wienzimmer.fsw.at/event/offene-aquarellmalrunde-4/2024-11-13/
ATTACH;FMTTYPE=image/png:https://wienzimmer.fsw.at/wp-content/uploads/2024/09/WienZimmer_MonatderSeniorinnen-neu.png
END:VEVENT
BEGIN:VEVENT
DTSTART;TZID=Europe/Vienna:20241113T104500
DTEND;TZID=Europe/Vienna:20241113T114500
DTSTAMP:20260423T095547
CREATED:20241015T114621Z
LAST-MODIFIED:20250123T142501Z
UID:10003233-1731494700-1731498300@wienzimmer.fsw.at
SUMMARY:Yoga mit Sophie - Yoga für Anfänger:innen
DESCRIPTION:im kleinen Seminarraum (1. Stock)
URL:https://wienzimmer.fsw.at/event/yoga-mit-sophie-yoga-fuer-anfaengerinnen/2024-11-13/
END:VEVENT
END:VCALENDAR