BEGIN:VCALENDAR
VERSION:2.0
PRODID:-//Wien Zimmer - ECPv6.15.17.1//NONSGML v1.0//EN
CALSCALE:GREGORIAN
METHOD:PUBLISH
X-WR-CALNAME:Wien Zimmer
X-ORIGINAL-URL:https://wienzimmer.fsw.at
X-WR-CALDESC:Veranstaltungen für Wien Zimmer
REFRESH-INTERVAL;VALUE=DURATION:PT1H
X-Robots-Tag:noindex
X-PUBLISHED-TTL:PT1H
BEGIN:VTIMEZONE
TZID:Europe/Vienna
BEGIN:DAYLIGHT
TZOFFSETFROM:+0100
TZOFFSETTO:+0200
TZNAME:CEST
DTSTART:20230326T010000
END:DAYLIGHT
BEGIN:STANDARD
TZOFFSETFROM:+0200
TZOFFSETTO:+0100
TZNAME:CET
DTSTART:20231029T010000
END:STANDARD
BEGIN:DAYLIGHT
TZOFFSETFROM:+0100
TZOFFSETTO:+0200
TZNAME:CEST
DTSTART:20240331T010000
END:DAYLIGHT
BEGIN:STANDARD
TZOFFSETFROM:+0200
TZOFFSETTO:+0100
TZNAME:CET
DTSTART:20241027T010000
END:STANDARD
BEGIN:DAYLIGHT
TZOFFSETFROM:+0100
TZOFFSETTO:+0200
TZNAME:CEST
DTSTART:20250330T010000
END:DAYLIGHT
BEGIN:STANDARD
TZOFFSETFROM:+0200
TZOFFSETTO:+0100
TZNAME:CET
DTSTART:20251026T010000
END:STANDARD
END:VTIMEZONE
BEGIN:VEVENT
DTSTART;TZID=Europe/Vienna:20240703T100000
DTEND;TZID=Europe/Vienna:20240703T120000
DTSTAMP:20260425T162049
CREATED:20240703T090757Z
LAST-MODIFIED:20240703T090757Z
UID:10002783-1720000800-1720008000@wienzimmer.fsw.at
SUMMARY:Sprechstunde der Wiener Sozialdienste (WISO)
DESCRIPTION:Der Kontaktbesuchsdienst hilft Menschen ab 60 Jahren\, die besten Angebote und Aktivitäten der Stadt zu finden. \nFindet im Festsaal statt. \nwww.wienersozialdienste.at \n 
URL:https://wienzimmer.fsw.at/event/sprechstunde-der-wiener-sozialdienste-wiso-7/
LOCATION:WienZimmer\, Karl-Seitz-Hof - Jedleseer Str. 66-94/Ecke Jedleseer Straße und Dunantgasse\, Wien\, 1210\, Österreich
CATEGORIES:Wiener Sozialdienste,Wiener Sozialdienste Sprechstunde
ATTACH;FMTTYPE=image/png:https://wienzimmer.fsw.at/wp-content/uploads/2023/11/Sprechstunde.png
END:VEVENT
BEGIN:VEVENT
DTSTART;TZID=Europe/Vienna:20240703T103000
DTEND;TZID=Europe/Vienna:20240703T123000
DTSTAMP:20260425T162049
CREATED:20240703T090548Z
LAST-MODIFIED:20240703T090656Z
UID:10002760-1720002600-1720009800@wienzimmer.fsw.at
SUMMARY:Offene Aquarellmalrunde
DESCRIPTION:im kleinen Seminarraum oder im Souterrain.
URL:https://wienzimmer.fsw.at/event/offene-aquarellmalrunde-2/2024-07-03/
ATTACH;FMTTYPE=image/png:https://wienzimmer.fsw.at/wp-content/uploads/2023/11/Malen.png
END:VEVENT
BEGIN:VEVENT
DTSTART;TZID=Europe/Vienna:20240703T160000
DTEND;TZID=Europe/Vienna:20240703T173000
DTSTAMP:20260425T162049
CREATED:20240703T090857Z
LAST-MODIFIED:20240703T090857Z
UID:10002784-1720022400-1720027800@wienzimmer.fsw.at
SUMMARY:s’Plaudertischerl – Einfach ins Gespräch kommen
DESCRIPTION:Einfach ins Gespräch kommen\n1. Teil – 16.00-17.00 Uhr Führung durch den Karl-Seitz-Hof mit Mieterbeirat Heinrich Gindel.\n2. Teil Ausklang bei Kaffee und Kuchen im Festsaal \nEin kurzer Plausch über das Wetter oder eine längere Unterhaltung – regelmäßig am ersten Mittwoch im Monat kommen am Plaudertischerl in Wiener Kaffeehäusern und Nachbarschaftszentren Menschen auf einfachem Wege mit anderen ins Gespräch. \nwww.plaudertischerl.at
URL:https://wienzimmer.fsw.at/event/splaudertischerl-einfach-ins-gespraech-kommen-12/
LOCATION:WienZimmer\, Karl-Seitz-Hof - Jedleseer Str. 66-94/Ecke Jedleseer Straße und Dunantgasse\, Wien\, 1210\, Österreich
CATEGORIES:Sonstiges
ATTACH;FMTTYPE=image/png:https://wienzimmer.fsw.at/wp-content/uploads/2023/11/Plaudertischerl.png
END:VEVENT
BEGIN:VEVENT
DTSTART;TZID=Europe/Vienna:20240703T170000
DTEND;TZID=Europe/Vienna:20240703T200000
DTSTAMP:20260425T162049
CREATED:20240703T091005Z
LAST-MODIFIED:20240703T091051Z
UID:10002787-1720026000-1720036800@wienzimmer.fsw.at
SUMMARY:Gruppentherapie: Psychodrama
DESCRIPTION:im kleinen Seminarraum (1. Stock) \nHilfe bei Angst\, bei Depression und anderen Schwierigkeiten. Gruppenpsychotherapie mit der Methode Psychodrama. \nAb 17.15 – 20.00 Uhr\, mit Pause \nOhne Kosten bei Vorlage einer ärztlichen Überweisung zur Psychotherapie. \nFür die Anmeldung und mehr Information: Michael Josef Seiss\, MMSc. unter 0699-11133441. praxis@michaeljosefseiss.at \n 
URL:https://wienzimmer.fsw.at/event/gruppentherapie-psychodrama-15/2024-07-03/
LOCATION:WienZimmer\, Karl-Seitz-Hof - Jedleseer Str. 66-94/Ecke Jedleseer Straße und Dunantgasse\, Wien\, 1210\, Österreich
CATEGORIES:Sonstiges
ATTACH;FMTTYPE=image/png:https://wienzimmer.fsw.at/wp-content/uploads/2023/11/Gruppentherapie.png
END:VEVENT
BEGIN:VEVENT
DTSTART;TZID=Europe/Vienna:20240710T103000
DTEND;TZID=Europe/Vienna:20240710T123000
DTSTAMP:20260425T162049
CREATED:20240703T090548Z
LAST-MODIFIED:20240703T090656Z
UID:10002782-1720607400-1720614600@wienzimmer.fsw.at
SUMMARY:Offene Aquarellmalrunde
DESCRIPTION:im kleinen Seminarraum oder im Souterrain.
URL:https://wienzimmer.fsw.at/event/offene-aquarellmalrunde-2/2024-07-10/
ATTACH;FMTTYPE=image/png:https://wienzimmer.fsw.at/wp-content/uploads/2023/11/Malen.png
END:VEVENT
BEGIN:VEVENT
DTSTART;TZID=Europe/Vienna:20240716T130000
DTEND;TZID=Europe/Vienna:20240716T143000
DTSTAMP:20260425T162049
CREATED:20240703T091213Z
LAST-MODIFIED:20240703T091213Z
UID:10002789-1721134800-1721140200@wienzimmer.fsw.at
SUMMARY:Spieleaktion mit Jugend am Werk
DESCRIPTION:offener Spieletisch für alle – Kinder und Erwachsene – hosted by: Klient:innen von Jugend am Werk\nFestsaal
URL:https://wienzimmer.fsw.at/event/spieleaktion-mit-jugend-am-werk-3/
CATEGORIES:Kinder und Jugendliche
END:VEVENT
BEGIN:VEVENT
DTSTART;TZID=Europe/Vienna:20240716T130000
DTEND;TZID=Europe/Vienna:20240716T183000
DTSTAMP:20260425T162049
CREATED:20240703T091344Z
LAST-MODIFIED:20240703T091344Z
UID:10002790-1721134800-1721154600@wienzimmer.fsw.at
SUMMARY:zoom mobil Workshop: Wir brauchen Werkzeug  (Kindermuseum)
DESCRIPTION:für Kinder ab 4 Jahren (unter 8 Jahren in Begleitung der Eltern) im Souterrain\n\nMit Karton\, Farbe und Klebeband verwandeln wir das WienZimmer Gartenstadt in eine riesige Weltraumstadt. Wo starten die Altpapierraketen? Wer schreddert die Gravitationswellpappe? Und wo tanzen die Papproboter? \nWorkshop 1: 13.00-14.30Uhr\nWorkshop 2: 15.00-16.30Uhr\nWorkshop 3: 17.00-18.30Uhr \nAnmeldung erforderlich unter: wienzimmer@fsw.at Betreff: ZOOM mobil Spezialwoche;\ntelefonisch unter: +43 676 8289 40055 oder persönlich im WienZimmer
URL:https://wienzimmer.fsw.at/event/zoom-mobil-workshop-wir-brauchen-werkzeug-kindermuseum/
CATEGORIES:Kinder und Jugendliche
END:VEVENT
BEGIN:VEVENT
DTSTART;TZID=Europe/Vienna:20240717T103000
DTEND;TZID=Europe/Vienna:20240717T123000
DTSTAMP:20260425T162049
CREATED:20240703T090548Z
LAST-MODIFIED:20240703T090656Z
UID:10002781-1721212200-1721219400@wienzimmer.fsw.at
SUMMARY:Offene Aquarellmalrunde
DESCRIPTION:im kleinen Seminarraum oder im Souterrain.
URL:https://wienzimmer.fsw.at/event/offene-aquarellmalrunde-2/2024-07-17/
ATTACH;FMTTYPE=image/png:https://wienzimmer.fsw.at/wp-content/uploads/2023/11/Malen.png
END:VEVENT
BEGIN:VEVENT
DTSTART;TZID=Europe/Vienna:20240717T130000
DTEND;TZID=Europe/Vienna:20240717T183000
DTSTAMP:20260425T162049
CREATED:20240703T091439Z
LAST-MODIFIED:20240703T091439Z
UID:10002791-1721221200-1721241000@wienzimmer.fsw.at
SUMMARY:zoom mobil Workshop: Wir brauchen Werkzeug  (Kindermuseum)
DESCRIPTION:für Kinder ab 4 Jahren (unter 8 Jahren in Begleitung der Eltern) im Souterrain\n\nMit Karton\, Farbe und Klebeband verwandeln wir das WienZimmer Gartenstadt in eine riesige Weltraumstadt. Wo starten die Altpapierraketen? Wer schreddert die Gravitationswellpappe? Und wo tanzen die Papproboter? \nWorkshop 1: 13.00-14.30Uhr\nWorkshop 2: 15.00-16.30Uhr\nWorkshop 3: 17.00-18.30Uhr \nAnmeldung erforderlich unter: wienzimmer@fsw.at Betreff: ZOOM mobil Spezialwoche;\ntelefonisch unter: +43 676 8289 40055 oder persönlich im WienZimmer
URL:https://wienzimmer.fsw.at/event/zoom-mobil-workshop-wir-brauchen-werkzeug-kindermuseum-2/
CATEGORIES:Kinder und Jugendliche
END:VEVENT
BEGIN:VEVENT
DTSTART;TZID=Europe/Vienna:20240717T170000
DTEND;TZID=Europe/Vienna:20240717T200000
DTSTAMP:20260425T162049
CREATED:20240703T091005Z
LAST-MODIFIED:20240703T091051Z
UID:10002788-1721235600-1721246400@wienzimmer.fsw.at
SUMMARY:Gruppentherapie: Psychodrama
DESCRIPTION:im kleinen Seminarraum (1. Stock) \nHilfe bei Angst\, bei Depression und anderen Schwierigkeiten. Gruppenpsychotherapie mit der Methode Psychodrama. \nAb 17.15 – 20.00 Uhr\, mit Pause \nOhne Kosten bei Vorlage einer ärztlichen Überweisung zur Psychotherapie. \nFür die Anmeldung und mehr Information: Michael Josef Seiss\, MMSc. unter 0699-11133441. praxis@michaeljosefseiss.at \n 
URL:https://wienzimmer.fsw.at/event/gruppentherapie-psychodrama-15/2024-07-17/
LOCATION:WienZimmer\, Karl-Seitz-Hof - Jedleseer Str. 66-94/Ecke Jedleseer Straße und Dunantgasse\, Wien\, 1210\, Österreich
CATEGORIES:Sonstiges
ATTACH;FMTTYPE=image/png:https://wienzimmer.fsw.at/wp-content/uploads/2023/11/Gruppentherapie.png
END:VEVENT
BEGIN:VEVENT
DTSTART;TZID=Europe/Vienna:20240718T130000
DTEND;TZID=Europe/Vienna:20240718T183000
DTSTAMP:20260425T162049
CREATED:20240703T091520Z
LAST-MODIFIED:20240703T091520Z
UID:10002792-1721307600-1721327400@wienzimmer.fsw.at
SUMMARY:zoom mobil Workshop: Wir brauchen Werkzeug  (Kindermuseum)
DESCRIPTION:für Kinder ab 4 Jahren (unter 8 Jahren in Begleitung der Eltern) im Souterrain\n\nMit Karton\, Farbe und Klebeband verwandeln wir das WienZimmer Gartenstadt in eine riesige Weltraumstadt. Wo starten die Altpapierraketen? Wer schreddert die Gravitationswellpappe? Und wo tanzen die Papproboter? \nWorkshop 1: 13.00-14.30Uhr\nWorkshop 2: 15.00-16.30Uhr\nWorkshop 3: 17.00-18.30Uhr \nAnmeldung erforderlich unter: wienzimmer@fsw.at Betreff: ZOOM mobil Spezialwoche;\ntelefonisch unter: +43 676 8289 40055 oder persönlich im WienZimmer
URL:https://wienzimmer.fsw.at/event/zoom-mobil-workshop-wir-brauchen-werkzeug-kindermuseum-3/
CATEGORIES:Kinder und Jugendliche
END:VEVENT
BEGIN:VEVENT
DTSTART;TZID=Europe/Vienna:20240719T130000
DTEND;TZID=Europe/Vienna:20240719T163000
DTSTAMP:20260425T162049
CREATED:20240703T091607Z
LAST-MODIFIED:20240703T091607Z
UID:10002793-1721394000-1721406600@wienzimmer.fsw.at
SUMMARY:zoom mobil Workshop: Wir brauchen Werkzeug  (Kindermuseum)
DESCRIPTION:für Kinder ab 4 Jahren (unter 8 Jahren in Begleitung der Eltern) im Souterrain\n\nMit Karton\, Farbe und Klebeband verwandeln wir das WienZimmer Gartenstadt in eine riesige Weltraumstadt. Wo starten die Altpapierraketen? Wer schreddert die Gravitationswellpappe? Und wo tanzen die Papproboter? \nWorkshop 1: 13.00-14.30Uhr\nWorkshop 2: 15.00-16.30Uhr \nAnmeldung erforderlich unter: wienzimmer@fsw.at Betreff: ZOOM mobil Spezialwoche;\ntelefonisch unter: +43 676 8289 40055 oder persönlich im WienZimmer
URL:https://wienzimmer.fsw.at/event/zoom-mobil-workshop-wir-brauchen-werkzeug-kindermuseum-4/
CATEGORIES:Kinder und Jugendliche
END:VEVENT
BEGIN:VEVENT
DTSTART;TZID=Europe/Vienna:20240722T090000
DTEND;TZID=Europe/Vienna:20240722T153000
DTSTAMP:20260425T162049
CREATED:20240710T102043Z
LAST-MODIFIED:20240710T102130Z
UID:10002794-1721638800-1721662200@wienzimmer.fsw.at
SUMMARY:Sommerwochen Spezial
DESCRIPTION:Sommerwochen Spezial\nTeach for Austria / Hobby Lobby \nAuch heuer finden im WienZimmer in Kooperation mit Teach For Austria und der Hobby Lobby wieder zwei Sommerwochen von 22.7. – 1.8.2024 statt. \nWenn du zwischen 10 und 15 Jahren alt bist\, kannst du dich hier für die Sommerwochen anmelden oder direkt an info@viennahobbylobby.com schreiben. \nDie Sommerwochen finden immer von Montag bis Freitag statt und sind kostenlos. \nProgramm:\n9:00 – 12:00 Lernförderung (Mathematik\, Deutsch\, Englisch)\n12:00 – 13:00 Mittagspause (ohne Aufsicht)\n13:00 – 15:30 Freizeitkurse (Basketball\, Street Art\, Kickboxen\, Schauspielen und vieles mehr…) \nDie Anmeldung gilt erst\, wenn du von der Hobby Lobby eine Bestätigung bekommen hast.
URL:https://wienzimmer.fsw.at/event/sommerwochen-spezial/2024-07-22/
CATEGORIES:Kinder und Jugendliche
END:VEVENT
BEGIN:VEVENT
DTSTART;TZID=Europe/Vienna:20240723T090000
DTEND;TZID=Europe/Vienna:20240723T153000
DTSTAMP:20260425T162049
CREATED:20240710T102043Z
LAST-MODIFIED:20240710T102130Z
UID:10002795-1721725200-1721748600@wienzimmer.fsw.at
SUMMARY:Sommerwochen Spezial
DESCRIPTION:Sommerwochen Spezial\nTeach for Austria / Hobby Lobby \nAuch heuer finden im WienZimmer in Kooperation mit Teach For Austria und der Hobby Lobby wieder zwei Sommerwochen von 22.7. – 1.8.2024 statt. \nWenn du zwischen 10 und 15 Jahren alt bist\, kannst du dich hier für die Sommerwochen anmelden oder direkt an info@viennahobbylobby.com schreiben. \nDie Sommerwochen finden immer von Montag bis Freitag statt und sind kostenlos. \nProgramm:\n9:00 – 12:00 Lernförderung (Mathematik\, Deutsch\, Englisch)\n12:00 – 13:00 Mittagspause (ohne Aufsicht)\n13:00 – 15:30 Freizeitkurse (Basketball\, Street Art\, Kickboxen\, Schauspielen und vieles mehr…) \nDie Anmeldung gilt erst\, wenn du von der Hobby Lobby eine Bestätigung bekommen hast.
URL:https://wienzimmer.fsw.at/event/sommerwochen-spezial/2024-07-23/
CATEGORIES:Kinder und Jugendliche
END:VEVENT
BEGIN:VEVENT
DTSTART;TZID=Europe/Vienna:20240724T090000
DTEND;TZID=Europe/Vienna:20240724T153000
DTSTAMP:20260425T162049
CREATED:20240710T102043Z
LAST-MODIFIED:20240710T102130Z
UID:10002796-1721811600-1721835000@wienzimmer.fsw.at
SUMMARY:Sommerwochen Spezial
DESCRIPTION:Sommerwochen Spezial\nTeach for Austria / Hobby Lobby \nAuch heuer finden im WienZimmer in Kooperation mit Teach For Austria und der Hobby Lobby wieder zwei Sommerwochen von 22.7. – 1.8.2024 statt. \nWenn du zwischen 10 und 15 Jahren alt bist\, kannst du dich hier für die Sommerwochen anmelden oder direkt an info@viennahobbylobby.com schreiben. \nDie Sommerwochen finden immer von Montag bis Freitag statt und sind kostenlos. \nProgramm:\n9:00 – 12:00 Lernförderung (Mathematik\, Deutsch\, Englisch)\n12:00 – 13:00 Mittagspause (ohne Aufsicht)\n13:00 – 15:30 Freizeitkurse (Basketball\, Street Art\, Kickboxen\, Schauspielen und vieles mehr…) \nDie Anmeldung gilt erst\, wenn du von der Hobby Lobby eine Bestätigung bekommen hast.
URL:https://wienzimmer.fsw.at/event/sommerwochen-spezial/2024-07-24/
CATEGORIES:Kinder und Jugendliche
END:VEVENT
BEGIN:VEVENT
DTSTART;TZID=Europe/Vienna:20240725T090000
DTEND;TZID=Europe/Vienna:20240725T153000
DTSTAMP:20260425T162049
CREATED:20240710T102043Z
LAST-MODIFIED:20240710T102130Z
UID:10002797-1721898000-1721921400@wienzimmer.fsw.at
SUMMARY:Sommerwochen Spezial
DESCRIPTION:Sommerwochen Spezial\nTeach for Austria / Hobby Lobby \nAuch heuer finden im WienZimmer in Kooperation mit Teach For Austria und der Hobby Lobby wieder zwei Sommerwochen von 22.7. – 1.8.2024 statt. \nWenn du zwischen 10 und 15 Jahren alt bist\, kannst du dich hier für die Sommerwochen anmelden oder direkt an info@viennahobbylobby.com schreiben. \nDie Sommerwochen finden immer von Montag bis Freitag statt und sind kostenlos. \nProgramm:\n9:00 – 12:00 Lernförderung (Mathematik\, Deutsch\, Englisch)\n12:00 – 13:00 Mittagspause (ohne Aufsicht)\n13:00 – 15:30 Freizeitkurse (Basketball\, Street Art\, Kickboxen\, Schauspielen und vieles mehr…) \nDie Anmeldung gilt erst\, wenn du von der Hobby Lobby eine Bestätigung bekommen hast.
URL:https://wienzimmer.fsw.at/event/sommerwochen-spezial/2024-07-25/
CATEGORIES:Kinder und Jugendliche
END:VEVENT
BEGIN:VEVENT
DTSTART;TZID=Europe/Vienna:20240726T090000
DTEND;TZID=Europe/Vienna:20240726T153000
DTSTAMP:20260425T162049
CREATED:20240710T102043Z
LAST-MODIFIED:20240710T102130Z
UID:10002798-1721984400-1722007800@wienzimmer.fsw.at
SUMMARY:Sommerwochen Spezial
DESCRIPTION:Sommerwochen Spezial\nTeach for Austria / Hobby Lobby \nAuch heuer finden im WienZimmer in Kooperation mit Teach For Austria und der Hobby Lobby wieder zwei Sommerwochen von 22.7. – 1.8.2024 statt. \nWenn du zwischen 10 und 15 Jahren alt bist\, kannst du dich hier für die Sommerwochen anmelden oder direkt an info@viennahobbylobby.com schreiben. \nDie Sommerwochen finden immer von Montag bis Freitag statt und sind kostenlos. \nProgramm:\n9:00 – 12:00 Lernförderung (Mathematik\, Deutsch\, Englisch)\n12:00 – 13:00 Mittagspause (ohne Aufsicht)\n13:00 – 15:30 Freizeitkurse (Basketball\, Street Art\, Kickboxen\, Schauspielen und vieles mehr…) \nDie Anmeldung gilt erst\, wenn du von der Hobby Lobby eine Bestätigung bekommen hast.
URL:https://wienzimmer.fsw.at/event/sommerwochen-spezial/2024-07-26/
CATEGORIES:Kinder und Jugendliche
END:VEVENT
BEGIN:VEVENT
DTSTART;TZID=Europe/Vienna:20240729T090000
DTEND;TZID=Europe/Vienna:20240729T153000
DTSTAMP:20260425T162049
CREATED:20240710T102210Z
LAST-MODIFIED:20240710T102302Z
UID:10002804-1722243600-1722267000@wienzimmer.fsw.at
SUMMARY:Sommerwochen Spezial
DESCRIPTION:Sommerwochen Spezial\nTeach for Austria / Hobby Lobby \nAuch heuer finden im WienZimmer in Kooperation mit Teach For Austria und der Hobby Lobby wieder zwei Sommerwochen von 22.7. – 1.8.2024 statt. \nWenn du zwischen 10 und 15 Jahren alt bist\, kannst du dich hier für die Sommerwochen anmelden oder direkt an info@viennahobbylobby.com schreiben. \nDie Sommerwochen finden immer von Montag bis Freitag statt und sind kostenlos. \nProgramm:\n9:00 – 12:00 Lernförderung (Mathematik\, Deutsch\, Englisch)\n12:00 – 13:00 Mittagspause (ohne Aufsicht)\n13:00 – 15:30 Freizeitkurse (Basketball\, Street Art\, Kickboxen\, Schauspielen und vieles mehr…) \nDie Anmeldung gilt erst\, wenn du von der Hobby Lobby eine Bestätigung bekommen hast.
URL:https://wienzimmer.fsw.at/event/sommerwochen-spezial-2/2024-07-29/
CATEGORIES:Kinder und Jugendliche
END:VEVENT
BEGIN:VEVENT
DTSTART;TZID=Europe/Vienna:20240730T090000
DTEND;TZID=Europe/Vienna:20240730T153000
DTSTAMP:20260425T162049
CREATED:20240710T102210Z
LAST-MODIFIED:20240710T102302Z
UID:10002805-1722330000-1722353400@wienzimmer.fsw.at
SUMMARY:Sommerwochen Spezial
DESCRIPTION:Sommerwochen Spezial\nTeach for Austria / Hobby Lobby \nAuch heuer finden im WienZimmer in Kooperation mit Teach For Austria und der Hobby Lobby wieder zwei Sommerwochen von 22.7. – 1.8.2024 statt. \nWenn du zwischen 10 und 15 Jahren alt bist\, kannst du dich hier für die Sommerwochen anmelden oder direkt an info@viennahobbylobby.com schreiben. \nDie Sommerwochen finden immer von Montag bis Freitag statt und sind kostenlos. \nProgramm:\n9:00 – 12:00 Lernförderung (Mathematik\, Deutsch\, Englisch)\n12:00 – 13:00 Mittagspause (ohne Aufsicht)\n13:00 – 15:30 Freizeitkurse (Basketball\, Street Art\, Kickboxen\, Schauspielen und vieles mehr…) \nDie Anmeldung gilt erst\, wenn du von der Hobby Lobby eine Bestätigung bekommen hast.
URL:https://wienzimmer.fsw.at/event/sommerwochen-spezial-2/2024-07-30/
CATEGORIES:Kinder und Jugendliche
END:VEVENT
BEGIN:VEVENT
DTSTART;TZID=Europe/Vienna:20240731T090000
DTEND;TZID=Europe/Vienna:20240731T153000
DTSTAMP:20260425T162049
CREATED:20240710T102210Z
LAST-MODIFIED:20240710T102302Z
UID:10002806-1722416400-1722439800@wienzimmer.fsw.at
SUMMARY:Sommerwochen Spezial
DESCRIPTION:Sommerwochen Spezial\nTeach for Austria / Hobby Lobby \nAuch heuer finden im WienZimmer in Kooperation mit Teach For Austria und der Hobby Lobby wieder zwei Sommerwochen von 22.7. – 1.8.2024 statt. \nWenn du zwischen 10 und 15 Jahren alt bist\, kannst du dich hier für die Sommerwochen anmelden oder direkt an info@viennahobbylobby.com schreiben. \nDie Sommerwochen finden immer von Montag bis Freitag statt und sind kostenlos. \nProgramm:\n9:00 – 12:00 Lernförderung (Mathematik\, Deutsch\, Englisch)\n12:00 – 13:00 Mittagspause (ohne Aufsicht)\n13:00 – 15:30 Freizeitkurse (Basketball\, Street Art\, Kickboxen\, Schauspielen und vieles mehr…) \nDie Anmeldung gilt erst\, wenn du von der Hobby Lobby eine Bestätigung bekommen hast.
URL:https://wienzimmer.fsw.at/event/sommerwochen-spezial-2/2024-07-31/
CATEGORIES:Kinder und Jugendliche
END:VEVENT
END:VCALENDAR