BEGIN:VCALENDAR
VERSION:2.0
PRODID:-//Wien Zimmer - ECPv6.15.17.1//NONSGML v1.0//EN
CALSCALE:GREGORIAN
METHOD:PUBLISH
X-ORIGINAL-URL:https://wienzimmer.fsw.at
X-WR-CALDESC:Veranstaltungen für Wien Zimmer
REFRESH-INTERVAL;VALUE=DURATION:PT1H
X-Robots-Tag:noindex
X-PUBLISHED-TTL:PT1H
BEGIN:VTIMEZONE
TZID:Europe/Vienna
BEGIN:DAYLIGHT
TZOFFSETFROM:+0100
TZOFFSETTO:+0200
TZNAME:CEST
DTSTART:20230326T010000
END:DAYLIGHT
BEGIN:STANDARD
TZOFFSETFROM:+0200
TZOFFSETTO:+0100
TZNAME:CET
DTSTART:20231029T010000
END:STANDARD
BEGIN:DAYLIGHT
TZOFFSETFROM:+0100
TZOFFSETTO:+0200
TZNAME:CEST
DTSTART:20240331T010000
END:DAYLIGHT
BEGIN:STANDARD
TZOFFSETFROM:+0200
TZOFFSETTO:+0100
TZNAME:CET
DTSTART:20241027T010000
END:STANDARD
BEGIN:DAYLIGHT
TZOFFSETFROM:+0100
TZOFFSETTO:+0200
TZNAME:CEST
DTSTART:20250330T010000
END:DAYLIGHT
BEGIN:STANDARD
TZOFFSETFROM:+0200
TZOFFSETTO:+0100
TZNAME:CET
DTSTART:20251026T010000
END:STANDARD
END:VTIMEZONE
BEGIN:VEVENT
DTSTART;TZID=Europe/Vienna:20240402T080000
DTEND;TZID=Europe/Vienna:20240402T100000
DTSTAMP:20260425T205741
CREATED:20240221T135959Z
LAST-MODIFIED:20240417T114943Z
UID:10002443-1712044800-1712052000@wienzimmer.fsw.at
SUMMARY:Elterncafé im WienZimmer
DESCRIPTION:Bei kostenlosem Filterkaffee\, Tee\, Keksen und einer kleinen Frühstücksjause können Eltern sich hier\, in einem moderierten Rahmen\, zu Themen rund ums Eltern sein\, ihre Kinder und schulische Herausforderungen austauschen.\nEs ist keine Anmeldung notwendig. \n* Das Elterncafe findet  ab dem 20. Februar – bis auf weiteres – wöchentlich am Dienstag um 08:00 Uhr statt.
URL:https://wienzimmer.fsw.at/event/elterncafe-im-wienzimmer-2/2024-04-02/
LOCATION:WienZimmer\, Karl-Seitz-Hof - Jedleseer Str. 66-94/Ecke Jedleseer Straße und Dunantgasse\, Wien\, 1210\, Österreich
END:VEVENT
BEGIN:VEVENT
DTSTART;TZID=Europe/Vienna:20240402T130000
DTEND;TZID=Europe/Vienna:20240402T140000
DTSTAMP:20260425T205741
CREATED:20240328T091903Z
LAST-MODIFIED:20240328T091929Z
UID:10002448-1712062800-1712066400@wienzimmer.fsw.at
SUMMARY:WienZimmer Ostereiersuche
DESCRIPTION:Ostereiersuche für die Kinder aus dem Hof\nim WienZimmer und im Innenhof vor dem WienZimmer
URL:https://wienzimmer.fsw.at/event/wienzimmer-ostereiersuche/
CATEGORIES:Kinder und Jugendliche
END:VEVENT
BEGIN:VEVENT
DTSTART;TZID=Europe/Vienna:20240402T140000
DTEND;TZID=Europe/Vienna:20240402T160000
DTSTAMP:20260425T205741
CREATED:20240124T123207Z
LAST-MODIFIED:20240529T083424Z
UID:10002457-1712066400-1712073600@wienzimmer.fsw.at
SUMMARY:Hausaufgabenbetreuung
DESCRIPTION:Hausaufgabenbetreuung im kleinen Seminarraum \nin Kooperation mit „Rettet das Kind Österreich“ für Kinder von 6 bis 12 Jahren\, nur mit Anmeldung \nMehr Information gibt es hier.
URL:https://wienzimmer.fsw.at/event/hausaufgabenbetreuung-2/2024-04-02/
LOCATION:WienZimmer\, Karl-Seitz-Hof - Jedleseer Str. 66-94/Ecke Jedleseer Straße und Dunantgasse\, Wien\, 1210\, Österreich
CATEGORIES:Kinder und Jugendliche
ATTACH;FMTTYPE=image/png:https://wienzimmer.fsw.at/wp-content/uploads/2023/11/Hausaufgaben.png
END:VEVENT
BEGIN:VEVENT
DTSTART;TZID=Europe/Vienna:20240402T160000
DTEND;TZID=Europe/Vienna:20240402T170000
DTSTAMP:20260425T205741
CREATED:20240328T092926Z
LAST-MODIFIED:20240328T093803Z
UID:10002462-1712073600-1712077200@wienzimmer.fsw.at
SUMMARY:Hobby Lobby: Malen & Zeichnen
DESCRIPTION:Malen & Zeichnen  im kleinen Seminarraum \nDie Vienna Hobby Lobby bietet Kindern/Jugendlichen im Alter von 12 bis 17 Jahren verschiedene Kurse an. \nMehr Info gibt es hier. \nKontakt: \nEmail: linda.fress@viennahobbylobby.com Tel.:+43 677 61476128
URL:https://wienzimmer.fsw.at/event/hobby-lobby-malen-zeichnen-2/
CATEGORIES:Kinder und Jugendliche
ATTACH;FMTTYPE=image/png:https://wienzimmer.fsw.at/wp-content/uploads/2023/11/Malen.png
END:VEVENT
BEGIN:VEVENT
DTSTART;TZID=Europe/Vienna:20240402T173000
DTEND;TZID=Europe/Vienna:20240402T183000
DTSTAMP:20260425T205741
CREATED:20240227T141550Z
LAST-MODIFIED:20240529T083801Z
UID:10002468-1712079000-1712082600@wienzimmer.fsw.at
SUMMARY:Hobby Lobby: Näh- und Häkelkurs
DESCRIPTION:Hobby Lobby: Näh- & Häkelkurs\nkleiner Seminarraum \nDie Vienna Hobby Lobby bietet Kindern/Jugendlichen im Alter von 12 bis 17 Jahren verschiedene Kurse an. \nAb der zweiten Märzwoche ist eine verbindliche Anmeldung erforderlich. \nMehr Info gibt es hier. \nKontakt: \nEmail: linda.fress@viennahobbylobby.com Tel.:+43 677 61476128
URL:https://wienzimmer.fsw.at/event/hobby-lobby-naeh-und-haekelkurs/2024-04-02/
CATEGORIES:Kinder und Jugendliche
ATTACH;FMTTYPE=image/png:https://wienzimmer.fsw.at/wp-content/uploads/2024/04/naehkurs.png
END:VEVENT
BEGIN:VEVENT
DTSTART;TZID=Europe/Vienna:20240402T180000
DTEND;TZID=Europe/Vienna:20240402T190000
DTSTAMP:20260425T205741
CREATED:20240328T093940Z
LAST-MODIFIED:20240529T083837Z
UID:10002473-1712080800-1712084400@wienzimmer.fsw.at
SUMMARY:Hobby Lobby: Jiu Jitsu
DESCRIPTION:Jiu Jitsu  im Souterrain \nDie Vienna Hobby Lobby bietet Kindern/Jugendlichen im Alter von 12 bis 17 Jahren verschiedene Kurse an. \nMehr Info gibt es hier. \nKontakt: \nEmail: linda.fress@viennahobbylobby.com Tel.:+43 677 61476128
URL:https://wienzimmer.fsw.at/event/hobby-lobby-jiu-jitsu/2024-04-02/
CATEGORIES:Kinder und Jugendliche
ATTACH;FMTTYPE=image/png:https://wienzimmer.fsw.at/wp-content/uploads/2024/04/kampfsport.png
END:VEVENT
BEGIN:VEVENT
DTSTART;TZID=Europe/Vienna:20240403T123000
DTEND;TZID=Europe/Vienna:20240403T160000
DTSTAMP:20260425T205741
CREATED:20240328T094420Z
LAST-MODIFIED:20240328T094420Z
UID:10002480-1712147400-1712160000@wienzimmer.fsw.at
SUMMARY:Pflanzen vorziehen
DESCRIPTION:Offen für alle die kommen möchten! Eine Anmeldung ist nicht erforderlich\nauf der Terrasse / im Festsaal
URL:https://wienzimmer.fsw.at/event/pflanzen-vorziehen/
END:VEVENT
BEGIN:VEVENT
DTSTART;TZID=Europe/Vienna:20240403T153000
DTEND;TZID=Europe/Vienna:20240403T163000
DTSTAMP:20260425T205741
CREATED:20240227T142109Z
LAST-MODIFIED:20240529T084345Z
UID:10002482-1712158200-1712161800@wienzimmer.fsw.at
SUMMARY:Vienna Hobby Lobby: Tanzen
DESCRIPTION:Tanzen  im kleinen Seminarraum oder im Souterrain \nDie Vienna Hobby Lobby bietet Kindern/Jugendlichen im Alter von 12 bis 17 Jahren verschiedene Kurse an. \nAb der zweiten Märzwoche ist eine verbindliche Anmeldung erforderlich. \nMehr Info gibt es hier. \nKontakt: \nEmail: linda.fress@viennahobbylobby.com Tel.:+43 677 61476128
URL:https://wienzimmer.fsw.at/event/vienna-hobby-lobby-tanzen-2/2024-04-03/
LOCATION:WienZimmer\, Karl-Seitz-Hof - Jedleseer Str. 66-94/Ecke Jedleseer Straße und Dunantgasse\, Wien\, 1210\, Österreich
CATEGORIES:Kinder und Jugendliche
ATTACH;FMTTYPE=image/png:https://wienzimmer.fsw.at/wp-content/uploads/2023/11/Tanzen.png
END:VEVENT
BEGIN:VEVENT
DTSTART;TZID=Europe/Vienna:20240403T160000
DTEND;TZID=Europe/Vienna:20240403T173000
DTSTAMP:20260425T205741
CREATED:20240328T095042Z
LAST-MODIFIED:20240328T095042Z
UID:10002496-1712160000-1712165400@wienzimmer.fsw.at
SUMMARY:s’Plaudertischerl – Einfach ins Gespräch kommen
DESCRIPTION:Einfach ins Gespräch kommen\n1. Teil – 16.00-17.00 Uhr Führung durch den Karl-Seitz-Hof mit Mieterbeirat Heinrich Gindel.\n2. Teil Ausklang bei Kaffee und Kuchen im Festsaal \nEin kurzer Plausch über das Wetter oder eine längere Unterhaltung – regelmäßig am ersten Mittwoch im Monat kommen am Plaudertischerl in Wiener Kaffeehäusern und Nachbarschaftszentren Menschen auf einfachem Wege mit anderen ins Gespräch. \nwww.plaudertischerl.at
URL:https://wienzimmer.fsw.at/event/splaudertischerl-einfach-ins-gespraech-kommen-9/
LOCATION:WienZimmer\, Karl-Seitz-Hof - Jedleseer Str. 66-94/Ecke Jedleseer Straße und Dunantgasse\, Wien\, 1210\, Österreich
CATEGORIES:Sonstiges
ATTACH;FMTTYPE=image/png:https://wienzimmer.fsw.at/wp-content/uploads/2023/11/Plaudertischerl.png
END:VEVENT
BEGIN:VEVENT
DTSTART;TZID=Europe/Vienna:20240403T163000
DTEND;TZID=Europe/Vienna:20240403T173000
DTSTAMP:20260425T205741
CREATED:20240227T142350Z
LAST-MODIFIED:20240529T084422Z
UID:10002487-1712161800-1712165400@wienzimmer.fsw.at
SUMMARY:Vienna Hobby Lobby: Theater
DESCRIPTION:Theater im kleinen Seminarraum oder im Souterrain \nDie Vienna Hobby Lobby bietet Kindern/Jugendlichen im Alter von 12 bis 17 Jahren verschiedene Kurse an. \nAb der zweiten Märzwoche ist eine verbindliche Anmeldung erforderlich. \nMehr Info gibt es hier. \nKontakt: \nEmail: linda.fress@viennahobbylobby.com Tel.:+43 677 61476128
URL:https://wienzimmer.fsw.at/event/vienna-hobby-lobby-theater-2/2024-04-03/
LOCATION:WienZimmer\, Karl-Seitz-Hof - Jedleseer Str. 66-94/Ecke Jedleseer Straße und Dunantgasse\, Wien\, 1210\, Österreich
CATEGORIES:Kinder und Jugendliche
ATTACH;FMTTYPE=image/png:https://wienzimmer.fsw.at/wp-content/uploads/2023/11/Theater.png
END:VEVENT
BEGIN:VEVENT
DTSTART;TZID=Europe/Vienna:20240403T170000
DTEND;TZID=Europe/Vienna:20240403T200000
DTSTAMP:20260425T205741
CREATED:20240328T095208Z
LAST-MODIFIED:20240328T095911Z
UID:10002499-1712163600-1712174400@wienzimmer.fsw.at
SUMMARY:Gruppentherapie: Psychodrama
DESCRIPTION:im kleinen Seminarraum (1. Stock) \nHilfe bei Angst\, bei Depression und anderen Schwierigkeiten. Gruppenpsychotherapie mit der Methode Psychodrama. \nAb 17.15 – 20.00 Uhr\, mit Pause \nOhne Kosten bei Vorlage einer ärztlichen Überweisung zur Psychotherapie. \nFür die Anmeldung und mehr Information: Michael Josef Seiss\, MMSc. unter 0699-11133441. praxis@michaeljosefseiss.at \nweitere Termine: 31.5.23\, 14.6.23 \, 28.6.23\, 12.7.23
URL:https://wienzimmer.fsw.at/event/gruppentherapie-psychodrama-12/2024-04-03/
LOCATION:WienZimmer\, Karl-Seitz-Hof - Jedleseer Str. 66-94/Ecke Jedleseer Straße und Dunantgasse\, Wien\, 1210\, Österreich
CATEGORIES:Sonstiges
ATTACH;FMTTYPE=image/png:https://wienzimmer.fsw.at/wp-content/uploads/2023/11/Gruppentherapie.png
END:VEVENT
BEGIN:VEVENT
DTSTART;TZID=Europe/Vienna:20240403T173000
DTEND;TZID=Europe/Vienna:20240403T183000
DTSTAMP:20260425T205741
CREATED:20240227T142555Z
LAST-MODIFIED:20240529T084505Z
UID:10002492-1712165400-1712169000@wienzimmer.fsw.at
SUMMARY:Vienna Hobby Lobby: Kampfsport
DESCRIPTION:Kampfsport im Souterrain \nDie Vienna Hobby Lobby bietet Kindern/Jugendlichen im Alter von 12 bis 17 Jahren verschiedene Kurse an. \nAb der zweiten Märzwoche ist eine verbindliche Anmeldung erforderlich. \nMehr Info gibt es hier. \nKontakt: \nEmail: linda.fress@viennahobbylobby.com Tel.:+43 677 61476128
URL:https://wienzimmer.fsw.at/event/vienna-hobby-lobby-kampfsport-2/2024-04-03/
LOCATION:WienZimmer\, Karl-Seitz-Hof - Jedleseer Str. 66-94/Ecke Jedleseer Straße und Dunantgasse\, Wien\, 1210\, Österreich
CATEGORIES:Kinder und Jugendliche
ATTACH;FMTTYPE=image/png:https://wienzimmer.fsw.at/wp-content/uploads/2023/11/Kampfsport.png
END:VEVENT
BEGIN:VEVENT
DTSTART;TZID=Europe/Vienna:20240404T123000
DTEND;TZID=Europe/Vienna:20240404T160000
DTSTAMP:20260425T205741
CREATED:20240328T095413Z
LAST-MODIFIED:20240328T095413Z
UID:10002527-1712233800-1712246400@wienzimmer.fsw.at
SUMMARY:Pflanzen vorziehen
DESCRIPTION:Offen für alle die kommen möchten! Eine Anmeldung ist nicht erforderlich\nauf der Terrasse / im Festsaal
URL:https://wienzimmer.fsw.at/event/pflanzen-vorziehen-2/
END:VEVENT
BEGIN:VEVENT
DTSTART;TZID=Europe/Vienna:20240404T140000
DTEND;TZID=Europe/Vienna:20240404T160000
DTSTAMP:20260425T205741
CREATED:20240124T125415Z
LAST-MODIFIED:20240529T083603Z
UID:10002453-1712239200-1712246400@wienzimmer.fsw.at
SUMMARY:Hausaufgabenbetreuung
DESCRIPTION:Hausaufgabenbetreuung im kleinen Seminarraum \nin Kooperation mit „Rettet das Kind Österreich“ für Kinder von 6 bis 12 Jahren\, nur mit Anmeldung \nMehr Information gibt es hier.
URL:https://wienzimmer.fsw.at/event/hausaufgabenbetreuung-donnerstag-2-2/2024-04-04/
LOCATION:WienZimmer\, Karl-Seitz-Hof - Jedleseer Str. 66-94/Ecke Jedleseer Straße und Dunantgasse\, Wien\, 1210\, Österreich
CATEGORIES:Kinder und Jugendliche
ATTACH;FMTTYPE=image/png:https://wienzimmer.fsw.at/wp-content/uploads/2023/11/Hausaufgaben.png
END:VEVENT
BEGIN:VEVENT
DTSTART;TZID=Europe/Vienna:20240404T153000
DTEND;TZID=Europe/Vienna:20240404T163000
DTSTAMP:20260425T205741
CREATED:20240227T143252Z
LAST-MODIFIED:20240417T113455Z
UID:10002529-1712244600-1712248200@wienzimmer.fsw.at
SUMMARY:Vienna Hobby Lobby: English
DESCRIPTION:Englisch im Souterrain \nDie Vienna Hobby Lobby bietet Kindern/Jugendlichen im Alter von 12 bis 17 Jahren verschiedene Kurse an. \nAb der zweiten Märzwoche ist eine verbindliche Anmeldung erforderlich. \nMehr Info gibt es hier. \nKontakt: \nEmail: linda.fress@viennahobbylobby.com Tel.:+43 677 61476128
URL:https://wienzimmer.fsw.at/event/vienna-hobby-lobby-english/2024-04-04/
LOCATION:WienZimmer\, Karl-Seitz-Hof - Jedleseer Str. 66-94/Ecke Jedleseer Straße und Dunantgasse\, Wien\, 1210\, Österreich
CATEGORIES:Kinder und Jugendliche
ATTACH;FMTTYPE=image/png:https://wienzimmer.fsw.at/wp-content/uploads/2024/04/englisch.png
END:VEVENT
BEGIN:VEVENT
DTSTART;TZID=Europe/Vienna:20240404T163000
DTEND;TZID=Europe/Vienna:20240404T173000
DTSTAMP:20260425T205741
CREATED:20240227T143454Z
LAST-MODIFIED:20240417T113625Z
UID:10002534-1712248200-1712251800@wienzimmer.fsw.at
SUMMARY:Vienna Hobby Lobby: Musik & Singen
DESCRIPTION:Musik & Singen im kleinen Seminarraum oder im Souterrain \nDie Vienna Hobby Lobby bietet Kindern/Jugendlichen im Alter von 12 bis 17 Jahren verschiedene Kurse an. \nAb der zweiten Märzwoche ist eine verbindliche Anmeldung erforderlich. \nMehr Info gibt es hier. \nKontakt: \nEmail: linda.fress@viennahobbylobby.com Tel.:+43 677 61476128
URL:https://wienzimmer.fsw.at/event/vienna-hobby-lobby-musik-singen/2024-04-04/
LOCATION:WienZimmer\, Karl-Seitz-Hof - Jedleseer Str. 66-94/Ecke Jedleseer Straße und Dunantgasse\, Wien\, 1210\, Österreich
CATEGORIES:Kinder und Jugendliche
ATTACH;FMTTYPE=image/png:https://wienzimmer.fsw.at/wp-content/uploads/2024/04/musik_singen.png
END:VEVENT
BEGIN:VEVENT
DTSTART;TZID=Europe/Vienna:20240404T173000
DTEND;TZID=Europe/Vienna:20240404T183000
DTSTAMP:20260425T205741
CREATED:20240227T143627Z
LAST-MODIFIED:20240417T114146Z
UID:10002539-1712251800-1712255400@wienzimmer.fsw.at
SUMMARY:Vienna Hobby Lobby: Fitness
DESCRIPTION:Fitness im Souterrain \nDie Vienna Hobby Lobby bietet Kindern/Jugendlichen im Alter von 12 bis 17 Jahren verschiedene Kurse an. \nAb der zweiten Märzwoche ist eine verbindliche Anmeldung erforderlich. \nMehr Info gibt es hier. \nKontakt: \nEmail: linda.fress@viennahobbylobby.com Tel.:+43 677 61476128
URL:https://wienzimmer.fsw.at/event/vienna-hobby-lobby-fitness-3/2024-04-04/
LOCATION:WienZimmer\, Karl-Seitz-Hof - Jedleseer Str. 66-94/Ecke Jedleseer Straße und Dunantgasse\, Wien\, 1210\, Österreich
CATEGORIES:Kinder und Jugendliche
ATTACH;FMTTYPE=image/png:https://wienzimmer.fsw.at/wp-content/uploads/2023/11/Fitness.png
END:VEVENT
BEGIN:VEVENT
DTSTART;TZID=Europe/Vienna:20240405T150000
DTEND;TZID=Europe/Vienna:20240405T160000
DTSTAMP:20260425T205741
CREATED:20240328T101121Z
LAST-MODIFIED:20240417T114422Z
UID:10002567-1712329200-1712332800@wienzimmer.fsw.at
SUMMARY:Vienna Hobby Lobby: Türkisch
DESCRIPTION:Türkisch im kleinen Seminarraum \nDie Vienna Hobby Lobby bietet Kindern/Jugendlichen im Alter von 12 bis 17 Jahren verschiedene Kurse an. \nAb der zweiten Märzwoche ist eine verbindliche Anmeldung erforderlich. \nMehr Info gibt es hier. \nKontakt: \nEmail: linda.fress@viennahobbylobby.com Tel.:+43 677 61476128
URL:https://wienzimmer.fsw.at/event/vienna-hobby-lobby-tuerkisch-2/2024-04-05/
LOCATION:WienZimmer\, Karl-Seitz-Hof - Jedleseer Str. 66-94/Ecke Jedleseer Straße und Dunantgasse\, Wien\, 1210\, Österreich
CATEGORIES:Kinder und Jugendliche
ATTACH;FMTTYPE=image/png:https://wienzimmer.fsw.at/wp-content/uploads/2024/04/tuerkisch.png
END:VEVENT
BEGIN:VEVENT
DTSTART;TZID=Europe/Vienna:20240405T160000
DTEND;TZID=Europe/Vienna:20240405T170000
DTSTAMP:20260425T205741
CREATED:20240227T144014Z
LAST-MODIFIED:20240417T114607Z
UID:10002571-1712332800-1712336400@wienzimmer.fsw.at
SUMMARY:Vienna Hobby Lobby: Töpfern
DESCRIPTION:Töpfern im kleinen Souterrain \nDie Vienna Hobby Lobby bietet Kindern/Jugendlichen im Alter von 12 bis 17 Jahren verschiedene Kurse an. \nAb der zweiten Märzwoche ist eine verbindliche Anmeldung erforderlich. \nMehr Info gibt es hier. \nKontakt: \nEmail: linda.fress@viennahobbylobby.com Tel.:+43 677 61476128
URL:https://wienzimmer.fsw.at/event/vienna-hobby-lobby-toepfern-2/2024-04-05/
LOCATION:WienZimmer\, Karl-Seitz-Hof - Jedleseer Str. 66-94/Ecke Jedleseer Straße und Dunantgasse\, Wien\, 1210\, Österreich
CATEGORIES:Kinder und Jugendliche
ATTACH;FMTTYPE=image/png:https://wienzimmer.fsw.at/wp-content/uploads/2023/11/Toepfern.png
END:VEVENT
BEGIN:VEVENT
DTSTART;TZID=Europe/Vienna:20240409T080000
DTEND;TZID=Europe/Vienna:20240409T100000
DTSTAMP:20260425T205741
CREATED:20240221T135959Z
LAST-MODIFIED:20240417T114943Z
UID:10002444-1712649600-1712656800@wienzimmer.fsw.at
SUMMARY:Elterncafé im WienZimmer
DESCRIPTION:Bei kostenlosem Filterkaffee\, Tee\, Keksen und einer kleinen Frühstücksjause können Eltern sich hier\, in einem moderierten Rahmen\, zu Themen rund ums Eltern sein\, ihre Kinder und schulische Herausforderungen austauschen.\nEs ist keine Anmeldung notwendig. \n* Das Elterncafe findet  ab dem 20. Februar – bis auf weiteres – wöchentlich am Dienstag um 08:00 Uhr statt.
URL:https://wienzimmer.fsw.at/event/elterncafe-im-wienzimmer-2/2024-04-09/
LOCATION:WienZimmer\, Karl-Seitz-Hof - Jedleseer Str. 66-94/Ecke Jedleseer Straße und Dunantgasse\, Wien\, 1210\, Österreich
END:VEVENT
BEGIN:VEVENT
DTSTART;TZID=Europe/Vienna:20240409T130000
DTEND;TZID=Europe/Vienna:20240409T133000
DTSTAMP:20260425T205741
CREATED:20240328T100450Z
LAST-MODIFIED:20240417T131734Z
UID:10002551-1712667600-1712669400@wienzimmer.fsw.at
SUMMARY:Bilderbuchkino
DESCRIPTION:bebilderte Leseaktion für Kinder bis 12 Jahre\nSouterrain
URL:https://wienzimmer.fsw.at/event/bilderbuchkino-5/2024-04-09/
CATEGORIES:Kinder und Jugendliche
END:VEVENT
BEGIN:VEVENT
DTSTART;TZID=Europe/Vienna:20240409T140000
DTEND;TZID=Europe/Vienna:20240409T160000
DTSTAMP:20260425T205741
CREATED:20240124T123207Z
LAST-MODIFIED:20240529T083424Z
UID:10002458-1712671200-1712678400@wienzimmer.fsw.at
SUMMARY:Hausaufgabenbetreuung
DESCRIPTION:Hausaufgabenbetreuung im kleinen Seminarraum \nin Kooperation mit „Rettet das Kind Österreich“ für Kinder von 6 bis 12 Jahren\, nur mit Anmeldung \nMehr Information gibt es hier.
URL:https://wienzimmer.fsw.at/event/hausaufgabenbetreuung-2/2024-04-09/
LOCATION:WienZimmer\, Karl-Seitz-Hof - Jedleseer Str. 66-94/Ecke Jedleseer Straße und Dunantgasse\, Wien\, 1210\, Österreich
CATEGORIES:Kinder und Jugendliche
ATTACH;FMTTYPE=image/png:https://wienzimmer.fsw.at/wp-content/uploads/2023/11/Hausaufgaben.png
END:VEVENT
BEGIN:VEVENT
DTSTART;TZID=Europe/Vienna:20240409T173000
DTEND;TZID=Europe/Vienna:20240409T183000
DTSTAMP:20260425T205741
CREATED:20240227T141550Z
LAST-MODIFIED:20240529T083801Z
UID:10002469-1712683800-1712687400@wienzimmer.fsw.at
SUMMARY:Hobby Lobby: Näh- und Häkelkurs
DESCRIPTION:Hobby Lobby: Näh- & Häkelkurs\nkleiner Seminarraum \nDie Vienna Hobby Lobby bietet Kindern/Jugendlichen im Alter von 12 bis 17 Jahren verschiedene Kurse an. \nAb der zweiten Märzwoche ist eine verbindliche Anmeldung erforderlich. \nMehr Info gibt es hier. \nKontakt: \nEmail: linda.fress@viennahobbylobby.com Tel.:+43 677 61476128
URL:https://wienzimmer.fsw.at/event/hobby-lobby-naeh-und-haekelkurs/2024-04-09/
CATEGORIES:Kinder und Jugendliche
ATTACH;FMTTYPE=image/png:https://wienzimmer.fsw.at/wp-content/uploads/2024/04/naehkurs.png
END:VEVENT
BEGIN:VEVENT
DTSTART;TZID=Europe/Vienna:20240409T180000
DTEND;TZID=Europe/Vienna:20240409T190000
DTSTAMP:20260425T205741
CREATED:20240328T093940Z
LAST-MODIFIED:20240529T083837Z
UID:10002474-1712685600-1712689200@wienzimmer.fsw.at
SUMMARY:Hobby Lobby: Jiu Jitsu
DESCRIPTION:Jiu Jitsu  im Souterrain \nDie Vienna Hobby Lobby bietet Kindern/Jugendlichen im Alter von 12 bis 17 Jahren verschiedene Kurse an. \nMehr Info gibt es hier. \nKontakt: \nEmail: linda.fress@viennahobbylobby.com Tel.:+43 677 61476128
URL:https://wienzimmer.fsw.at/event/hobby-lobby-jiu-jitsu/2024-04-09/
CATEGORIES:Kinder und Jugendliche
ATTACH;FMTTYPE=image/png:https://wienzimmer.fsw.at/wp-content/uploads/2024/04/kampfsport.png
END:VEVENT
BEGIN:VEVENT
DTSTART;TZID=Europe/Vienna:20240410T153000
DTEND;TZID=Europe/Vienna:20240410T163000
DTSTAMP:20260425T205741
CREATED:20240227T142109Z
LAST-MODIFIED:20240529T084345Z
UID:10002483-1712763000-1712766600@wienzimmer.fsw.at
SUMMARY:Vienna Hobby Lobby: Tanzen
DESCRIPTION:Tanzen  im kleinen Seminarraum oder im Souterrain \nDie Vienna Hobby Lobby bietet Kindern/Jugendlichen im Alter von 12 bis 17 Jahren verschiedene Kurse an. \nAb der zweiten Märzwoche ist eine verbindliche Anmeldung erforderlich. \nMehr Info gibt es hier. \nKontakt: \nEmail: linda.fress@viennahobbylobby.com Tel.:+43 677 61476128
URL:https://wienzimmer.fsw.at/event/vienna-hobby-lobby-tanzen-2/2024-04-10/
LOCATION:WienZimmer\, Karl-Seitz-Hof - Jedleseer Str. 66-94/Ecke Jedleseer Straße und Dunantgasse\, Wien\, 1210\, Österreich
CATEGORIES:Kinder und Jugendliche
ATTACH;FMTTYPE=image/png:https://wienzimmer.fsw.at/wp-content/uploads/2023/11/Tanzen.png
END:VEVENT
BEGIN:VEVENT
DTSTART;TZID=Europe/Vienna:20240410T163000
DTEND;TZID=Europe/Vienna:20240410T173000
DTSTAMP:20260425T205741
CREATED:20240227T142350Z
LAST-MODIFIED:20240529T084422Z
UID:10002488-1712766600-1712770200@wienzimmer.fsw.at
SUMMARY:Vienna Hobby Lobby: Theater
DESCRIPTION:Theater im kleinen Seminarraum oder im Souterrain \nDie Vienna Hobby Lobby bietet Kindern/Jugendlichen im Alter von 12 bis 17 Jahren verschiedene Kurse an. \nAb der zweiten Märzwoche ist eine verbindliche Anmeldung erforderlich. \nMehr Info gibt es hier. \nKontakt: \nEmail: linda.fress@viennahobbylobby.com Tel.:+43 677 61476128
URL:https://wienzimmer.fsw.at/event/vienna-hobby-lobby-theater-2/2024-04-10/
LOCATION:WienZimmer\, Karl-Seitz-Hof - Jedleseer Str. 66-94/Ecke Jedleseer Straße und Dunantgasse\, Wien\, 1210\, Österreich
CATEGORIES:Kinder und Jugendliche
ATTACH;FMTTYPE=image/png:https://wienzimmer.fsw.at/wp-content/uploads/2023/11/Theater.png
END:VEVENT
BEGIN:VEVENT
DTSTART;TZID=Europe/Vienna:20240410T173000
DTEND;TZID=Europe/Vienna:20240410T183000
DTSTAMP:20260425T205741
CREATED:20240227T142555Z
LAST-MODIFIED:20240529T084505Z
UID:10002493-1712770200-1712773800@wienzimmer.fsw.at
SUMMARY:Vienna Hobby Lobby: Kampfsport
DESCRIPTION:Kampfsport im Souterrain \nDie Vienna Hobby Lobby bietet Kindern/Jugendlichen im Alter von 12 bis 17 Jahren verschiedene Kurse an. \nAb der zweiten Märzwoche ist eine verbindliche Anmeldung erforderlich. \nMehr Info gibt es hier. \nKontakt: \nEmail: linda.fress@viennahobbylobby.com Tel.:+43 677 61476128
URL:https://wienzimmer.fsw.at/event/vienna-hobby-lobby-kampfsport-2/2024-04-10/
LOCATION:WienZimmer\, Karl-Seitz-Hof - Jedleseer Str. 66-94/Ecke Jedleseer Straße und Dunantgasse\, Wien\, 1210\, Österreich
CATEGORIES:Kinder und Jugendliche
ATTACH;FMTTYPE=image/png:https://wienzimmer.fsw.at/wp-content/uploads/2023/11/Kampfsport.png
END:VEVENT
BEGIN:VEVENT
DTSTART;TZID=Europe/Vienna:20240410T180000
DTEND;TZID=Europe/Vienna:20240410T200000
DTSTAMP:20260425T205741
CREATED:20240227T144554Z
LAST-MODIFIED:20240328T101652Z
UID:10002576-1712772000-1712779200@wienzimmer.fsw.at
SUMMARY:Line Dance Gruppe (Senior:innen)
DESCRIPTION:im kleinen Seminarraum
URL:https://wienzimmer.fsw.at/event/line-dance-grupp-eseniorinnen/2024-04-10/
ATTACH;FMTTYPE=image/png:https://wienzimmer.fsw.at/wp-content/uploads/2023/11/Tanzen.png
END:VEVENT
BEGIN:VEVENT
DTSTART;TZID=Europe/Vienna:20240411T090000
DTEND;TZID=Europe/Vienna:20240411T160000
DTSTAMP:20260425T205741
CREATED:20240328T101834Z
LAST-MODIFIED:20240328T101917Z
UID:10002578-1712826000-1712851200@wienzimmer.fsw.at
SUMMARY:Tauschregal bauen
DESCRIPTION:in Kooperation mit der Firma Otto-Stöckl und ihren Lehrlingen\n*Achtung: geschlossenes Format
URL:https://wienzimmer.fsw.at/event/tauschregal-bauen/
ATTACH;FMTTYPE=image/png:https://wienzimmer.fsw.at/wp-content/uploads/2023/11/geschlossene_Veranstaltung.png
END:VEVENT
BEGIN:VEVENT
DTSTART;TZID=Europe/Vienna:20240411T130000
DTEND;TZID=Europe/Vienna:20240411T133000
DTSTAMP:20260425T205741
CREATED:20240328T100823Z
LAST-MODIFIED:20240328T100850Z
UID:10002559-1712840400-1712842200@wienzimmer.fsw.at
SUMMARY:Bilderbuchkino
DESCRIPTION:bebilderte Leseaktion für Kinder bis 12 Jahre\nSouterrain
URL:https://wienzimmer.fsw.at/event/bilderbuchkino-6/2024-04-11/
CATEGORIES:Kinder und Jugendliche
END:VEVENT
END:VCALENDAR