BEGIN:VCALENDAR
VERSION:2.0
PRODID:-//Wien Zimmer - ECPv6.15.17.1//NONSGML v1.0//EN
CALSCALE:GREGORIAN
METHOD:PUBLISH
X-WR-CALNAME:Wien Zimmer
X-ORIGINAL-URL:https://wienzimmer.fsw.at
X-WR-CALDESC:Veranstaltungen für Wien Zimmer
REFRESH-INTERVAL;VALUE=DURATION:PT1H
X-Robots-Tag:noindex
X-PUBLISHED-TTL:PT1H
BEGIN:VTIMEZONE
TZID:Europe/Vienna
BEGIN:DAYLIGHT
TZOFFSETFROM:+0100
TZOFFSETTO:+0200
TZNAME:CEST
DTSTART:20230326T010000
END:DAYLIGHT
BEGIN:STANDARD
TZOFFSETFROM:+0200
TZOFFSETTO:+0100
TZNAME:CET
DTSTART:20231029T010000
END:STANDARD
BEGIN:DAYLIGHT
TZOFFSETFROM:+0100
TZOFFSETTO:+0200
TZNAME:CEST
DTSTART:20240331T010000
END:DAYLIGHT
BEGIN:STANDARD
TZOFFSETFROM:+0200
TZOFFSETTO:+0100
TZNAME:CET
DTSTART:20241027T010000
END:STANDARD
BEGIN:DAYLIGHT
TZOFFSETFROM:+0100
TZOFFSETTO:+0200
TZNAME:CEST
DTSTART:20250330T010000
END:DAYLIGHT
BEGIN:STANDARD
TZOFFSETFROM:+0200
TZOFFSETTO:+0100
TZNAME:CET
DTSTART:20251026T010000
END:STANDARD
END:VTIMEZONE
BEGIN:VEVENT
DTSTART;TZID=Europe/Vienna:20240305T130000
DTEND;TZID=Europe/Vienna:20240305T140000
DTSTAMP:20260425T223713
CREATED:20240222T181125Z
LAST-MODIFIED:20240222T181416Z
UID:10002104-1709643600-1709647200@wienzimmer.fsw.at
SUMMARY:Bilderbuchkino
DESCRIPTION:bebilderte Leseaktion für Kinder bis 12Jahre\nSouterrain
URL:https://wienzimmer.fsw.at/event/bilderbuchkino-3/2024-03-05/
CATEGORIES:Kinder und Jugendliche
END:VEVENT
BEGIN:VEVENT
DTSTART;TZID=Europe/Vienna:20240305T140000
DTEND;TZID=Europe/Vienna:20240305T160000
DTSTAMP:20260425T223713
CREATED:20240124T123207Z
LAST-MODIFIED:20240529T083424Z
UID:10002138-1709647200-1709654400@wienzimmer.fsw.at
SUMMARY:Hausaufgabenbetreuung
DESCRIPTION:Hausaufgabenbetreuung im kleinen Seminarraum \nin Kooperation mit „Rettet das Kind Österreich“ für Kinder von 6 bis 12 Jahren\, nur mit Anmeldung \nMehr Information gibt es hier.
URL:https://wienzimmer.fsw.at/event/hausaufgabenbetreuung-2/2024-03-05/
LOCATION:WienZimmer\, Karl-Seitz-Hof - Jedleseer Str. 66-94/Ecke Jedleseer Straße und Dunantgasse\, Wien\, 1210\, Österreich
CATEGORIES:Kinder und Jugendliche
ATTACH;FMTTYPE=image/png:https://wienzimmer.fsw.at/wp-content/uploads/2023/11/Hausaufgaben.png
END:VEVENT
BEGIN:VEVENT
DTSTART;TZID=Europe/Vienna:20240305T153000
DTEND;TZID=Europe/Vienna:20240305T163000
DTSTAMP:20260425T223713
CREATED:20240222T182916Z
LAST-MODIFIED:20240227T141354Z
UID:10002144-1709652600-1709656200@wienzimmer.fsw.at
SUMMARY:Hobby Lobby: Malen & Zeichnen
DESCRIPTION:Malen & Zeichnen  im Souterrain \nDie Vienna Hobby Lobby bietet Kindern/Jugendlichen im Alter von 12 bis 17 Jahren verschiedene Kurse an. \nAb der zweiten Märzwoche ist eine verbindliche Anmeldung erforderlich. \nMehr Info gibt es hier. \nKontakt: \nEmail: linda.fress@viennahobbylobby.com Tel.:+43 677 61476128
URL:https://wienzimmer.fsw.at/event/hobby-lobby-malen-zeichnen/2024-03-05/
END:VEVENT
BEGIN:VEVENT
DTSTART;TZID=Europe/Vienna:20240305T163000
DTEND;TZID=Europe/Vienna:20240305T173000
DTSTAMP:20260425T223713
CREATED:20240227T141214Z
LAST-MODIFIED:20240227T141321Z
UID:10002254-1709656200-1709659800@wienzimmer.fsw.at
SUMMARY:Hobby Lobby: Kickboxen
DESCRIPTION:Kickboxen  im Souterrain \nDie Vienna Hobby Lobby bietet Kindern/Jugendlichen im Alter von 12 bis 17 Jahren verschiedene Kurse an. \nAb der zweiten Märzwoche ist eine verbindliche Anmeldung erforderlich. \nMehr Info gibt es hier. \nKontakt: \nEmail: linda.fress@viennahobbylobby.com Tel.:+43 677 61476128
URL:https://wienzimmer.fsw.at/event/hobby-lobbykickboxen/2024-03-05/
ATTACH;FMTTYPE=image/png:https://wienzimmer.fsw.at/wp-content/uploads/2023/11/Kampfsport.png
END:VEVENT
BEGIN:VEVENT
DTSTART;TZID=Europe/Vienna:20240305T173000
DTEND;TZID=Europe/Vienna:20240305T183000
DTSTAMP:20260425T223713
CREATED:20240227T141550Z
LAST-MODIFIED:20240529T083801Z
UID:10002312-1709659800-1709663400@wienzimmer.fsw.at
SUMMARY:Hobby Lobby: Näh- und Häkelkurs
DESCRIPTION:Hobby Lobby: Näh- & Häkelkurs\nkleiner Seminarraum \nDie Vienna Hobby Lobby bietet Kindern/Jugendlichen im Alter von 12 bis 17 Jahren verschiedene Kurse an. \nAb der zweiten Märzwoche ist eine verbindliche Anmeldung erforderlich. \nMehr Info gibt es hier. \nKontakt: \nEmail: linda.fress@viennahobbylobby.com Tel.:+43 677 61476128
URL:https://wienzimmer.fsw.at/event/hobby-lobby-naeh-und-haekelkurs/2024-03-05/
CATEGORIES:Kinder und Jugendliche
ATTACH;FMTTYPE=image/png:https://wienzimmer.fsw.at/wp-content/uploads/2024/04/naehkurs.png
END:VEVENT
BEGIN:VEVENT
DTSTART;TZID=Europe/Vienna:20240306T100000
DTEND;TZID=Europe/Vienna:20240306T120000
DTSTAMP:20260425T223713
CREATED:20240227T141742Z
LAST-MODIFIED:20240328T094329Z
UID:10002319-1709719200-1709726400@wienzimmer.fsw.at
SUMMARY:Sprechstunde der Wiener Sozialdienste (WISO)
DESCRIPTION:Der Kontaktbesuchsdienst hilft Menschen ab 60 Jahren\, die besten Angebote und Aktivitäten der Stadt zu finden. \nFindet im KOMM Café und der Greißlerei oder im Festsaal statt. \nwww.wienersozialdienste.at \n 
URL:https://wienzimmer.fsw.at/event/sprechstunde-der-wiener-sozialdienste-wiso-5/
LOCATION:WienZimmer\, Karl-Seitz-Hof - Jedleseer Str. 66-94/Ecke Jedleseer Straße und Dunantgasse\, Wien\, 1210\, Österreich
CATEGORIES:Wiener Sozialdienste,Wiener Sozialdienste Sprechstunde
ATTACH;FMTTYPE=image/png:https://wienzimmer.fsw.at/wp-content/uploads/2023/11/Sprechstunde.png
END:VEVENT
BEGIN:VEVENT
DTSTART;TZID=Europe/Vienna:20240306T103000
DTEND;TZID=Europe/Vienna:20240306T123000
DTSTAMP:20260425T223713
CREATED:20240306T080212Z
LAST-MODIFIED:20240306T080320Z
UID:10002437-1709721000-1709728200@wienzimmer.fsw.at
SUMMARY:Aquarell Zeichenkurs PVÖ
DESCRIPTION:im kleinen Seminarraum \nAnmeldung direkt beim Kursleiter im WienZimmer.
URL:https://wienzimmer.fsw.at/event/aquarell-zeichenkurs-pvoe/2024-03-06/
ATTACH;FMTTYPE=image/png:https://wienzimmer.fsw.at/wp-content/uploads/2023/11/Malen.png
END:VEVENT
BEGIN:VEVENT
DTSTART;TZID=Europe/Vienna:20240306T153000
DTEND;TZID=Europe/Vienna:20240306T163000
DTSTAMP:20260425T223713
CREATED:20240227T142109Z
LAST-MODIFIED:20240529T084345Z
UID:10002330-1709739000-1709742600@wienzimmer.fsw.at
SUMMARY:Vienna Hobby Lobby: Tanzen
DESCRIPTION:Tanzen  im kleinen Seminarraum oder im Souterrain \nDie Vienna Hobby Lobby bietet Kindern/Jugendlichen im Alter von 12 bis 17 Jahren verschiedene Kurse an. \nAb der zweiten Märzwoche ist eine verbindliche Anmeldung erforderlich. \nMehr Info gibt es hier. \nKontakt: \nEmail: linda.fress@viennahobbylobby.com Tel.:+43 677 61476128
URL:https://wienzimmer.fsw.at/event/vienna-hobby-lobby-tanzen-2/2024-03-06/
LOCATION:WienZimmer\, Karl-Seitz-Hof - Jedleseer Str. 66-94/Ecke Jedleseer Straße und Dunantgasse\, Wien\, 1210\, Österreich
CATEGORIES:Kinder und Jugendliche
ATTACH;FMTTYPE=image/png:https://wienzimmer.fsw.at/wp-content/uploads/2023/11/Tanzen.png
END:VEVENT
BEGIN:VEVENT
DTSTART;TZID=Europe/Vienna:20240306T160000
DTEND;TZID=Europe/Vienna:20240306T173000
DTSTAMP:20260425T223713
CREATED:20240227T142756Z
LAST-MODIFIED:20240227T142815Z
UID:10002359-1709740800-1709746200@wienzimmer.fsw.at
SUMMARY:s’Plaudertischerl – Einfach ins Gespräch kommen
DESCRIPTION:Einfach ins Gespräch kommen\n1. Teil – 16.00-17.00 Uhr Führung durch den Karl-Seitz-Hof mit Mieterbeirat Heinrich Gindel.\n2. Teil Ausklang bei Kaffee und Kuchen im Festsaal \nEin kurzer Plausch über das Wetter oder eine längere Unterhaltung – regelmäßig am ersten Mittwoch im Monat kommen am Plaudertischerl in Wiener Kaffeehäusern und Nachbarschaftszentren Menschen auf einfachem Wege mit anderen ins Gespräch. \nwww.plaudertischerl.at
URL:https://wienzimmer.fsw.at/event/splaudertischerl-einfach-ins-gespraech-kommen-8/
LOCATION:WienZimmer\, Karl-Seitz-Hof - Jedleseer Str. 66-94/Ecke Jedleseer Straße und Dunantgasse\, Wien\, 1210\, Österreich
CATEGORIES:Sonstiges
ATTACH;FMTTYPE=image/png:https://wienzimmer.fsw.at/wp-content/uploads/2023/11/Plaudertischerl.png
END:VEVENT
BEGIN:VEVENT
DTSTART;TZID=Europe/Vienna:20240306T163000
DTEND;TZID=Europe/Vienna:20240306T173000
DTSTAMP:20260425T223713
CREATED:20240227T142350Z
LAST-MODIFIED:20240529T084422Z
UID:10002343-1709742600-1709746200@wienzimmer.fsw.at
SUMMARY:Vienna Hobby Lobby: Theater
DESCRIPTION:Theater im kleinen Seminarraum oder im Souterrain \nDie Vienna Hobby Lobby bietet Kindern/Jugendlichen im Alter von 12 bis 17 Jahren verschiedene Kurse an. \nAb der zweiten Märzwoche ist eine verbindliche Anmeldung erforderlich. \nMehr Info gibt es hier. \nKontakt: \nEmail: linda.fress@viennahobbylobby.com Tel.:+43 677 61476128
URL:https://wienzimmer.fsw.at/event/vienna-hobby-lobby-theater-2/2024-03-06/
LOCATION:WienZimmer\, Karl-Seitz-Hof - Jedleseer Str. 66-94/Ecke Jedleseer Straße und Dunantgasse\, Wien\, 1210\, Österreich
CATEGORIES:Kinder und Jugendliche
ATTACH;FMTTYPE=image/png:https://wienzimmer.fsw.at/wp-content/uploads/2023/11/Theater.png
END:VEVENT
BEGIN:VEVENT
DTSTART;TZID=Europe/Vienna:20240306T170000
DTEND;TZID=Europe/Vienna:20240306T200000
DTSTAMP:20260425T223713
CREATED:20240227T143041Z
LAST-MODIFIED:20240227T143041Z
UID:10002369-1709744400-1709755200@wienzimmer.fsw.at
SUMMARY:Gruppentherapie: Psychodrama
DESCRIPTION:im kleinen Seminarraum (1. Stock) \nHilfe bei Angst\, bei Depression und anderen Schwierigkeiten. Gruppenpsychotherapie mit der Methode Psychodrama. \nAb 17.15 – 20.00 Uhr\, mit Pause \nOhne Kosten bei Vorlage einer ärztlichen Überweisung zur Psychotherapie. \nFür die Anmeldung und mehr Information: Michael Josef Seiss\, MMSc. unter 0699-11133441. praxis@michaeljosefseiss.at \nweitere Termine: 31.5.23\, 14.6.23 \, 28.6.23\, 12.7.23
URL:https://wienzimmer.fsw.at/event/gruppentherapie-psychodrama-11/2024-03-06/
LOCATION:WienZimmer\, Karl-Seitz-Hof - Jedleseer Str. 66-94/Ecke Jedleseer Straße und Dunantgasse\, Wien\, 1210\, Österreich
CATEGORIES:Sonstiges
ATTACH;FMTTYPE=image/png:https://wienzimmer.fsw.at/wp-content/uploads/2023/11/Gruppentherapie.png
END:VEVENT
BEGIN:VEVENT
DTSTART;TZID=Europe/Vienna:20240306T173000
DTEND;TZID=Europe/Vienna:20240306T183000
DTSTAMP:20260425T223713
CREATED:20240227T142555Z
LAST-MODIFIED:20240529T084505Z
UID:10002356-1709746200-1709749800@wienzimmer.fsw.at
SUMMARY:Vienna Hobby Lobby: Kampfsport
DESCRIPTION:Kampfsport im Souterrain \nDie Vienna Hobby Lobby bietet Kindern/Jugendlichen im Alter von 12 bis 17 Jahren verschiedene Kurse an. \nAb der zweiten Märzwoche ist eine verbindliche Anmeldung erforderlich. \nMehr Info gibt es hier. \nKontakt: \nEmail: linda.fress@viennahobbylobby.com Tel.:+43 677 61476128
URL:https://wienzimmer.fsw.at/event/vienna-hobby-lobby-kampfsport-2/2024-03-06/
LOCATION:WienZimmer\, Karl-Seitz-Hof - Jedleseer Str. 66-94/Ecke Jedleseer Straße und Dunantgasse\, Wien\, 1210\, Österreich
CATEGORIES:Kinder und Jugendliche
ATTACH;FMTTYPE=image/png:https://wienzimmer.fsw.at/wp-content/uploads/2023/11/Kampfsport.png
END:VEVENT
BEGIN:VEVENT
DTSTART;TZID=Europe/Vienna:20240307T130000
DTEND;TZID=Europe/Vienna:20240307T133000
DTSTAMP:20260425T223713
CREATED:20240222T181511Z
LAST-MODIFIED:20240328T100249Z
UID:10002135-1709816400-1709818200@wienzimmer.fsw.at
SUMMARY:Bilderbuchkino
DESCRIPTION:bebilderte Leseaktion für Kinder bis 12 Jahre\nSouterrain
URL:https://wienzimmer.fsw.at/event/bilderbuchkino-4/
CATEGORIES:Kinder und Jugendliche
END:VEVENT
BEGIN:VEVENT
DTSTART;TZID=Europe/Vienna:20240307T140000
DTEND;TZID=Europe/Vienna:20240307T160000
DTSTAMP:20260425T223713
CREATED:20240124T125415Z
LAST-MODIFIED:20240529T083603Z
UID:10002141-1709820000-1709827200@wienzimmer.fsw.at
SUMMARY:Hausaufgabenbetreuung
DESCRIPTION:Hausaufgabenbetreuung im kleinen Seminarraum \nin Kooperation mit „Rettet das Kind Österreich“ für Kinder von 6 bis 12 Jahren\, nur mit Anmeldung \nMehr Information gibt es hier.
URL:https://wienzimmer.fsw.at/event/hausaufgabenbetreuung-donnerstag-2-2/2024-03-07/
LOCATION:WienZimmer\, Karl-Seitz-Hof - Jedleseer Str. 66-94/Ecke Jedleseer Straße und Dunantgasse\, Wien\, 1210\, Österreich
CATEGORIES:Kinder und Jugendliche
ATTACH;FMTTYPE=image/png:https://wienzimmer.fsw.at/wp-content/uploads/2023/11/Hausaufgaben.png
END:VEVENT
BEGIN:VEVENT
DTSTART;TZID=Europe/Vienna:20240307T153000
DTEND;TZID=Europe/Vienna:20240307T163000
DTSTAMP:20260425T223713
CREATED:20240227T143252Z
LAST-MODIFIED:20240417T113455Z
UID:10002374-1709825400-1709829000@wienzimmer.fsw.at
SUMMARY:Vienna Hobby Lobby: English
DESCRIPTION:Englisch im Souterrain \nDie Vienna Hobby Lobby bietet Kindern/Jugendlichen im Alter von 12 bis 17 Jahren verschiedene Kurse an. \nAb der zweiten Märzwoche ist eine verbindliche Anmeldung erforderlich. \nMehr Info gibt es hier. \nKontakt: \nEmail: linda.fress@viennahobbylobby.com Tel.:+43 677 61476128
URL:https://wienzimmer.fsw.at/event/vienna-hobby-lobby-english/2024-03-07/
LOCATION:WienZimmer\, Karl-Seitz-Hof - Jedleseer Str. 66-94/Ecke Jedleseer Straße und Dunantgasse\, Wien\, 1210\, Österreich
CATEGORIES:Kinder und Jugendliche
ATTACH;FMTTYPE=image/png:https://wienzimmer.fsw.at/wp-content/uploads/2024/04/englisch.png
END:VEVENT
BEGIN:VEVENT
DTSTART;TZID=Europe/Vienna:20240307T163000
DTEND;TZID=Europe/Vienna:20240307T173000
DTSTAMP:20260425T223713
CREATED:20240227T143454Z
LAST-MODIFIED:20240417T113625Z
UID:10002380-1709829000-1709832600@wienzimmer.fsw.at
SUMMARY:Vienna Hobby Lobby: Musik & Singen
DESCRIPTION:Musik & Singen im kleinen Seminarraum oder im Souterrain \nDie Vienna Hobby Lobby bietet Kindern/Jugendlichen im Alter von 12 bis 17 Jahren verschiedene Kurse an. \nAb der zweiten Märzwoche ist eine verbindliche Anmeldung erforderlich. \nMehr Info gibt es hier. \nKontakt: \nEmail: linda.fress@viennahobbylobby.com Tel.:+43 677 61476128
URL:https://wienzimmer.fsw.at/event/vienna-hobby-lobby-musik-singen/2024-03-07/
LOCATION:WienZimmer\, Karl-Seitz-Hof - Jedleseer Str. 66-94/Ecke Jedleseer Straße und Dunantgasse\, Wien\, 1210\, Österreich
CATEGORIES:Kinder und Jugendliche
ATTACH;FMTTYPE=image/png:https://wienzimmer.fsw.at/wp-content/uploads/2024/04/musik_singen.png
END:VEVENT
BEGIN:VEVENT
DTSTART;TZID=Europe/Vienna:20240307T173000
DTEND;TZID=Europe/Vienna:20240307T183000
DTSTAMP:20260425T223713
CREATED:20240227T143627Z
LAST-MODIFIED:20240417T114146Z
UID:10002386-1709832600-1709836200@wienzimmer.fsw.at
SUMMARY:Vienna Hobby Lobby: Fitness
DESCRIPTION:Fitness im Souterrain \nDie Vienna Hobby Lobby bietet Kindern/Jugendlichen im Alter von 12 bis 17 Jahren verschiedene Kurse an. \nAb der zweiten Märzwoche ist eine verbindliche Anmeldung erforderlich. \nMehr Info gibt es hier. \nKontakt: \nEmail: linda.fress@viennahobbylobby.com Tel.:+43 677 61476128
URL:https://wienzimmer.fsw.at/event/vienna-hobby-lobby-fitness-3/2024-03-07/
LOCATION:WienZimmer\, Karl-Seitz-Hof - Jedleseer Str. 66-94/Ecke Jedleseer Straße und Dunantgasse\, Wien\, 1210\, Österreich
CATEGORIES:Kinder und Jugendliche
ATTACH;FMTTYPE=image/png:https://wienzimmer.fsw.at/wp-content/uploads/2023/11/Fitness.png
END:VEVENT
BEGIN:VEVENT
DTSTART;TZID=Europe/Vienna:20240308T150000
DTEND;TZID=Europe/Vienna:20240308T160000
DTSTAMP:20260425T223713
CREATED:20240227T143801Z
LAST-MODIFIED:20240227T143801Z
UID:10002392-1709910000-1709913600@wienzimmer.fsw.at
SUMMARY:Vienna Hobby Lobby: Türkisch
DESCRIPTION:Türkisch im kleinen Seminarraum \nDie Vienna Hobby Lobby bietet Kindern/Jugendlichen im Alter von 12 bis 17 Jahren verschiedene Kurse an. \nAb der zweiten Märzwoche ist eine verbindliche Anmeldung erforderlich. \nMehr Info gibt es hier. \nKontakt: \nEmail: linda.fress@viennahobbylobby.com Tel.:+43 677 61476128
URL:https://wienzimmer.fsw.at/event/vienna-hobby-lobby-tuerkisch/2024-03-08/
LOCATION:WienZimmer\, Karl-Seitz-Hof - Jedleseer Str. 66-94/Ecke Jedleseer Straße und Dunantgasse\, Wien\, 1210\, Österreich
CATEGORIES:Kinder und Jugendliche
END:VEVENT
BEGIN:VEVENT
DTSTART;TZID=Europe/Vienna:20240308T150000
DTEND;TZID=Europe/Vienna:20240308T160000
DTSTAMP:20260425T223713
CREATED:20240328T101121Z
LAST-MODIFIED:20240417T114422Z
UID:10002562-1709910000-1709913600@wienzimmer.fsw.at
SUMMARY:Vienna Hobby Lobby: Türkisch
DESCRIPTION:Türkisch im kleinen Seminarraum \nDie Vienna Hobby Lobby bietet Kindern/Jugendlichen im Alter von 12 bis 17 Jahren verschiedene Kurse an. \nAb der zweiten Märzwoche ist eine verbindliche Anmeldung erforderlich. \nMehr Info gibt es hier. \nKontakt: \nEmail: linda.fress@viennahobbylobby.com Tel.:+43 677 61476128
URL:https://wienzimmer.fsw.at/event/vienna-hobby-lobby-tuerkisch-2/2024-03-08/
LOCATION:WienZimmer\, Karl-Seitz-Hof - Jedleseer Str. 66-94/Ecke Jedleseer Straße und Dunantgasse\, Wien\, 1210\, Österreich
CATEGORIES:Kinder und Jugendliche
ATTACH;FMTTYPE=image/png:https://wienzimmer.fsw.at/wp-content/uploads/2024/04/tuerkisch.png
END:VEVENT
BEGIN:VEVENT
DTSTART;TZID=Europe/Vienna:20240308T160000
DTEND;TZID=Europe/Vienna:20240308T170000
DTSTAMP:20260425T223713
CREATED:20240227T144014Z
LAST-MODIFIED:20240417T114607Z
UID:10002398-1709913600-1709917200@wienzimmer.fsw.at
SUMMARY:Vienna Hobby Lobby: Töpfern
DESCRIPTION:Töpfern im kleinen Souterrain \nDie Vienna Hobby Lobby bietet Kindern/Jugendlichen im Alter von 12 bis 17 Jahren verschiedene Kurse an. \nAb der zweiten Märzwoche ist eine verbindliche Anmeldung erforderlich. \nMehr Info gibt es hier. \nKontakt: \nEmail: linda.fress@viennahobbylobby.com Tel.:+43 677 61476128
URL:https://wienzimmer.fsw.at/event/vienna-hobby-lobby-toepfern-2/2024-03-08/
LOCATION:WienZimmer\, Karl-Seitz-Hof - Jedleseer Str. 66-94/Ecke Jedleseer Straße und Dunantgasse\, Wien\, 1210\, Österreich
CATEGORIES:Kinder und Jugendliche
ATTACH;FMTTYPE=image/png:https://wienzimmer.fsw.at/wp-content/uploads/2023/11/Toepfern.png
END:VEVENT
BEGIN:VEVENT
DTSTART;TZID=Europe/Vienna:20240312T080000
DTEND;TZID=Europe/Vienna:20240312T100000
DTSTAMP:20260425T223713
CREATED:20240221T135959Z
LAST-MODIFIED:20240417T114943Z
UID:10002060-1710230400-1710237600@wienzimmer.fsw.at
SUMMARY:Elterncafé im WienZimmer
DESCRIPTION:Bei kostenlosem Filterkaffee\, Tee\, Keksen und einer kleinen Frühstücksjause können Eltern sich hier\, in einem moderierten Rahmen\, zu Themen rund ums Eltern sein\, ihre Kinder und schulische Herausforderungen austauschen.\nEs ist keine Anmeldung notwendig. \n* Das Elterncafe findet  ab dem 20. Februar – bis auf weiteres – wöchentlich am Dienstag um 08:00 Uhr statt.
URL:https://wienzimmer.fsw.at/event/elterncafe-im-wienzimmer-2/2024-03-12/
LOCATION:WienZimmer\, Karl-Seitz-Hof - Jedleseer Str. 66-94/Ecke Jedleseer Straße und Dunantgasse\, Wien\, 1210\, Österreich
END:VEVENT
BEGIN:VEVENT
DTSTART;TZID=Europe/Vienna:20240312T130000
DTEND;TZID=Europe/Vienna:20240312T140000
DTSTAMP:20260425T223713
CREATED:20240222T181125Z
LAST-MODIFIED:20240222T181416Z
UID:10002131-1710248400-1710252000@wienzimmer.fsw.at
SUMMARY:Bilderbuchkino
DESCRIPTION:bebilderte Leseaktion für Kinder bis 12Jahre\nSouterrain
URL:https://wienzimmer.fsw.at/event/bilderbuchkino-3/2024-03-12/
CATEGORIES:Kinder und Jugendliche
END:VEVENT
BEGIN:VEVENT
DTSTART;TZID=Europe/Vienna:20240312T140000
DTEND;TZID=Europe/Vienna:20240312T160000
DTSTAMP:20260425T223713
CREATED:20240124T123207Z
LAST-MODIFIED:20240529T083424Z
UID:10002139-1710252000-1710259200@wienzimmer.fsw.at
SUMMARY:Hausaufgabenbetreuung
DESCRIPTION:Hausaufgabenbetreuung im kleinen Seminarraum \nin Kooperation mit „Rettet das Kind Österreich“ für Kinder von 6 bis 12 Jahren\, nur mit Anmeldung \nMehr Information gibt es hier.
URL:https://wienzimmer.fsw.at/event/hausaufgabenbetreuung-2/2024-03-12/
LOCATION:WienZimmer\, Karl-Seitz-Hof - Jedleseer Str. 66-94/Ecke Jedleseer Straße und Dunantgasse\, Wien\, 1210\, Österreich
CATEGORIES:Kinder und Jugendliche
ATTACH;FMTTYPE=image/png:https://wienzimmer.fsw.at/wp-content/uploads/2023/11/Hausaufgaben.png
END:VEVENT
BEGIN:VEVENT
DTSTART;TZID=Europe/Vienna:20240312T150000
DTEND;TZID=Europe/Vienna:20240312T183000
DTSTAMP:20260425T223713
CREATED:20240227T144200Z
LAST-MODIFIED:20240227T144200Z
UID:10002401-1710255600-1710268200@wienzimmer.fsw.at
SUMMARY:Speed Coaching: Lebens- und Sozialberater:innen (in Ausbildung unter Supervision)
DESCRIPTION:in Kooperation mit Gabriela Göbel und ihren Kolleg:innen\nFestsaal
URL:https://wienzimmer.fsw.at/event/speed-coaching-lebens-und-sozialberaterinnen-in-ausbildung-unter-supervision-3/
LOCATION:WienZimmer\, Karl-Seitz-Hof - Jedleseer Str. 66-94/Ecke Jedleseer Straße und Dunantgasse\, Wien\, 1210\, Österreich
END:VEVENT
BEGIN:VEVENT
DTSTART;TZID=Europe/Vienna:20240312T153000
DTEND;TZID=Europe/Vienna:20240312T163000
DTSTAMP:20260425T223713
CREATED:20240222T182916Z
LAST-MODIFIED:20240227T141354Z
UID:10002145-1710257400-1710261000@wienzimmer.fsw.at
SUMMARY:Hobby Lobby: Malen & Zeichnen
DESCRIPTION:Malen & Zeichnen  im Souterrain \nDie Vienna Hobby Lobby bietet Kindern/Jugendlichen im Alter von 12 bis 17 Jahren verschiedene Kurse an. \nAb der zweiten Märzwoche ist eine verbindliche Anmeldung erforderlich. \nMehr Info gibt es hier. \nKontakt: \nEmail: linda.fress@viennahobbylobby.com Tel.:+43 677 61476128
URL:https://wienzimmer.fsw.at/event/hobby-lobby-malen-zeichnen/2024-03-12/
END:VEVENT
BEGIN:VEVENT
DTSTART;TZID=Europe/Vienna:20240312T163000
DTEND;TZID=Europe/Vienna:20240312T173000
DTSTAMP:20260425T223713
CREATED:20240227T141214Z
LAST-MODIFIED:20240227T141321Z
UID:10002255-1710261000-1710264600@wienzimmer.fsw.at
SUMMARY:Hobby Lobby: Kickboxen
DESCRIPTION:Kickboxen  im Souterrain \nDie Vienna Hobby Lobby bietet Kindern/Jugendlichen im Alter von 12 bis 17 Jahren verschiedene Kurse an. \nAb der zweiten Märzwoche ist eine verbindliche Anmeldung erforderlich. \nMehr Info gibt es hier. \nKontakt: \nEmail: linda.fress@viennahobbylobby.com Tel.:+43 677 61476128
URL:https://wienzimmer.fsw.at/event/hobby-lobbykickboxen/2024-03-12/
ATTACH;FMTTYPE=image/png:https://wienzimmer.fsw.at/wp-content/uploads/2023/11/Kampfsport.png
END:VEVENT
BEGIN:VEVENT
DTSTART;TZID=Europe/Vienna:20240312T173000
DTEND;TZID=Europe/Vienna:20240312T183000
DTSTAMP:20260425T223713
CREATED:20240227T141550Z
LAST-MODIFIED:20240529T083801Z
UID:10002313-1710264600-1710268200@wienzimmer.fsw.at
SUMMARY:Hobby Lobby: Näh- und Häkelkurs
DESCRIPTION:Hobby Lobby: Näh- & Häkelkurs\nkleiner Seminarraum \nDie Vienna Hobby Lobby bietet Kindern/Jugendlichen im Alter von 12 bis 17 Jahren verschiedene Kurse an. \nAb der zweiten Märzwoche ist eine verbindliche Anmeldung erforderlich. \nMehr Info gibt es hier. \nKontakt: \nEmail: linda.fress@viennahobbylobby.com Tel.:+43 677 61476128
URL:https://wienzimmer.fsw.at/event/hobby-lobby-naeh-und-haekelkurs/2024-03-12/
CATEGORIES:Kinder und Jugendliche
ATTACH;FMTTYPE=image/png:https://wienzimmer.fsw.at/wp-content/uploads/2024/04/naehkurs.png
END:VEVENT
BEGIN:VEVENT
DTSTART;TZID=Europe/Vienna:20240313T103000
DTEND;TZID=Europe/Vienna:20240313T123000
DTSTAMP:20260425T223713
CREATED:20240306T080212Z
LAST-MODIFIED:20240306T080320Z
UID:10002438-1710325800-1710333000@wienzimmer.fsw.at
SUMMARY:Aquarell Zeichenkurs PVÖ
DESCRIPTION:im kleinen Seminarraum \nAnmeldung direkt beim Kursleiter im WienZimmer.
URL:https://wienzimmer.fsw.at/event/aquarell-zeichenkurs-pvoe/2024-03-13/
ATTACH;FMTTYPE=image/png:https://wienzimmer.fsw.at/wp-content/uploads/2023/11/Malen.png
END:VEVENT
BEGIN:VEVENT
DTSTART;TZID=Europe/Vienna:20240313T153000
DTEND;TZID=Europe/Vienna:20240313T163000
DTSTAMP:20260425T223713
CREATED:20240227T142109Z
LAST-MODIFIED:20240529T084345Z
UID:10002331-1710343800-1710347400@wienzimmer.fsw.at
SUMMARY:Vienna Hobby Lobby: Tanzen
DESCRIPTION:Tanzen  im kleinen Seminarraum oder im Souterrain \nDie Vienna Hobby Lobby bietet Kindern/Jugendlichen im Alter von 12 bis 17 Jahren verschiedene Kurse an. \nAb der zweiten Märzwoche ist eine verbindliche Anmeldung erforderlich. \nMehr Info gibt es hier. \nKontakt: \nEmail: linda.fress@viennahobbylobby.com Tel.:+43 677 61476128
URL:https://wienzimmer.fsw.at/event/vienna-hobby-lobby-tanzen-2/2024-03-13/
LOCATION:WienZimmer\, Karl-Seitz-Hof - Jedleseer Str. 66-94/Ecke Jedleseer Straße und Dunantgasse\, Wien\, 1210\, Österreich
CATEGORIES:Kinder und Jugendliche
ATTACH;FMTTYPE=image/png:https://wienzimmer.fsw.at/wp-content/uploads/2023/11/Tanzen.png
END:VEVENT
BEGIN:VEVENT
DTSTART;TZID=Europe/Vienna:20240313T160000
DTEND;TZID=Europe/Vienna:20240313T180000
DTSTAMP:20260425T223713
CREATED:20240227T144329Z
LAST-MODIFIED:20240227T144329Z
UID:10002402-1710345600-1710352800@wienzimmer.fsw.at
SUMMARY:offener Workshop: Common Ground
DESCRIPTION:offener Workshop: Common Ground – Klasse für alle (Angewandte)\ngemeinsam Teppich knüpfen\nAnmeldung unter: wienzimmer@fsw.at; Betreff: Common Ground 13.3.
URL:https://wienzimmer.fsw.at/event/offener-workshop-common-ground/
END:VEVENT
END:VCALENDAR