BEGIN:VCALENDAR
VERSION:2.0
PRODID:-//Wien Zimmer - ECPv6.15.17.1//NONSGML v1.0//EN
CALSCALE:GREGORIAN
METHOD:PUBLISH
X-ORIGINAL-URL:https://wienzimmer.fsw.at
X-WR-CALDESC:Veranstaltungen für Wien Zimmer
REFRESH-INTERVAL;VALUE=DURATION:PT1H
X-Robots-Tag:noindex
X-PUBLISHED-TTL:PT1H
BEGIN:VTIMEZONE
TZID:Europe/Vienna
BEGIN:DAYLIGHT
TZOFFSETFROM:+0100
TZOFFSETTO:+0200
TZNAME:CEST
DTSTART:20250330T010000
END:DAYLIGHT
BEGIN:STANDARD
TZOFFSETFROM:+0200
TZOFFSETTO:+0100
TZNAME:CET
DTSTART:20251026T010000
END:STANDARD
BEGIN:DAYLIGHT
TZOFFSETFROM:+0100
TZOFFSETTO:+0200
TZNAME:CEST
DTSTART:20260329T010000
END:DAYLIGHT
BEGIN:STANDARD
TZOFFSETFROM:+0200
TZOFFSETTO:+0100
TZNAME:CET
DTSTART:20261025T010000
END:STANDARD
BEGIN:DAYLIGHT
TZOFFSETFROM:+0100
TZOFFSETTO:+0200
TZNAME:CEST
DTSTART:20270328T010000
END:DAYLIGHT
BEGIN:STANDARD
TZOFFSETFROM:+0200
TZOFFSETTO:+0100
TZNAME:CET
DTSTART:20271031T010000
END:STANDARD
END:VTIMEZONE
BEGIN:VEVENT
DTSTART;TZID=Europe/Vienna:20260429T091500
DTEND;TZID=Europe/Vienna:20260429T101500
DTSTAMP:20260419T174321
CREATED:20260330T073603Z
LAST-MODIFIED:20260330T073901Z
UID:10007490-1777454100-1777457700@wienzimmer.fsw.at
SUMMARY:Yoga mit Sophie – für Senior:innen
DESCRIPTION:Im kleinen Seminarraum (1. Stock)
URL:https://wienzimmer.fsw.at/event/yoga-mit-sophie-fuer-seniorinnen-6/2026-04-29/
END:VEVENT
BEGIN:VEVENT
DTSTART;TZID=Europe/Vienna:20260429T100000
DTEND;TZID=Europe/Vienna:20260429T120000
DTSTAMP:20260419T174321
CREATED:20260330T073748Z
LAST-MODIFIED:20260330T073748Z
UID:10007495-1777456800-1777464000@wienzimmer.fsw.at
SUMMARY:Offene Aquarell-Malrunde (Senior:innen) – selbstorganisiert
DESCRIPTION:Im Festsaal
URL:https://wienzimmer.fsw.at/event/offene-aquarell-malrunde-seniorinnen-selbstorganisiert-3/2026-04-29/
ATTACH;FMTTYPE=image/png:https://wienzimmer.fsw.at/wp-content/uploads/2023/11/Malen.png
END:VEVENT
BEGIN:VEVENT
DTSTART;TZID=Europe/Vienna:20260429T104000
DTEND;TZID=Europe/Vienna:20260429T114500
DTSTAMP:20260419T174321
CREATED:20260330T074106Z
LAST-MODIFIED:20260330T074106Z
UID:10007499-1777459200-1777463100@wienzimmer.fsw.at
SUMMARY:Yoga mit Sophie – Yoga für Anfänger:innen
DESCRIPTION:Im kleinen Seminarraum (1. Stock)
URL:https://wienzimmer.fsw.at/event/yoga-mit-sophie-yoga-fuer-anfaengerinnen-6/2026-04-29/
END:VEVENT
BEGIN:VEVENT
DTSTART;TZID=Europe/Vienna:20260429T130000
DTEND;TZID=Europe/Vienna:20260429T134500
DTSTAMP:20260419T174321
CREATED:20260330T075415Z
LAST-MODIFIED:20260330T082434Z
UID:10008053-1777467600-1777470300@wienzimmer.fsw.at
SUMMARY:Leseratten Club - gemeinsames interaktives Vorlesen für Kinder (auf Deutsch)
DESCRIPTION:Im kleinen Seminarraum (1.Stock)
URL:https://wienzimmer.fsw.at/event/leseratten-club-gemeinsames-interaktives-vorlesen-fuer-kinder-auf-deutsch-2/2026-04-29/
ATTACH;FMTTYPE=image/png:https://wienzimmer.fsw.at/wp-content/uploads/2024/10/WienZimmer_Veranstaltungskalender-Anime.png
END:VEVENT
BEGIN:VEVENT
DTSTART;TZID=Europe/Vienna:20260429T150000
DTEND;TZID=Europe/Vienna:20260429T160000
DTSTAMP:20260419T174321
CREATED:20260330T075546Z
LAST-MODIFIED:20260330T075546Z
UID:10008057-1777474800-1777478400@wienzimmer.fsw.at
SUMMARY:HobbyLobby – Hacker School (Mittelschule)
DESCRIPTION:Im kleinen Seminarraum im 1. Stock
URL:https://wienzimmer.fsw.at/event/hobbylobby-hacker-school-mittelschule-3/2026-04-29/
END:VEVENT
BEGIN:VEVENT
DTSTART;TZID=Europe/Vienna:20260429T150000
DTEND;TZID=Europe/Vienna:20260429T160000
DTSTAMP:20260419T174321
CREATED:20260330T075717Z
LAST-MODIFIED:20260330T082338Z
UID:10008061-1777474800-1777478400@wienzimmer.fsw.at
SUMMARY:HobbyLobby – Malen & Zeichnen
DESCRIPTION:Im Souterrain
URL:https://wienzimmer.fsw.at/event/hobbylobby-malen-zeichnen-3/2026-04-29/
ATTACH;FMTTYPE=image/png:https://wienzimmer.fsw.at/wp-content/uploads/2023/11/Malen.png
END:VEVENT
BEGIN:VEVENT
DTSTART;TZID=Europe/Vienna:20260429T160000
DTEND;TZID=Europe/Vienna:20260429T170000
DTSTAMP:20260419T174321
CREATED:20260330T075820Z
LAST-MODIFIED:20260330T083530Z
UID:10008065-1777478400-1777482000@wienzimmer.fsw.at
SUMMARY:HobbyLobby – Nachhilfe
DESCRIPTION:Im Souterrain
URL:https://wienzimmer.fsw.at/event/hobbylobby-nachhilfe-3/2026-04-29/
ATTACH;FMTTYPE=image/png:https://wienzimmer.fsw.at/wp-content/uploads/2023/11/Nachhilfe.png
END:VEVENT
BEGIN:VEVENT
DTSTART;TZID=Europe/Vienna:20260429T170000
DTEND;TZID=Europe/Vienna:20260429T180000
DTSTAMP:20260419T174321
CREATED:20260330T075913Z
LAST-MODIFIED:20260330T082135Z
UID:10008069-1777482000-1777485600@wienzimmer.fsw.at
SUMMARY:HobbyLobby – Anime & Manga
DESCRIPTION:Im Souterrain
URL:https://wienzimmer.fsw.at/event/hobbylobby-anime-manga-2/2026-04-29/
ATTACH;FMTTYPE=image/png:https://wienzimmer.fsw.at/wp-content/uploads/2024/10/WienZimmer_Veranstaltungskalender-Anime.png
END:VEVENT
END:VCALENDAR