BEGIN:VCALENDAR
VERSION:2.0
PRODID:-//Wien Zimmer - ECPv6.15.17.1//NONSGML v1.0//EN
CALSCALE:GREGORIAN
METHOD:PUBLISH
X-WR-CALNAME:Wien Zimmer
X-ORIGINAL-URL:https://wienzimmer.fsw.at
X-WR-CALDESC:Veranstaltungen für Wien Zimmer
REFRESH-INTERVAL;VALUE=DURATION:PT1H
X-Robots-Tag:noindex
X-PUBLISHED-TTL:PT1H
BEGIN:VTIMEZONE
TZID:Europe/Vienna
BEGIN:DAYLIGHT
TZOFFSETFROM:+0100
TZOFFSETTO:+0200
TZNAME:CEST
DTSTART:20250330T010000
END:DAYLIGHT
BEGIN:STANDARD
TZOFFSETFROM:+0200
TZOFFSETTO:+0100
TZNAME:CET
DTSTART:20251026T010000
END:STANDARD
BEGIN:DAYLIGHT
TZOFFSETFROM:+0100
TZOFFSETTO:+0200
TZNAME:CEST
DTSTART:20260329T010000
END:DAYLIGHT
BEGIN:STANDARD
TZOFFSETFROM:+0200
TZOFFSETTO:+0100
TZNAME:CET
DTSTART:20261025T010000
END:STANDARD
BEGIN:DAYLIGHT
TZOFFSETFROM:+0100
TZOFFSETTO:+0200
TZNAME:CEST
DTSTART:20270328T010000
END:DAYLIGHT
BEGIN:STANDARD
TZOFFSETFROM:+0200
TZOFFSETTO:+0100
TZNAME:CET
DTSTART:20271031T010000
END:STANDARD
END:VTIMEZONE
BEGIN:VEVENT
DTSTART;TZID=Europe/Vienna:20260424T153000
DTEND;TZID=Europe/Vienna:20260424T163000
DTSTAMP:20260419T174223
CREATED:20260330T081119Z
LAST-MODIFIED:20260330T081119Z
UID:10008099-1777044600-1777048200@wienzimmer.fsw.at
SUMMARY:HobbyLobby – Schmuckdesign
DESCRIPTION:Im Souterrain
URL:https://wienzimmer.fsw.at/event/hobbylobby-schmuckdesign-2/2026-04-24/
END:VEVENT
BEGIN:VEVENT
DTSTART;TZID=Europe/Vienna:20260424T160000
DTEND;TZID=Europe/Vienna:20260424T203000
DTSTAMP:20260419T174223
CREATED:20260330T083433Z
LAST-MODIFIED:20260330T083433Z
UID:10008115-1777046400-1777062600@wienzimmer.fsw.at
SUMMARY:Tea Dance/LindyHop – mit der IG Hop
DESCRIPTION:Im Festsaal
URL:https://wienzimmer.fsw.at/event/tea-dance-lindyhop-mit-der-ig-hop/
END:VEVENT
BEGIN:VEVENT
DTSTART;TZID=Europe/Vienna:20260424T163000
DTEND;TZID=Europe/Vienna:20260424T173000
DTSTAMP:20260419T174223
CREATED:20260330T081216Z
LAST-MODIFIED:20260330T081216Z
UID:10008102-1777048200-1777051800@wienzimmer.fsw.at
SUMMARY:HobbyLobby – Tanzen (Mittelschule)
DESCRIPTION:Im Souterrain
URL:https://wienzimmer.fsw.at/event/hobbylobby-tanzen-mittelschule-2/2026-04-24/
END:VEVENT
BEGIN:VEVENT
DTSTART;TZID=Europe/Vienna:20260424T173000
DTEND;TZID=Europe/Vienna:20260424T183000
DTSTAMP:20260419T174223
CREATED:20260330T081316Z
LAST-MODIFIED:20260330T081316Z
UID:10008105-1777051800-1777055400@wienzimmer.fsw.at
SUMMARY:HobbyLobby – Töpfern (Volksschule)
DESCRIPTION:Im Souterrain
URL:https://wienzimmer.fsw.at/event/hobbylobby-toepfern-volksschule-2/2026-04-24/
END:VEVENT
END:VCALENDAR