BEGIN:VCALENDAR
VERSION:2.0
PRODID:-//Wien Zimmer - ECPv6.15.17.1//NONSGML v1.0//EN
CALSCALE:GREGORIAN
METHOD:PUBLISH
X-WR-CALNAME:Wien Zimmer
X-ORIGINAL-URL:https://wienzimmer.fsw.at
X-WR-CALDESC:Veranstaltungen für Wien Zimmer
REFRESH-INTERVAL;VALUE=DURATION:PT1H
X-Robots-Tag:noindex
X-PUBLISHED-TTL:PT1H
BEGIN:VTIMEZONE
TZID:Europe/Vienna
BEGIN:DAYLIGHT
TZOFFSETFROM:+0100
TZOFFSETTO:+0200
TZNAME:CEST
DTSTART:20250330T010000
END:DAYLIGHT
BEGIN:STANDARD
TZOFFSETFROM:+0200
TZOFFSETTO:+0100
TZNAME:CET
DTSTART:20251026T010000
END:STANDARD
BEGIN:DAYLIGHT
TZOFFSETFROM:+0100
TZOFFSETTO:+0200
TZNAME:CEST
DTSTART:20260329T010000
END:DAYLIGHT
BEGIN:STANDARD
TZOFFSETFROM:+0200
TZOFFSETTO:+0100
TZNAME:CET
DTSTART:20261025T010000
END:STANDARD
BEGIN:DAYLIGHT
TZOFFSETFROM:+0100
TZOFFSETTO:+0200
TZNAME:CEST
DTSTART:20270328T010000
END:DAYLIGHT
BEGIN:STANDARD
TZOFFSETFROM:+0200
TZOFFSETTO:+0100
TZNAME:CET
DTSTART:20271031T010000
END:STANDARD
END:VTIMEZONE
BEGIN:VEVENT
DTSTART;TZID=Europe/Vienna:20260422T091500
DTEND;TZID=Europe/Vienna:20260422T101500
DTSTAMP:20260419T174142
CREATED:20260330T073603Z
LAST-MODIFIED:20260330T073901Z
UID:10007489-1776849300-1776852900@wienzimmer.fsw.at
SUMMARY:Yoga mit Sophie – für Senior:innen
DESCRIPTION:Im kleinen Seminarraum (1. Stock)
URL:https://wienzimmer.fsw.at/event/yoga-mit-sophie-fuer-seniorinnen-6/2026-04-22/
END:VEVENT
BEGIN:VEVENT
DTSTART;TZID=Europe/Vienna:20260422T100000
DTEND;TZID=Europe/Vienna:20260422T120000
DTSTAMP:20260419T174142
CREATED:20260330T073748Z
LAST-MODIFIED:20260330T073748Z
UID:10007494-1776852000-1776859200@wienzimmer.fsw.at
SUMMARY:Offene Aquarell-Malrunde (Senior:innen) – selbstorganisiert
DESCRIPTION:Im Festsaal
URL:https://wienzimmer.fsw.at/event/offene-aquarell-malrunde-seniorinnen-selbstorganisiert-3/2026-04-22/
ATTACH;FMTTYPE=image/png:https://wienzimmer.fsw.at/wp-content/uploads/2023/11/Malen.png
END:VEVENT
BEGIN:VEVENT
DTSTART;TZID=Europe/Vienna:20260422T104000
DTEND;TZID=Europe/Vienna:20260422T114500
DTSTAMP:20260419T174142
CREATED:20260330T074106Z
LAST-MODIFIED:20260330T074106Z
UID:10007498-1776854400-1776858300@wienzimmer.fsw.at
SUMMARY:Yoga mit Sophie – Yoga für Anfänger:innen
DESCRIPTION:Im kleinen Seminarraum (1. Stock)
URL:https://wienzimmer.fsw.at/event/yoga-mit-sophie-yoga-fuer-anfaengerinnen-6/2026-04-22/
END:VEVENT
BEGIN:VEVENT
DTSTART;TZID=Europe/Vienna:20260422T130000
DTEND;TZID=Europe/Vienna:20260422T134500
DTSTAMP:20260419T174142
CREATED:20260330T075415Z
LAST-MODIFIED:20260330T082434Z
UID:10008052-1776862800-1776865500@wienzimmer.fsw.at
SUMMARY:Leseratten Club - gemeinsames interaktives Vorlesen für Kinder (auf Deutsch)
DESCRIPTION:Im kleinen Seminarraum (1.Stock)
URL:https://wienzimmer.fsw.at/event/leseratten-club-gemeinsames-interaktives-vorlesen-fuer-kinder-auf-deutsch-2/2026-04-22/
ATTACH;FMTTYPE=image/png:https://wienzimmer.fsw.at/wp-content/uploads/2024/10/WienZimmer_Veranstaltungskalender-Anime.png
END:VEVENT
BEGIN:VEVENT
DTSTART;TZID=Europe/Vienna:20260422T150000
DTEND;TZID=Europe/Vienna:20260422T160000
DTSTAMP:20260419T174142
CREATED:20260330T075546Z
LAST-MODIFIED:20260330T075546Z
UID:10008056-1776870000-1776873600@wienzimmer.fsw.at
SUMMARY:HobbyLobby – Hacker School (Mittelschule)
DESCRIPTION:Im kleinen Seminarraum im 1. Stock
URL:https://wienzimmer.fsw.at/event/hobbylobby-hacker-school-mittelschule-3/2026-04-22/
END:VEVENT
BEGIN:VEVENT
DTSTART;TZID=Europe/Vienna:20260422T150000
DTEND;TZID=Europe/Vienna:20260422T160000
DTSTAMP:20260419T174142
CREATED:20260330T075717Z
LAST-MODIFIED:20260330T082338Z
UID:10008060-1776870000-1776873600@wienzimmer.fsw.at
SUMMARY:HobbyLobby – Malen & Zeichnen
DESCRIPTION:Im Souterrain
URL:https://wienzimmer.fsw.at/event/hobbylobby-malen-zeichnen-3/2026-04-22/
ATTACH;FMTTYPE=image/png:https://wienzimmer.fsw.at/wp-content/uploads/2023/11/Malen.png
END:VEVENT
BEGIN:VEVENT
DTSTART;TZID=Europe/Vienna:20260422T160000
DTEND;TZID=Europe/Vienna:20260422T170000
DTSTAMP:20260419T174142
CREATED:20260330T075820Z
LAST-MODIFIED:20260330T083530Z
UID:10008064-1776873600-1776877200@wienzimmer.fsw.at
SUMMARY:HobbyLobby – Nachhilfe
DESCRIPTION:Im Souterrain
URL:https://wienzimmer.fsw.at/event/hobbylobby-nachhilfe-3/2026-04-22/
ATTACH;FMTTYPE=image/png:https://wienzimmer.fsw.at/wp-content/uploads/2023/11/Nachhilfe.png
END:VEVENT
BEGIN:VEVENT
DTSTART;TZID=Europe/Vienna:20260422T170000
DTEND;TZID=Europe/Vienna:20260422T180000
DTSTAMP:20260419T174143
CREATED:20260330T075913Z
LAST-MODIFIED:20260330T082135Z
UID:10008068-1776877200-1776880800@wienzimmer.fsw.at
SUMMARY:HobbyLobby – Anime & Manga
DESCRIPTION:Im Souterrain
URL:https://wienzimmer.fsw.at/event/hobbylobby-anime-manga-2/2026-04-22/
ATTACH;FMTTYPE=image/png:https://wienzimmer.fsw.at/wp-content/uploads/2024/10/WienZimmer_Veranstaltungskalender-Anime.png
END:VEVENT
BEGIN:VEVENT
DTSTART;TZID=Europe/Vienna:20260422T180000
DTEND;TZID=Europe/Vienna:20260422T200000
DTSTAMP:20260419T174143
CREATED:20260330T080151Z
LAST-MODIFIED:20260330T080151Z
UID:10008072-1776880800-1776888000@wienzimmer.fsw.at
SUMMARY:LineDance Gruppe
DESCRIPTION:Im kleinen Seminarraum (1. Stock)
URL:https://wienzimmer.fsw.at/event/linedance-gruppe-6/2026-04-22/
END:VEVENT
END:VCALENDAR