BEGIN:VCALENDAR
VERSION:2.0
PRODID:-//Wien Zimmer - ECPv6.15.17.1//NONSGML v1.0//EN
CALSCALE:GREGORIAN
METHOD:PUBLISH
X-ORIGINAL-URL:https://wienzimmer.fsw.at
X-WR-CALDESC:Veranstaltungen für Wien Zimmer
REFRESH-INTERVAL;VALUE=DURATION:PT1H
X-Robots-Tag:noindex
X-PUBLISHED-TTL:PT1H
BEGIN:VTIMEZONE
TZID:Europe/Vienna
BEGIN:DAYLIGHT
TZOFFSETFROM:+0100
TZOFFSETTO:+0200
TZNAME:CEST
DTSTART:20250330T010000
END:DAYLIGHT
BEGIN:STANDARD
TZOFFSETFROM:+0200
TZOFFSETTO:+0100
TZNAME:CET
DTSTART:20251026T010000
END:STANDARD
BEGIN:DAYLIGHT
TZOFFSETFROM:+0100
TZOFFSETTO:+0200
TZNAME:CEST
DTSTART:20260329T010000
END:DAYLIGHT
BEGIN:STANDARD
TZOFFSETFROM:+0200
TZOFFSETTO:+0100
TZNAME:CET
DTSTART:20261025T010000
END:STANDARD
BEGIN:DAYLIGHT
TZOFFSETFROM:+0100
TZOFFSETTO:+0200
TZNAME:CEST
DTSTART:20270328T010000
END:DAYLIGHT
BEGIN:STANDARD
TZOFFSETFROM:+0200
TZOFFSETTO:+0100
TZNAME:CET
DTSTART:20271031T010000
END:STANDARD
END:VTIMEZONE
BEGIN:VEVENT
DTSTART;TZID=Europe/Vienna:20260421T080000
DTEND;TZID=Europe/Vienna:20260421T100000
DTSTAMP:20260419T174406
CREATED:20260330T075039Z
LAST-MODIFIED:20260330T083014Z
UID:10008113-1776758400-1776765600@wienzimmer.fsw.at
SUMMARY:Elterncafé – Austausch und Beratung für alle Eltern
DESCRIPTION:* Babies und Kleinkinder können mitgebracht werden\nIm Festsaal
URL:https://wienzimmer.fsw.at/event/elterncafe-austausch-und-beratung-fuer-alle-eltern-5/2026-04-21/
CATEGORIES:Kinder und Jugendliche
ATTACH;FMTTYPE=image/png:https://wienzimmer.fsw.at/wp-content/uploads/2023/11/Gruppentherapie.png
END:VEVENT
BEGIN:VEVENT
DTSTART;TZID=Europe/Vienna:20260421T140000
DTEND;TZID=Europe/Vienna:20260421T150000
DTSTAMP:20260419T174406
CREATED:20260330T074733Z
LAST-MODIFIED:20260330T074733Z
UID:10008033-1776780000-1776783600@wienzimmer.fsw.at
SUMMARY:Hausaufgabenbegleitung – mit rettet das Kind Österreich
DESCRIPTION:Im kleinen Seminarraum (1. Stock)
URL:https://wienzimmer.fsw.at/event/hausaufgabenbegleitung-mit-rettet-das-kind-oesterreich-6/2026-04-21/
CATEGORIES:Kinder und Jugendliche
ATTACH;FMTTYPE=image/png:https://wienzimmer.fsw.at/wp-content/uploads/2023/11/Hausaufgaben.png
END:VEVENT
BEGIN:VEVENT
DTSTART;TZID=Europe/Vienna:20260421T150000
DTEND;TZID=Europe/Vienna:20260421T160000
DTSTAMP:20260419T174406
CREATED:20260330T080556Z
LAST-MODIFIED:20260330T082245Z
UID:10008080-1776783600-1776787200@wienzimmer.fsw.at
SUMMARY:Hausaufgabenbegleitung – mit rettet das Kind Österreich
DESCRIPTION:Im kleinen Seminarraum (1. Stock)
URL:https://wienzimmer.fsw.at/event/hausaufgabenbegleitung-mit-rettet-das-kind-oesterreich-7/2026-04-21/
CATEGORIES:Kinder und Jugendliche
ATTACH;FMTTYPE=image/png:https://wienzimmer.fsw.at/wp-content/uploads/2023/11/Hausaufgaben.png
END:VEVENT
BEGIN:VEVENT
DTSTART;TZID=Europe/Vienna:20260421T150000
DTEND;TZID=Europe/Vienna:20260421T163000
DTSTAMP:20260419T174406
CREATED:20260410T061525Z
LAST-MODIFIED:20260410T061525Z
UID:10008116-1776783600-1776789000@wienzimmer.fsw.at
SUMMARY:Vortrag für Eltern zu Medienkonsum - von der Sensibilisierung Initiative
DESCRIPTION:Bei dem Vortrag werden folgende Themen besprochen: \n\nInternet und Handy sicher nutzen\nGewalt und Gewaltprävention rund um Handy und Internet\nSoziale Netzwerke und Schutz der Privatsphäre\n\nDer Vortrag ist für alle interessierten Eltern. Kinder (über 3 Jahre) können leider nicht mitgenommen werden. \nUm Anmeldung wird gebeten! \nIm Keller.
URL:https://wienzimmer.fsw.at/event/vortrag-fuer-eltern-zu-medienkonsum-von-der-sensibilisierung-initiative/
ATTACH;FMTTYPE=image/png:https://wienzimmer.fsw.at/wp-content/uploads/2023/11/Nachhilfe.png
END:VEVENT
BEGIN:VEVENT
DTSTART;TZID=Europe/Vienna:20260421T183000
DTEND;TZID=Europe/Vienna:20260421T200000
DTSTAMP:20260419T174406
CREATED:20260330T075242Z
LAST-MODIFIED:20260330T075242Z
UID:10008048-1776796200-1776801600@wienzimmer.fsw.at
SUMMARY:Bauchtanzgruppe
DESCRIPTION:Im kleinen Seminarraum (1. Stock)
URL:https://wienzimmer.fsw.at/event/bauchtanzgruppe-7/2026-04-21/
ATTACH;FMTTYPE=image/png:https://wienzimmer.fsw.at/wp-content/uploads/2023/11/Tanzen.png
END:VEVENT
END:VCALENDAR