BEGIN:VCALENDAR
VERSION:2.0
PRODID:-//Wien Zimmer - ECPv6.15.17.1//NONSGML v1.0//EN
CALSCALE:GREGORIAN
METHOD:PUBLISH
X-WR-CALNAME:Wien Zimmer
X-ORIGINAL-URL:https://wienzimmer.fsw.at
X-WR-CALDESC:Veranstaltungen für Wien Zimmer
REFRESH-INTERVAL;VALUE=DURATION:PT1H
X-Robots-Tag:noindex
X-PUBLISHED-TTL:PT1H
BEGIN:VTIMEZONE
TZID:Europe/Vienna
BEGIN:DAYLIGHT
TZOFFSETFROM:+0100
TZOFFSETTO:+0200
TZNAME:CEST
DTSTART:20250330T010000
END:DAYLIGHT
BEGIN:STANDARD
TZOFFSETFROM:+0200
TZOFFSETTO:+0100
TZNAME:CET
DTSTART:20251026T010000
END:STANDARD
BEGIN:DAYLIGHT
TZOFFSETFROM:+0100
TZOFFSETTO:+0200
TZNAME:CEST
DTSTART:20260329T010000
END:DAYLIGHT
BEGIN:STANDARD
TZOFFSETFROM:+0200
TZOFFSETTO:+0100
TZNAME:CET
DTSTART:20261025T010000
END:STANDARD
BEGIN:DAYLIGHT
TZOFFSETFROM:+0100
TZOFFSETTO:+0200
TZNAME:CEST
DTSTART:20270328T010000
END:DAYLIGHT
BEGIN:STANDARD
TZOFFSETFROM:+0200
TZOFFSETTO:+0100
TZNAME:CET
DTSTART:20271031T010000
END:STANDARD
END:VTIMEZONE
BEGIN:VEVENT
DTSTART;TZID=Europe/Vienna:20260418T193000
DTEND;TZID=Europe/Vienna:20260418T223000
DTSTAMP:20260419T174231
CREATED:20260330T081705Z
LAST-MODIFIED:20260330T081812Z
UID:10008111-1776540600-1776551400@wienzimmer.fsw.at
SUMMARY:Theaterstück: Der Gemeindebaum – Kulturlabor Gemeindebau und Herminentheater
DESCRIPTION:Der Baum im Hof hat viel gesehen. Liebesgesten\, Kämpfe und Intrigen. Stille Gedanken hat er geteilt mit der Schaukel\, dem Aufzug und den Fundgegen­ständen am Fensterbrett.\nAber wie sich´s die Jungen mit der alten Mieterbeirätin angelegt haben\, weil sie unbedingt dieses Fest machen wollten\, das war eine Geschichte\, bei der ihn selbst nur ein Wunder hat retten können. \nGratis Tickets unter kulturlabor.gemeindebau@wohnpartner-wien.at \nIm Souterrain
URL:https://wienzimmer.fsw.at/event/theaterstueck-der-gemeindebaum-kulturlabor-gemeindebau-und-herminentheater/2026-04-18/
END:VEVENT
END:VCALENDAR