BEGIN:VCALENDAR
VERSION:2.0
PRODID:-//Wien Zimmer - ECPv6.15.17.1//NONSGML v1.0//EN
CALSCALE:GREGORIAN
METHOD:PUBLISH
X-ORIGINAL-URL:https://wienzimmer.fsw.at
X-WR-CALDESC:Veranstaltungen für Wien Zimmer
REFRESH-INTERVAL;VALUE=DURATION:PT1H
X-Robots-Tag:noindex
X-PUBLISHED-TTL:PT1H
BEGIN:VTIMEZONE
TZID:Europe/Vienna
BEGIN:DAYLIGHT
TZOFFSETFROM:+0100
TZOFFSETTO:+0200
TZNAME:CEST
DTSTART:20250330T010000
END:DAYLIGHT
BEGIN:STANDARD
TZOFFSETFROM:+0200
TZOFFSETTO:+0100
TZNAME:CET
DTSTART:20251026T010000
END:STANDARD
BEGIN:DAYLIGHT
TZOFFSETFROM:+0100
TZOFFSETTO:+0200
TZNAME:CEST
DTSTART:20260329T010000
END:DAYLIGHT
BEGIN:STANDARD
TZOFFSETFROM:+0200
TZOFFSETTO:+0100
TZNAME:CET
DTSTART:20261025T010000
END:STANDARD
BEGIN:DAYLIGHT
TZOFFSETFROM:+0100
TZOFFSETTO:+0200
TZNAME:CEST
DTSTART:20270328T010000
END:DAYLIGHT
BEGIN:STANDARD
TZOFFSETFROM:+0200
TZOFFSETTO:+0100
TZNAME:CET
DTSTART:20271031T010000
END:STANDARD
END:VTIMEZONE
BEGIN:VEVENT
DTSTART;TZID=Europe/Vienna:20260414T080000
DTEND;TZID=Europe/Vienna:20260414T100000
DTSTAMP:20260419T174313
CREATED:20260330T075039Z
LAST-MODIFIED:20260330T083014Z
UID:10008044-1776153600-1776160800@wienzimmer.fsw.at
SUMMARY:Elterncafé – Austausch und Beratung für alle Eltern
DESCRIPTION:* Babies und Kleinkinder können mitgebracht werden\nIm Festsaal
URL:https://wienzimmer.fsw.at/event/elterncafe-austausch-und-beratung-fuer-alle-eltern-5/2026-04-14/
CATEGORIES:Kinder und Jugendliche
ATTACH;FMTTYPE=image/png:https://wienzimmer.fsw.at/wp-content/uploads/2023/11/Gruppentherapie.png
END:VEVENT
BEGIN:VEVENT
DTSTART;TZID=Europe/Vienna:20260414T140000
DTEND;TZID=Europe/Vienna:20260414T150000
DTSTAMP:20260419T174313
CREATED:20260330T074733Z
LAST-MODIFIED:20260330T074733Z
UID:10008030-1776175200-1776178800@wienzimmer.fsw.at
SUMMARY:Hausaufgabenbegleitung – mit rettet das Kind Österreich
DESCRIPTION:Im kleinen Seminarraum (1. Stock)
URL:https://wienzimmer.fsw.at/event/hausaufgabenbegleitung-mit-rettet-das-kind-oesterreich-6/2026-04-14/
CATEGORIES:Kinder und Jugendliche
ATTACH;FMTTYPE=image/png:https://wienzimmer.fsw.at/wp-content/uploads/2023/11/Hausaufgaben.png
END:VEVENT
BEGIN:VEVENT
DTSTART;TZID=Europe/Vienna:20260414T150000
DTEND;TZID=Europe/Vienna:20260414T160000
DTSTAMP:20260419T174313
CREATED:20260330T080556Z
LAST-MODIFIED:20260330T082245Z
UID:10008077-1776178800-1776182400@wienzimmer.fsw.at
SUMMARY:Hausaufgabenbegleitung – mit rettet das Kind Österreich
DESCRIPTION:Im kleinen Seminarraum (1. Stock)
URL:https://wienzimmer.fsw.at/event/hausaufgabenbegleitung-mit-rettet-das-kind-oesterreich-7/2026-04-14/
CATEGORIES:Kinder und Jugendliche
ATTACH;FMTTYPE=image/png:https://wienzimmer.fsw.at/wp-content/uploads/2023/11/Hausaufgaben.png
END:VEVENT
BEGIN:VEVENT
DTSTART;TZID=Europe/Vienna:20260414T183000
DTEND;TZID=Europe/Vienna:20260414T200000
DTSTAMP:20260419T174313
CREATED:20260330T075242Z
LAST-MODIFIED:20260330T075242Z
UID:10008047-1776191400-1776196800@wienzimmer.fsw.at
SUMMARY:Bauchtanzgruppe
DESCRIPTION:Im kleinen Seminarraum (1. Stock)
URL:https://wienzimmer.fsw.at/event/bauchtanzgruppe-7/2026-04-14/
ATTACH;FMTTYPE=image/png:https://wienzimmer.fsw.at/wp-content/uploads/2023/11/Tanzen.png
END:VEVENT
END:VCALENDAR