BEGIN:VCALENDAR
VERSION:2.0
PRODID:-//Wien Zimmer - ECPv6.15.17.1//NONSGML v1.0//EN
CALSCALE:GREGORIAN
METHOD:PUBLISH
X-WR-CALNAME:Wien Zimmer
X-ORIGINAL-URL:https://wienzimmer.fsw.at
X-WR-CALDESC:Veranstaltungen für Wien Zimmer
REFRESH-INTERVAL;VALUE=DURATION:PT1H
X-Robots-Tag:noindex
X-PUBLISHED-TTL:PT1H
BEGIN:VTIMEZONE
TZID:Europe/Vienna
BEGIN:DAYLIGHT
TZOFFSETFROM:+0100
TZOFFSETTO:+0200
TZNAME:CEST
DTSTART:20250330T010000
END:DAYLIGHT
BEGIN:STANDARD
TZOFFSETFROM:+0200
TZOFFSETTO:+0100
TZNAME:CET
DTSTART:20251026T010000
END:STANDARD
BEGIN:DAYLIGHT
TZOFFSETFROM:+0100
TZOFFSETTO:+0200
TZNAME:CEST
DTSTART:20260329T010000
END:DAYLIGHT
BEGIN:STANDARD
TZOFFSETFROM:+0200
TZOFFSETTO:+0100
TZNAME:CET
DTSTART:20261025T010000
END:STANDARD
BEGIN:DAYLIGHT
TZOFFSETFROM:+0100
TZOFFSETTO:+0200
TZNAME:CEST
DTSTART:20270328T010000
END:DAYLIGHT
BEGIN:STANDARD
TZOFFSETFROM:+0200
TZOFFSETTO:+0100
TZNAME:CET
DTSTART:20271031T010000
END:STANDARD
END:VTIMEZONE
BEGIN:VEVENT
DTSTART;TZID=Europe/Vienna:20260413T130000
DTEND;TZID=Europe/Vienna:20260413T134500
DTSTAMP:20260419T174227
CREATED:20260330T081431Z
LAST-MODIFIED:20260330T081431Z
UID:10008106-1776085200-1776087900@wienzimmer.fsw.at
SUMMARY:Leseratten Club - gemeinsames interaktives Vorlesen für Kinder (auf Arabisch)
DESCRIPTION:Im kleinen Seminarraum (1.Stock)
URL:https://wienzimmer.fsw.at/event/leseratten-club-gemeinsames-interaktives-vorlesen-fuer-kinder-auf-arabisch-2/2026-04-13/
ATTACH;FMTTYPE=image/png:https://wienzimmer.fsw.at/wp-content/uploads/2024/10/WienZimmer_Veranstaltungskalender-Anime.png
END:VEVENT
BEGIN:VEVENT
DTSTART;TZID=Europe/Vienna:20260413T140000
DTEND;TZID=Europe/Vienna:20260413T150000
DTSTAMP:20260419T174227
CREATED:20260330T074733Z
LAST-MODIFIED:20260330T074733Z
UID:10008029-1776088800-1776092400@wienzimmer.fsw.at
SUMMARY:Hausaufgabenbegleitung – mit rettet das Kind Österreich
DESCRIPTION:Im kleinen Seminarraum (1. Stock)
URL:https://wienzimmer.fsw.at/event/hausaufgabenbegleitung-mit-rettet-das-kind-oesterreich-6/2026-04-13/
CATEGORIES:Kinder und Jugendliche
ATTACH;FMTTYPE=image/png:https://wienzimmer.fsw.at/wp-content/uploads/2023/11/Hausaufgaben.png
END:VEVENT
BEGIN:VEVENT
DTSTART;TZID=Europe/Vienna:20260413T150000
DTEND;TZID=Europe/Vienna:20260413T160000
DTSTAMP:20260419T174227
CREATED:20260330T080556Z
LAST-MODIFIED:20260330T082245Z
UID:10008076-1776092400-1776096000@wienzimmer.fsw.at
SUMMARY:Hausaufgabenbegleitung – mit rettet das Kind Österreich
DESCRIPTION:Im kleinen Seminarraum (1. Stock)
URL:https://wienzimmer.fsw.at/event/hausaufgabenbegleitung-mit-rettet-das-kind-oesterreich-7/2026-04-13/
CATEGORIES:Kinder und Jugendliche
ATTACH;FMTTYPE=image/png:https://wienzimmer.fsw.at/wp-content/uploads/2023/11/Hausaufgaben.png
END:VEVENT
END:VCALENDAR