BEGIN:VCALENDAR
VERSION:2.0
PRODID:-//Wien Zimmer - ECPv6.15.17.1//NONSGML v1.0//EN
CALSCALE:GREGORIAN
METHOD:PUBLISH
X-ORIGINAL-URL:https://wienzimmer.fsw.at
X-WR-CALDESC:Veranstaltungen für Wien Zimmer
REFRESH-INTERVAL;VALUE=DURATION:PT1H
X-Robots-Tag:noindex
X-PUBLISHED-TTL:PT1H
BEGIN:VTIMEZONE
TZID:Europe/Vienna
BEGIN:DAYLIGHT
TZOFFSETFROM:+0100
TZOFFSETTO:+0200
TZNAME:CEST
DTSTART:20250330T010000
END:DAYLIGHT
BEGIN:STANDARD
TZOFFSETFROM:+0200
TZOFFSETTO:+0100
TZNAME:CET
DTSTART:20251026T010000
END:STANDARD
BEGIN:DAYLIGHT
TZOFFSETFROM:+0100
TZOFFSETTO:+0200
TZNAME:CEST
DTSTART:20260329T010000
END:DAYLIGHT
BEGIN:STANDARD
TZOFFSETFROM:+0200
TZOFFSETTO:+0100
TZNAME:CET
DTSTART:20261025T010000
END:STANDARD
BEGIN:DAYLIGHT
TZOFFSETFROM:+0100
TZOFFSETTO:+0200
TZNAME:CEST
DTSTART:20270328T010000
END:DAYLIGHT
BEGIN:STANDARD
TZOFFSETFROM:+0200
TZOFFSETTO:+0100
TZNAME:CET
DTSTART:20271031T010000
END:STANDARD
END:VTIMEZONE
BEGIN:VEVENT
DTSTART;TZID=Europe/Vienna:20260407T080000
DTEND;TZID=Europe/Vienna:20260407T100000
DTSTAMP:20260419T174238
CREATED:20260330T075039Z
LAST-MODIFIED:20260330T083014Z
UID:10008043-1775548800-1775556000@wienzimmer.fsw.at
SUMMARY:Elterncafé – Austausch und Beratung für alle Eltern
DESCRIPTION:* Babies und Kleinkinder können mitgebracht werden\nIm Festsaal
URL:https://wienzimmer.fsw.at/event/elterncafe-austausch-und-beratung-fuer-alle-eltern-5/2026-04-07/
CATEGORIES:Kinder und Jugendliche
ATTACH;FMTTYPE=image/png:https://wienzimmer.fsw.at/wp-content/uploads/2023/11/Gruppentherapie.png
END:VEVENT
BEGIN:VEVENT
DTSTART;TZID=Europe/Vienna:20260407T140000
DTEND;TZID=Europe/Vienna:20260407T150000
DTSTAMP:20260419T174238
CREATED:20260330T074733Z
LAST-MODIFIED:20260330T074733Z
UID:10008027-1775570400-1775574000@wienzimmer.fsw.at
SUMMARY:Hausaufgabenbegleitung – mit rettet das Kind Österreich
DESCRIPTION:Im kleinen Seminarraum (1. Stock)
URL:https://wienzimmer.fsw.at/event/hausaufgabenbegleitung-mit-rettet-das-kind-oesterreich-6/2026-04-07/
CATEGORIES:Kinder und Jugendliche
ATTACH;FMTTYPE=image/png:https://wienzimmer.fsw.at/wp-content/uploads/2023/11/Hausaufgaben.png
END:VEVENT
BEGIN:VEVENT
DTSTART;TZID=Europe/Vienna:20260407T150000
DTEND;TZID=Europe/Vienna:20260407T160000
DTSTAMP:20260419T174238
CREATED:20260330T080556Z
LAST-MODIFIED:20260330T082245Z
UID:10008074-1775574000-1775577600@wienzimmer.fsw.at
SUMMARY:Hausaufgabenbegleitung – mit rettet das Kind Österreich
DESCRIPTION:Im kleinen Seminarraum (1. Stock)
URL:https://wienzimmer.fsw.at/event/hausaufgabenbegleitung-mit-rettet-das-kind-oesterreich-7/2026-04-07/
CATEGORIES:Kinder und Jugendliche
ATTACH;FMTTYPE=image/png:https://wienzimmer.fsw.at/wp-content/uploads/2023/11/Hausaufgaben.png
END:VEVENT
BEGIN:VEVENT
DTSTART;TZID=Europe/Vienna:20260407T170000
DTEND;TZID=Europe/Vienna:20260407T200000
DTSTAMP:20260419T174238
CREATED:20260330T075138Z
LAST-MODIFIED:20260330T075138Z
UID:10008045-1775581200-1775592000@wienzimmer.fsw.at
SUMMARY:Tanz mit Franz - Disko mit unserem DJ Franz Haberl
DESCRIPTION:Im Festsaal
URL:https://wienzimmer.fsw.at/event/tanz-mit-franz-disko-mit-unserem-dj-franz-haberl-2/
ATTACH;FMTTYPE=image/png:https://wienzimmer.fsw.at/wp-content/uploads/2023/11/Tanzen.png
END:VEVENT
BEGIN:VEVENT
DTSTART;TZID=Europe/Vienna:20260407T183000
DTEND;TZID=Europe/Vienna:20260407T200000
DTSTAMP:20260419T174238
CREATED:20260330T075242Z
LAST-MODIFIED:20260330T075242Z
UID:10008046-1775586600-1775592000@wienzimmer.fsw.at
SUMMARY:Bauchtanzgruppe
DESCRIPTION:Im kleinen Seminarraum (1. Stock)
URL:https://wienzimmer.fsw.at/event/bauchtanzgruppe-7/2026-04-07/
ATTACH;FMTTYPE=image/png:https://wienzimmer.fsw.at/wp-content/uploads/2023/11/Tanzen.png
END:VEVENT
END:VCALENDAR