BEGIN:VCALENDAR
VERSION:2.0
PRODID:-//Wien Zimmer - ECPv6.15.17.1//NONSGML v1.0//EN
CALSCALE:GREGORIAN
METHOD:PUBLISH
X-WR-CALNAME:Wien Zimmer
X-ORIGINAL-URL:https://wienzimmer.fsw.at
X-WR-CALDESC:Veranstaltungen für Wien Zimmer
REFRESH-INTERVAL;VALUE=DURATION:PT1H
X-Robots-Tag:noindex
X-PUBLISHED-TTL:PT1H
BEGIN:VTIMEZONE
TZID:Europe/Vienna
BEGIN:DAYLIGHT
TZOFFSETFROM:+0100
TZOFFSETTO:+0200
TZNAME:CEST
DTSTART:20250330T010000
END:DAYLIGHT
BEGIN:STANDARD
TZOFFSETFROM:+0200
TZOFFSETTO:+0100
TZNAME:CET
DTSTART:20251026T010000
END:STANDARD
BEGIN:DAYLIGHT
TZOFFSETFROM:+0100
TZOFFSETTO:+0200
TZNAME:CEST
DTSTART:20260329T010000
END:DAYLIGHT
BEGIN:STANDARD
TZOFFSETFROM:+0200
TZOFFSETTO:+0100
TZNAME:CET
DTSTART:20261025T010000
END:STANDARD
BEGIN:DAYLIGHT
TZOFFSETFROM:+0100
TZOFFSETTO:+0200
TZNAME:CEST
DTSTART:20270328T010000
END:DAYLIGHT
BEGIN:STANDARD
TZOFFSETFROM:+0200
TZOFFSETTO:+0100
TZNAME:CET
DTSTART:20271031T010000
END:STANDARD
END:VTIMEZONE
BEGIN:VEVENT
DTSTART;TZID=Europe/Vienna:20260325T091500
DTEND;TZID=Europe/Vienna:20260325T101500
DTSTAMP:20260419T224353
CREATED:20260119T091751Z
LAST-MODIFIED:20260303T090359Z
UID:10007403-1774430100-1774433700@wienzimmer.fsw.at
SUMMARY:Yoga mit Sophie – für Senior:innen
DESCRIPTION:Im kleinen Seminarraum (1. Stock)
URL:https://wienzimmer.fsw.at/event/yoga-mit-sophie-fuer-seniorinnen-7/2026-03-25/
END:VEVENT
BEGIN:VEVENT
DTSTART;TZID=Europe/Vienna:20260325T100000
DTEND;TZID=Europe/Vienna:20260325T120000
DTSTAMP:20260419T224353
CREATED:20260119T091903Z
LAST-MODIFIED:20260304T082433Z
UID:10007407-1774432800-1774440000@wienzimmer.fsw.at
SUMMARY:Offene Aquarell-Malrunde (Senior:innen) – selbstorganisiert
DESCRIPTION:Im Festsaal
URL:https://wienzimmer.fsw.at/event/offene-aquarell-malrunde-seniorinnen-selbstorganisiert-2/2026-03-25/
ATTACH;FMTTYPE=image/png:https://wienzimmer.fsw.at/wp-content/uploads/2023/11/Malen.png
END:VEVENT
BEGIN:VEVENT
DTSTART;TZID=Europe/Vienna:20260325T104000
DTEND;TZID=Europe/Vienna:20260325T114500
DTSTAMP:20260419T224353
CREATED:20260119T092022Z
LAST-MODIFIED:20260304T082703Z
UID:10007374-1774435200-1774439100@wienzimmer.fsw.at
SUMMARY:Yoga mit Sophie – Yoga für Anfänger:innen
DESCRIPTION:Im kleinen Seminarraum (1. Stock)
URL:https://wienzimmer.fsw.at/event/yoga-mit-sophie-yoga-fuer-anfaengerinnen-5/2026-03-25/
END:VEVENT
BEGIN:VEVENT
DTSTART;TZID=Europe/Vienna:20260325T130000
DTEND;TZID=Europe/Vienna:20260325T134500
DTSTAMP:20260419T224353
CREATED:20260119T092135Z
LAST-MODIFIED:20260304T083112Z
UID:10007411-1774443600-1774446300@wienzimmer.fsw.at
SUMMARY:Leseratten Club - gemeinsames interaktives Vorlesen für Kinder (auf Deutsch)
DESCRIPTION:Im kleinen Seminarraum (1.Stock)
URL:https://wienzimmer.fsw.at/event/leseratten-club-gemeinsames-interaktives-vorlesen-fuer-kinder-auf-deutsch/2026-03-25/
CATEGORIES:Kinder und Jugendliche
ATTACH;FMTTYPE=image/png:https://wienzimmer.fsw.at/wp-content/uploads/2024/10/WienZimmer_Veranstaltungskalender-Anime.png
END:VEVENT
BEGIN:VEVENT
DTSTART;TZID=Europe/Vienna:20260325T140000
DTEND;TZID=Europe/Vienna:20260325T180000
DTSTAMP:20260419T224353
CREATED:20260119T092312Z
LAST-MODIFIED:20260304T083638Z
UID:10007418-1774447200-1774461600@wienzimmer.fsw.at
SUMMARY:Kinderfreunde Wien – offene Kinder- & Jugendarbeit
DESCRIPTION:Im WienZimmer (diverse Räume)
URL:https://wienzimmer.fsw.at/event/kinderfreunde-wien-offene-kinder-jugendarbeit-18/2026-03-25/
CATEGORIES:Kinder und Jugendliche
END:VEVENT
BEGIN:VEVENT
DTSTART;TZID=Europe/Vienna:20260325T150000
DTEND;TZID=Europe/Vienna:20260325T160000
DTSTAMP:20260419T224353
CREATED:20251126T161335Z
LAST-MODIFIED:20260304T112841Z
UID:10007434-1774450800-1774454400@wienzimmer.fsw.at
SUMMARY:Hobby Lobby – Hacker School (Mittelschule)
DESCRIPTION:Im kleinen Seminarraum im 1. Stock
URL:https://wienzimmer.fsw.at/event/hobby-lobby-toepfern-fuer-volkschuelerinnen-2/2026-03-25/
END:VEVENT
BEGIN:VEVENT
DTSTART;TZID=Europe/Vienna:20260325T150000
DTEND;TZID=Europe/Vienna:20260325T160000
DTSTAMP:20260419T224353
CREATED:20260302T104203Z
LAST-MODIFIED:20260304T113529Z
UID:10007438-1774450800-1774454400@wienzimmer.fsw.at
SUMMARY:HobbyLobby – Malen & Zeichnen
DESCRIPTION:HobbyLobby – Malen & Zeichnen \nIm Souterrain
URL:https://wienzimmer.fsw.at/event/hobbylobby-malen-zeichnen-2/2026-03-25/
END:VEVENT
BEGIN:VEVENT
DTSTART;TZID=Europe/Vienna:20260325T170000
DTEND;TZID=Europe/Vienna:20260325T180000
DTSTAMP:20260419T224353
CREATED:20260302T104435Z
LAST-MODIFIED:20260305T093753Z
UID:10007444-1774458000-1774461600@wienzimmer.fsw.at
SUMMARY:HobbyLobby – Anime & Manga
DESCRIPTION:HobbyLobby – Anime & Manga \nIm Souterrain
URL:https://wienzimmer.fsw.at/event/hobbylobby-anime-manga/2026-03-25/
LOCATION:
END:VEVENT
BEGIN:VEVENT
DTSTART;TZID=Europe/Vienna:20260325T180000
DTEND;TZID=Europe/Vienna:20260325T200000
DTSTAMP:20260419T224353
CREATED:20251126T123124Z
LAST-MODIFIED:20260305T084835Z
UID:10007479-1774461600-1774468800@wienzimmer.fsw.at
SUMMARY:LineDance Gruppe
DESCRIPTION:im kleinen Seminarraum (1. Stock)
URL:https://wienzimmer.fsw.at/event/linedance-gruppe-3/2026-03-25/
END:VEVENT
END:VCALENDAR