BEGIN:VCALENDAR
VERSION:2.0
PRODID:-//Wien Zimmer - ECPv6.15.17.1//NONSGML v1.0//EN
CALSCALE:GREGORIAN
METHOD:PUBLISH
X-WR-CALNAME:Wien Zimmer
X-ORIGINAL-URL:https://wienzimmer.fsw.at
X-WR-CALDESC:Veranstaltungen für Wien Zimmer
REFRESH-INTERVAL;VALUE=DURATION:PT1H
X-Robots-Tag:noindex
X-PUBLISHED-TTL:PT1H
BEGIN:VTIMEZONE
TZID:Europe/Vienna
BEGIN:DAYLIGHT
TZOFFSETFROM:+0100
TZOFFSETTO:+0200
TZNAME:CEST
DTSTART:20250330T010000
END:DAYLIGHT
BEGIN:STANDARD
TZOFFSETFROM:+0200
TZOFFSETTO:+0100
TZNAME:CET
DTSTART:20251026T010000
END:STANDARD
BEGIN:DAYLIGHT
TZOFFSETFROM:+0100
TZOFFSETTO:+0200
TZNAME:CEST
DTSTART:20260329T010000
END:DAYLIGHT
BEGIN:STANDARD
TZOFFSETFROM:+0200
TZOFFSETTO:+0100
TZNAME:CET
DTSTART:20261025T010000
END:STANDARD
BEGIN:DAYLIGHT
TZOFFSETFROM:+0100
TZOFFSETTO:+0200
TZNAME:CEST
DTSTART:20270328T010000
END:DAYLIGHT
BEGIN:STANDARD
TZOFFSETFROM:+0200
TZOFFSETTO:+0100
TZNAME:CET
DTSTART:20271031T010000
END:STANDARD
END:VTIMEZONE
BEGIN:VEVENT
DTSTART;TZID=Europe/Vienna:20260317T080000
DTEND;TZID=Europe/Vienna:20260317T100000
DTSTAMP:20260419T224343
CREATED:20260119T091445Z
LAST-MODIFIED:20260303T085259Z
UID:10007394-1773734400-1773741600@wienzimmer.fsw.at
SUMMARY:Elterncafe – Austausch und Beratung für alle Eltern
DESCRIPTION:Babies und Kleinkinder können mitgebracht werden.\nIm Festsaal
URL:https://wienzimmer.fsw.at/event/elterncafe-austausch-und-beratung-fuer-alle-eltern-3/2026-03-17/
ATTACH;FMTTYPE=image/png:https://wienzimmer.fsw.at/wp-content/uploads/2023/11/Plaudertischerl.png
END:VEVENT
BEGIN:VEVENT
DTSTART;TZID=Europe/Vienna:20260317T140000
DTEND;TZID=Europe/Vienna:20260317T150000
DTSTAMP:20260419T224343
CREATED:20260119T094231Z
LAST-MODIFIED:20260303T084542Z
UID:10007386-1773756000-1773759600@wienzimmer.fsw.at
SUMMARY:Hausaufgabenbegleitung – mit rettet das Kind Österreich
DESCRIPTION:Im kleinen Seminarraum (1. Stock)
URL:https://wienzimmer.fsw.at/event/hausaufgabenbegleitung-mit-rettet-das-kind-oesterreich-3/2026-03-17/
CATEGORIES:Kinder und Jugendliche
ATTACH;FMTTYPE=image/png:https://wienzimmer.fsw.at/wp-content/uploads/2023/11/Hausaufgaben.png
END:VEVENT
BEGIN:VEVENT
DTSTART;TZID=Europe/Vienna:20260317T150000
DTEND;TZID=Europe/Vienna:20260317T160000
DTSTAMP:20260419T224343
CREATED:20251217T145632Z
LAST-MODIFIED:20260304T111822Z
UID:10007426-1773759600-1773763200@wienzimmer.fsw.at
SUMMARY:Hausaufgabenbegleitung – mit rettet das Kind Österreich
DESCRIPTION:Im kleinen Seminarraum (1. Stock).
URL:https://wienzimmer.fsw.at/event/hausaufgabenbegleitung-mit-rettet-das-kind-oesterreich/2026-03-17/
CATEGORIES:Kinder und Jugendliche
ATTACH;FMTTYPE=image/png:https://wienzimmer.fsw.at/wp-content/uploads/2023/11/Hausaufgaben.png
END:VEVENT
BEGIN:VEVENT
DTSTART;TZID=Europe/Vienna:20260317T170000
DTEND;TZID=Europe/Vienna:20260317T200000
DTSTAMP:20260419T224343
CREATED:20260305T085106Z
LAST-MODIFIED:20260305T085106Z
UID:10007480-1773766800-1773777600@wienzimmer.fsw.at
SUMMARY:Iftar – Gemeinsames Fastenbrechen zum Ramadan
DESCRIPTION:Im Festsaal
URL:https://wienzimmer.fsw.at/event/iftar-gemeinsames-fastenbrechen-zum-ramadan/
END:VEVENT
BEGIN:VEVENT
DTSTART;TZID=Europe/Vienna:20260317T183000
DTEND;TZID=Europe/Vienna:20260317T200000
DTSTAMP:20260419T224343
CREATED:20260119T091625Z
LAST-MODIFIED:20260303T085824Z
UID:10007397-1773772200-1773777600@wienzimmer.fsw.at
SUMMARY:Bauchtanzgruppe
DESCRIPTION:Im kleinen Seminarraum (1. Stock)
URL:https://wienzimmer.fsw.at/event/bauchtanzgruppe-5/2026-03-17/
END:VEVENT
END:VCALENDAR