BEGIN:VCALENDAR
VERSION:2.0
PRODID:-//Wien Zimmer - ECPv6.15.17.1//NONSGML v1.0//EN
CALSCALE:GREGORIAN
METHOD:PUBLISH
X-ORIGINAL-URL:https://wienzimmer.fsw.at
X-WR-CALDESC:Veranstaltungen für Wien Zimmer
REFRESH-INTERVAL;VALUE=DURATION:PT1H
X-Robots-Tag:noindex
X-PUBLISHED-TTL:PT1H
BEGIN:VTIMEZONE
TZID:Europe/Vienna
BEGIN:DAYLIGHT
TZOFFSETFROM:+0100
TZOFFSETTO:+0200
TZNAME:CEST
DTSTART:20250330T010000
END:DAYLIGHT
BEGIN:STANDARD
TZOFFSETFROM:+0200
TZOFFSETTO:+0100
TZNAME:CET
DTSTART:20251026T010000
END:STANDARD
BEGIN:DAYLIGHT
TZOFFSETFROM:+0100
TZOFFSETTO:+0200
TZNAME:CEST
DTSTART:20260329T010000
END:DAYLIGHT
BEGIN:STANDARD
TZOFFSETFROM:+0200
TZOFFSETTO:+0100
TZNAME:CET
DTSTART:20261025T010000
END:STANDARD
BEGIN:DAYLIGHT
TZOFFSETFROM:+0100
TZOFFSETTO:+0200
TZNAME:CEST
DTSTART:20270328T010000
END:DAYLIGHT
BEGIN:STANDARD
TZOFFSETFROM:+0200
TZOFFSETTO:+0100
TZNAME:CET
DTSTART:20271031T010000
END:STANDARD
END:VTIMEZONE
BEGIN:VEVENT
DTSTART;TZID=Europe/Vienna:20260312T100000
DTEND;TZID=Europe/Vienna:20260312T110000
DTSTAMP:20260419T193315
CREATED:20260119T092443Z
LAST-MODIFIED:20260305T081450Z
UID:10007446-1773309600-1773313200@wienzimmer.fsw.at
SUMMARY:Krafttraining mit Bernd
DESCRIPTION:Für ältere Menschen und alle\, die mitmachen wollen.\nIm Souterrain.
URL:https://wienzimmer.fsw.at/event/krafttraining-mit-bernd-3/2026-03-12/
ATTACH;FMTTYPE=image/png:https://wienzimmer.fsw.at/wp-content/uploads/2023/11/Fitness.png
END:VEVENT
BEGIN:VEVENT
DTSTART;TZID=Europe/Vienna:20260312T140000
DTEND;TZID=Europe/Vienna:20260312T150000
DTSTAMP:20260419T193315
CREATED:20260119T094231Z
LAST-MODIFIED:20260303T084542Z
UID:10007384-1773324000-1773327600@wienzimmer.fsw.at
SUMMARY:Hausaufgabenbegleitung – mit rettet das Kind Österreich
DESCRIPTION:Im kleinen Seminarraum (1. Stock)
URL:https://wienzimmer.fsw.at/event/hausaufgabenbegleitung-mit-rettet-das-kind-oesterreich-3/2026-03-12/
CATEGORIES:Kinder und Jugendliche
ATTACH;FMTTYPE=image/png:https://wienzimmer.fsw.at/wp-content/uploads/2023/11/Hausaufgaben.png
END:VEVENT
BEGIN:VEVENT
DTSTART;TZID=Europe/Vienna:20260312T140000
DTEND;TZID=Europe/Vienna:20260312T160000
DTSTAMP:20260419T193315
CREATED:20260119T092632Z
LAST-MODIFIED:20260305T081852Z
UID:10007450-1773324000-1773331200@wienzimmer.fsw.at
SUMMARY:Handarbeitsstammtisch – selbstorganisiert aus der Nachbarschaft
DESCRIPTION:Im Festsaal
URL:https://wienzimmer.fsw.at/event/handarbeitsstammtisch-selbstorganisiert-aus-der-nachbarschaft-3/2026-03-12/
ATTACH;FMTTYPE=image/png:https://wienzimmer.fsw.at/wp-content/uploads/2024/04/naehkurs.png
END:VEVENT
BEGIN:VEVENT
DTSTART;TZID=Europe/Vienna:20260312T140000
DTEND;TZID=Europe/Vienna:20260312T180000
DTSTAMP:20260419T193315
CREATED:20260119T092312Z
LAST-MODIFIED:20260304T083638Z
UID:10007415-1773324000-1773338400@wienzimmer.fsw.at
SUMMARY:Kinderfreunde Wien – offene Kinder- & Jugendarbeit
DESCRIPTION:Im WienZimmer (diverse Räume)
URL:https://wienzimmer.fsw.at/event/kinderfreunde-wien-offene-kinder-jugendarbeit-18/2026-03-12/
CATEGORIES:Kinder und Jugendliche
END:VEVENT
BEGIN:VEVENT
DTSTART;TZID=Europe/Vienna:20260312T150000
DTEND;TZID=Europe/Vienna:20260312T160000
DTSTAMP:20260419T193315
CREATED:20251217T145632Z
LAST-MODIFIED:20260304T111822Z
UID:10007424-1773327600-1773331200@wienzimmer.fsw.at
SUMMARY:Hausaufgabenbegleitung – mit rettet das Kind Österreich
DESCRIPTION:Im kleinen Seminarraum (1. Stock).
URL:https://wienzimmer.fsw.at/event/hausaufgabenbegleitung-mit-rettet-das-kind-oesterreich/2026-03-12/
CATEGORIES:Kinder und Jugendliche
ATTACH;FMTTYPE=image/png:https://wienzimmer.fsw.at/wp-content/uploads/2023/11/Hausaufgaben.png
END:VEVENT
BEGIN:VEVENT
DTSTART;TZID=Europe/Vienna:20260312T153000
DTEND;TZID=Europe/Vienna:20260312T163000
DTSTAMP:20260419T193315
CREATED:20260302T105400Z
LAST-MODIFIED:20260305T082214Z
UID:10007454-1773329400-1773333000@wienzimmer.fsw.at
SUMMARY:HobbyLobby – Schauspiel
DESCRIPTION:HobbyLobby – Schauspiel \nIm Souterrain
URL:https://wienzimmer.fsw.at/event/hobbylobby-schauspiel/2026-03-12/
END:VEVENT
BEGIN:VEVENT
DTSTART;TZID=Europe/Vienna:20260312T163000
DTEND;TZID=Europe/Vienna:20260312T173000
DTSTAMP:20260419T193315
CREATED:20260302T105457Z
LAST-MODIFIED:20260305T082640Z
UID:10007458-1773333000-1773336600@wienzimmer.fsw.at
SUMMARY:HobbyLobby – Kunstwerkstatt
DESCRIPTION:HobbyLobby – Kunstwerkstatt \nIm Souterrain
URL:https://wienzimmer.fsw.at/event/hobbylobby-kunstwerkstatt/2026-03-12/
END:VEVENT
BEGIN:VEVENT
DTSTART;TZID=Europe/Vienna:20260312T173000
DTEND;TZID=Europe/Vienna:20260312T183000
DTSTAMP:20260419T193315
CREATED:20260302T105543Z
LAST-MODIFIED:20260305T082916Z
UID:10007462-1773336600-1773340200@wienzimmer.fsw.at
SUMMARY:HobbyLobby – Töpfern (Mittelschule)
DESCRIPTION:HobbyLobby – Töpfern (Mittelschule) \nIm Souterrain
URL:https://wienzimmer.fsw.at/event/hobbylobby-toepfern-mittelschule/2026-03-12/
END:VEVENT
END:VCALENDAR