BEGIN:VCALENDAR
VERSION:2.0
PRODID:-//Wien Zimmer - ECPv6.15.17.1//NONSGML v1.0//EN
CALSCALE:GREGORIAN
METHOD:PUBLISH
X-ORIGINAL-URL:https://wienzimmer.fsw.at
X-WR-CALDESC:Veranstaltungen für Wien Zimmer
REFRESH-INTERVAL;VALUE=DURATION:PT1H
X-Robots-Tag:noindex
X-PUBLISHED-TTL:PT1H
BEGIN:VTIMEZONE
TZID:Europe/Vienna
BEGIN:DAYLIGHT
TZOFFSETFROM:+0100
TZOFFSETTO:+0200
TZNAME:CEST
DTSTART:20250330T010000
END:DAYLIGHT
BEGIN:STANDARD
TZOFFSETFROM:+0200
TZOFFSETTO:+0100
TZNAME:CET
DTSTART:20251026T010000
END:STANDARD
BEGIN:DAYLIGHT
TZOFFSETFROM:+0100
TZOFFSETTO:+0200
TZNAME:CEST
DTSTART:20260329T010000
END:DAYLIGHT
BEGIN:STANDARD
TZOFFSETFROM:+0200
TZOFFSETTO:+0100
TZNAME:CET
DTSTART:20261025T010000
END:STANDARD
BEGIN:DAYLIGHT
TZOFFSETFROM:+0100
TZOFFSETTO:+0200
TZNAME:CEST
DTSTART:20270328T010000
END:DAYLIGHT
BEGIN:STANDARD
TZOFFSETFROM:+0200
TZOFFSETTO:+0100
TZNAME:CET
DTSTART:20271031T010000
END:STANDARD
END:VTIMEZONE
BEGIN:VEVENT
DTSTART;TZID=Europe/Vienna:20260311T091500
DTEND;TZID=Europe/Vienna:20260311T101500
DTSTAMP:20260419T193306
CREATED:20260119T091751Z
LAST-MODIFIED:20260303T090359Z
UID:10007401-1773220500-1773224100@wienzimmer.fsw.at
SUMMARY:Yoga mit Sophie – für Senior:innen
DESCRIPTION:Im kleinen Seminarraum (1. Stock)
URL:https://wienzimmer.fsw.at/event/yoga-mit-sophie-fuer-seniorinnen-7/2026-03-11/
END:VEVENT
BEGIN:VEVENT
DTSTART;TZID=Europe/Vienna:20260311T100000
DTEND;TZID=Europe/Vienna:20260311T120000
DTSTAMP:20260419T193306
CREATED:20260119T091903Z
LAST-MODIFIED:20260304T082433Z
UID:10007405-1773223200-1773230400@wienzimmer.fsw.at
SUMMARY:Offene Aquarell-Malrunde (Senior:innen) – selbstorganisiert
DESCRIPTION:Im Festsaal
URL:https://wienzimmer.fsw.at/event/offene-aquarell-malrunde-seniorinnen-selbstorganisiert-2/2026-03-11/
ATTACH;FMTTYPE=image/png:https://wienzimmer.fsw.at/wp-content/uploads/2023/11/Malen.png
END:VEVENT
BEGIN:VEVENT
DTSTART;TZID=Europe/Vienna:20260311T104000
DTEND;TZID=Europe/Vienna:20260311T114500
DTSTAMP:20260419T193306
CREATED:20260119T092022Z
LAST-MODIFIED:20260304T082703Z
UID:10007372-1773225600-1773229500@wienzimmer.fsw.at
SUMMARY:Yoga mit Sophie – Yoga für Anfänger:innen
DESCRIPTION:Im kleinen Seminarraum (1. Stock)
URL:https://wienzimmer.fsw.at/event/yoga-mit-sophie-yoga-fuer-anfaengerinnen-5/2026-03-11/
END:VEVENT
BEGIN:VEVENT
DTSTART;TZID=Europe/Vienna:20260311T130000
DTEND;TZID=Europe/Vienna:20260311T134500
DTSTAMP:20260419T193306
CREATED:20260119T092135Z
LAST-MODIFIED:20260304T083112Z
UID:10007409-1773234000-1773236700@wienzimmer.fsw.at
SUMMARY:Leseratten Club - gemeinsames interaktives Vorlesen für Kinder (auf Deutsch)
DESCRIPTION:Im kleinen Seminarraum (1.Stock)
URL:https://wienzimmer.fsw.at/event/leseratten-club-gemeinsames-interaktives-vorlesen-fuer-kinder-auf-deutsch/2026-03-11/
CATEGORIES:Kinder und Jugendliche
ATTACH;FMTTYPE=image/png:https://wienzimmer.fsw.at/wp-content/uploads/2024/10/WienZimmer_Veranstaltungskalender-Anime.png
END:VEVENT
BEGIN:VEVENT
DTSTART;TZID=Europe/Vienna:20260311T140000
DTEND;TZID=Europe/Vienna:20260311T180000
DTSTAMP:20260419T193306
CREATED:20260119T092312Z
LAST-MODIFIED:20260304T083638Z
UID:10007414-1773237600-1773252000@wienzimmer.fsw.at
SUMMARY:Kinderfreunde Wien – offene Kinder- & Jugendarbeit
DESCRIPTION:Im WienZimmer (diverse Räume)
URL:https://wienzimmer.fsw.at/event/kinderfreunde-wien-offene-kinder-jugendarbeit-18/2026-03-11/
CATEGORIES:Kinder und Jugendliche
END:VEVENT
BEGIN:VEVENT
DTSTART;TZID=Europe/Vienna:20260311T150000
DTEND;TZID=Europe/Vienna:20260311T160000
DTSTAMP:20260419T193306
CREATED:20251126T161335Z
LAST-MODIFIED:20260304T112841Z
UID:10007432-1773241200-1773244800@wienzimmer.fsw.at
SUMMARY:Hobby Lobby – Hacker School (Mittelschule)
DESCRIPTION:Im kleinen Seminarraum im 1. Stock
URL:https://wienzimmer.fsw.at/event/hobby-lobby-toepfern-fuer-volkschuelerinnen-2/2026-03-11/
END:VEVENT
BEGIN:VEVENT
DTSTART;TZID=Europe/Vienna:20260311T150000
DTEND;TZID=Europe/Vienna:20260311T160000
DTSTAMP:20260419T193306
CREATED:20260302T104203Z
LAST-MODIFIED:20260304T113529Z
UID:10007436-1773241200-1773244800@wienzimmer.fsw.at
SUMMARY:HobbyLobby – Malen & Zeichnen
DESCRIPTION:HobbyLobby – Malen & Zeichnen \nIm Souterrain
URL:https://wienzimmer.fsw.at/event/hobbylobby-malen-zeichnen-2/2026-03-11/
END:VEVENT
BEGIN:VEVENT
DTSTART;TZID=Europe/Vienna:20260311T170000
DTEND;TZID=Europe/Vienna:20260311T180000
DTSTAMP:20260419T193306
CREATED:20260119T093158Z
LAST-MODIFIED:20260305T084537Z
UID:10007477-1773248400-1773252000@wienzimmer.fsw.at
SUMMARY:LineDance Schnupperstunde
DESCRIPTION:Im kleinen Seminarraun (1. Stock)
URL:https://wienzimmer.fsw.at/event/linedance-schnupperstunde-4/2026-03-11/
ATTACH;FMTTYPE=image/png:https://wienzimmer.fsw.at/wp-content/uploads/2023/11/Tanzen.png
END:VEVENT
BEGIN:VEVENT
DTSTART;TZID=Europe/Vienna:20260311T170000
DTEND;TZID=Europe/Vienna:20260311T180000
DTSTAMP:20260419T193306
CREATED:20260302T104435Z
LAST-MODIFIED:20260305T093753Z
UID:10007484-1773248400-1773252000@wienzimmer.fsw.at
SUMMARY:HobbyLobby – Anime & Manga
DESCRIPTION:HobbyLobby – Anime & Manga \nIm Souterrain
URL:https://wienzimmer.fsw.at/event/hobbylobby-anime-manga/2026-03-11/
LOCATION:
END:VEVENT
BEGIN:VEVENT
DTSTART;TZID=Europe/Vienna:20260311T180000
DTEND;TZID=Europe/Vienna:20260311T200000
DTSTAMP:20260419T193306
CREATED:20251126T123124Z
LAST-MODIFIED:20260305T084835Z
UID:10007478-1773252000-1773259200@wienzimmer.fsw.at
SUMMARY:LineDance Gruppe
DESCRIPTION:im kleinen Seminarraum (1. Stock)
URL:https://wienzimmer.fsw.at/event/linedance-gruppe-3/2026-03-11/
END:VEVENT
END:VCALENDAR