BEGIN:VCALENDAR
VERSION:2.0
PRODID:-//Wien Zimmer - ECPv6.15.17.1//NONSGML v1.0//EN
CALSCALE:GREGORIAN
METHOD:PUBLISH
X-ORIGINAL-URL:https://wienzimmer.fsw.at
X-WR-CALDESC:Veranstaltungen für Wien Zimmer
REFRESH-INTERVAL;VALUE=DURATION:PT1H
X-Robots-Tag:noindex
X-PUBLISHED-TTL:PT1H
BEGIN:VTIMEZONE
TZID:Europe/Vienna
BEGIN:DAYLIGHT
TZOFFSETFROM:+0100
TZOFFSETTO:+0200
TZNAME:CEST
DTSTART:20250330T010000
END:DAYLIGHT
BEGIN:STANDARD
TZOFFSETFROM:+0200
TZOFFSETTO:+0100
TZNAME:CET
DTSTART:20251026T010000
END:STANDARD
BEGIN:DAYLIGHT
TZOFFSETFROM:+0100
TZOFFSETTO:+0200
TZNAME:CEST
DTSTART:20260329T010000
END:DAYLIGHT
BEGIN:STANDARD
TZOFFSETFROM:+0200
TZOFFSETTO:+0100
TZNAME:CET
DTSTART:20261025T010000
END:STANDARD
BEGIN:DAYLIGHT
TZOFFSETFROM:+0100
TZOFFSETTO:+0200
TZNAME:CEST
DTSTART:20270328T010000
END:DAYLIGHT
BEGIN:STANDARD
TZOFFSETFROM:+0200
TZOFFSETTO:+0100
TZNAME:CET
DTSTART:20271031T010000
END:STANDARD
END:VTIMEZONE
BEGIN:VEVENT
DTSTART;TZID=Europe/Vienna:20260310T080000
DTEND;TZID=Europe/Vienna:20260310T100000
DTSTAMP:20260420T025042
CREATED:20260119T091445Z
LAST-MODIFIED:20260303T085259Z
UID:10007393-1773129600-1773136800@wienzimmer.fsw.at
SUMMARY:Elterncafe – Austausch und Beratung für alle Eltern
DESCRIPTION:Babies und Kleinkinder können mitgebracht werden.\nIm Festsaal
URL:https://wienzimmer.fsw.at/event/elterncafe-austausch-und-beratung-fuer-alle-eltern-3/2026-03-10/
ATTACH;FMTTYPE=image/png:https://wienzimmer.fsw.at/wp-content/uploads/2023/11/Plaudertischerl.png
END:VEVENT
BEGIN:VEVENT
DTSTART;TZID=Europe/Vienna:20260310T140000
DTEND;TZID=Europe/Vienna:20260310T150000
DTSTAMP:20260420T025042
CREATED:20260119T094231Z
LAST-MODIFIED:20260303T084542Z
UID:10007383-1773151200-1773154800@wienzimmer.fsw.at
SUMMARY:Hausaufgabenbegleitung – mit rettet das Kind Österreich
DESCRIPTION:Im kleinen Seminarraum (1. Stock)
URL:https://wienzimmer.fsw.at/event/hausaufgabenbegleitung-mit-rettet-das-kind-oesterreich-3/2026-03-10/
CATEGORIES:Kinder und Jugendliche
ATTACH;FMTTYPE=image/png:https://wienzimmer.fsw.at/wp-content/uploads/2023/11/Hausaufgaben.png
END:VEVENT
BEGIN:VEVENT
DTSTART;TZID=Europe/Vienna:20260310T150000
DTEND;TZID=Europe/Vienna:20260310T160000
DTSTAMP:20260420T025042
CREATED:20251217T145632Z
LAST-MODIFIED:20260304T111822Z
UID:10007423-1773154800-1773158400@wienzimmer.fsw.at
SUMMARY:Hausaufgabenbegleitung – mit rettet das Kind Österreich
DESCRIPTION:Im kleinen Seminarraum (1. Stock).
URL:https://wienzimmer.fsw.at/event/hausaufgabenbegleitung-mit-rettet-das-kind-oesterreich/2026-03-10/
CATEGORIES:Kinder und Jugendliche
ATTACH;FMTTYPE=image/png:https://wienzimmer.fsw.at/wp-content/uploads/2023/11/Hausaufgaben.png
END:VEVENT
BEGIN:VEVENT
DTSTART;TZID=Europe/Vienna:20260310T183000
DTEND;TZID=Europe/Vienna:20260310T200000
DTSTAMP:20260420T025042
CREATED:20260119T091625Z
LAST-MODIFIED:20260303T085824Z
UID:10007396-1773167400-1773172800@wienzimmer.fsw.at
SUMMARY:Bauchtanzgruppe
DESCRIPTION:Im kleinen Seminarraum (1. Stock)
URL:https://wienzimmer.fsw.at/event/bauchtanzgruppe-5/2026-03-10/
END:VEVENT
END:VCALENDAR