BEGIN:VCALENDAR
VERSION:2.0
PRODID:-//Wien Zimmer - ECPv6.15.17.1//NONSGML v1.0//EN
CALSCALE:GREGORIAN
METHOD:PUBLISH
X-ORIGINAL-URL:https://wienzimmer.fsw.at
X-WR-CALDESC:Veranstaltungen für Wien Zimmer
REFRESH-INTERVAL;VALUE=DURATION:PT1H
X-Robots-Tag:noindex
X-PUBLISHED-TTL:PT1H
BEGIN:VTIMEZONE
TZID:Europe/Vienna
BEGIN:DAYLIGHT
TZOFFSETFROM:+0100
TZOFFSETTO:+0200
TZNAME:CEST
DTSTART:20250330T010000
END:DAYLIGHT
BEGIN:STANDARD
TZOFFSETFROM:+0200
TZOFFSETTO:+0100
TZNAME:CET
DTSTART:20251026T010000
END:STANDARD
BEGIN:DAYLIGHT
TZOFFSETFROM:+0100
TZOFFSETTO:+0200
TZNAME:CEST
DTSTART:20260329T010000
END:DAYLIGHT
BEGIN:STANDARD
TZOFFSETFROM:+0200
TZOFFSETTO:+0100
TZNAME:CET
DTSTART:20261025T010000
END:STANDARD
BEGIN:DAYLIGHT
TZOFFSETFROM:+0100
TZOFFSETTO:+0200
TZNAME:CEST
DTSTART:20270328T010000
END:DAYLIGHT
BEGIN:STANDARD
TZOFFSETFROM:+0200
TZOFFSETTO:+0100
TZNAME:CET
DTSTART:20271031T010000
END:STANDARD
END:VTIMEZONE
BEGIN:VEVENT
DTSTART;TZID=Europe/Vienna:20260304T091500
DTEND;TZID=Europe/Vienna:20260304T101500
DTSTAMP:20260419T224649
CREATED:20260119T091751Z
LAST-MODIFIED:20260303T090359Z
UID:10007400-1772615700-1772619300@wienzimmer.fsw.at
SUMMARY:Yoga mit Sophie – für Senior:innen
DESCRIPTION:Im kleinen Seminarraum (1. Stock)
URL:https://wienzimmer.fsw.at/event/yoga-mit-sophie-fuer-seniorinnen-7/2026-03-04/
END:VEVENT
BEGIN:VEVENT
DTSTART;TZID=Europe/Vienna:20260304T091500
DTEND;TZID=Europe/Vienna:20260304T101500
DTSTAMP:20260419T224649
CREATED:20260302T101601Z
LAST-MODIFIED:20260302T101908Z
UID:10007358-1772615700-1772619300@wienzimmer.fsw.at
SUMMARY:Yoga mit Sophie
DESCRIPTION:Yoga mit Sophie – für Senior:innen\nim kleinen Seminarraum (1. Stock) \n 
URL:https://wienzimmer.fsw.at/event/yoga-mit-sophie-2/
END:VEVENT
BEGIN:VEVENT
DTSTART;TZID=Europe/Vienna:20260304T100000
DTEND;TZID=Europe/Vienna:20260304T120000
DTSTAMP:20260419T224649
CREATED:20260119T091903Z
LAST-MODIFIED:20260304T082433Z
UID:10007404-1772618400-1772625600@wienzimmer.fsw.at
SUMMARY:Offene Aquarell-Malrunde (Senior:innen) – selbstorganisiert
DESCRIPTION:Im Festsaal
URL:https://wienzimmer.fsw.at/event/offene-aquarell-malrunde-seniorinnen-selbstorganisiert-2/2026-03-04/
ATTACH;FMTTYPE=image/png:https://wienzimmer.fsw.at/wp-content/uploads/2023/11/Malen.png
END:VEVENT
BEGIN:VEVENT
DTSTART;TZID=Europe/Vienna:20260304T100000
DTEND;TZID=Europe/Vienna:20260304T120000
DTSTAMP:20260419T224649
CREATED:20260302T102015Z
LAST-MODIFIED:20260302T102325Z
UID:10007359-1772618400-1772625600@wienzimmer.fsw.at
SUMMARY:offene Aquarell-Malrunde (Senior:innen)
DESCRIPTION:offene Aquarell-Malrunde (Senior:innen) – selbstorganisiert\nim Festsaal
URL:https://wienzimmer.fsw.at/event/offene-aquarell-malrunde-seniorinnen/
END:VEVENT
BEGIN:VEVENT
DTSTART;TZID=Europe/Vienna:20260304T100000
DTEND;TZID=Europe/Vienna:20260304T120000
DTSTAMP:20260419T224649
CREATED:20260302T102649Z
LAST-MODIFIED:20260302T102649Z
UID:10007360-1772618400-1772625600@wienzimmer.fsw.at
SUMMARY:offene Aquarell-Malrunde (Senior:innen)
DESCRIPTION:offene Aquarell-Malrunde (Senior:innen) – selbstorganisiert\nim Festsaal
URL:https://wienzimmer.fsw.at/event/offene-aquarell-malrunde-seniorinnen-2/
END:VEVENT
BEGIN:VEVENT
DTSTART;TZID=Europe/Vienna:20260304T104000
DTEND;TZID=Europe/Vienna:20260304T114500
DTSTAMP:20260419T224649
CREATED:20260119T092022Z
LAST-MODIFIED:20260304T082703Z
UID:10007371-1772620800-1772624700@wienzimmer.fsw.at
SUMMARY:Yoga mit Sophie – Yoga für Anfänger:innen
DESCRIPTION:Im kleinen Seminarraum (1. Stock)
URL:https://wienzimmer.fsw.at/event/yoga-mit-sophie-yoga-fuer-anfaengerinnen-5/2026-03-04/
END:VEVENT
BEGIN:VEVENT
DTSTART;TZID=Europe/Vienna:20260304T130000
DTEND;TZID=Europe/Vienna:20260304T134500
DTSTAMP:20260419T224649
CREATED:20260119T092135Z
LAST-MODIFIED:20260304T083112Z
UID:10007408-1772629200-1772631900@wienzimmer.fsw.at
SUMMARY:Leseratten Club - gemeinsames interaktives Vorlesen für Kinder (auf Deutsch)
DESCRIPTION:Im kleinen Seminarraum (1.Stock)
URL:https://wienzimmer.fsw.at/event/leseratten-club-gemeinsames-interaktives-vorlesen-fuer-kinder-auf-deutsch/2026-03-04/
CATEGORIES:Kinder und Jugendliche
ATTACH;FMTTYPE=image/png:https://wienzimmer.fsw.at/wp-content/uploads/2024/10/WienZimmer_Veranstaltungskalender-Anime.png
END:VEVENT
BEGIN:VEVENT
DTSTART;TZID=Europe/Vienna:20260304T130000
DTEND;TZID=Europe/Vienna:20260304T134500
DTSTAMP:20260419T224649
CREATED:20260302T102741Z
LAST-MODIFIED:20260302T102927Z
UID:10007361-1772629200-1772631900@wienzimmer.fsw.at
SUMMARY:Leseratten Club
DESCRIPTION:Leseratten Club – gemeinsames interaktives Vorlesen für Kinder (auf Deutsch)\nim kleinen Seminarraum (1.Stock) \n 
URL:https://wienzimmer.fsw.at/event/leseratten-club-13/
END:VEVENT
BEGIN:VEVENT
DTSTART;TZID=Europe/Vienna:20260304T140000
DTEND;TZID=Europe/Vienna:20260304T140000
DTSTAMP:20260419T224649
CREATED:20260302T103910Z
LAST-MODIFIED:20260302T104030Z
UID:10007362-1772632800-1772632800@wienzimmer.fsw.at
SUMMARY:Kinderfreunde Wien
DESCRIPTION:Kinderfreunde Wien – offene Kinder- & Jugendarbeit\nim WienZimmer (diverse Räume)
URL:https://wienzimmer.fsw.at/event/kinderfreunde-wien-2/
END:VEVENT
BEGIN:VEVENT
DTSTART;TZID=Europe/Vienna:20260304T140000
DTEND;TZID=Europe/Vienna:20260304T180000
DTSTAMP:20260419T224649
CREATED:20260119T092312Z
LAST-MODIFIED:20260304T083638Z
UID:10007412-1772632800-1772647200@wienzimmer.fsw.at
SUMMARY:Kinderfreunde Wien – offene Kinder- & Jugendarbeit
DESCRIPTION:Im WienZimmer (diverse Räume)
URL:https://wienzimmer.fsw.at/event/kinderfreunde-wien-offene-kinder-jugendarbeit-18/2026-03-04/
CATEGORIES:Kinder und Jugendliche
END:VEVENT
BEGIN:VEVENT
DTSTART;TZID=Europe/Vienna:20260304T150000
DTEND;TZID=Europe/Vienna:20260304T160000
DTSTAMP:20260419T224649
CREATED:20251126T161335Z
LAST-MODIFIED:20260304T112841Z
UID:10007431-1772636400-1772640000@wienzimmer.fsw.at
SUMMARY:Hobby Lobby – Hacker School (Mittelschule)
DESCRIPTION:Im kleinen Seminarraum im 1. Stock
URL:https://wienzimmer.fsw.at/event/hobby-lobby-toepfern-fuer-volkschuelerinnen-2/2026-03-04/
END:VEVENT
BEGIN:VEVENT
DTSTART;TZID=Europe/Vienna:20260304T150000
DTEND;TZID=Europe/Vienna:20260304T160000
DTSTAMP:20260419T224649
CREATED:20260302T104203Z
LAST-MODIFIED:20260304T113529Z
UID:10007435-1772636400-1772640000@wienzimmer.fsw.at
SUMMARY:HobbyLobby – Malen & Zeichnen
DESCRIPTION:HobbyLobby – Malen & Zeichnen \nIm Souterrain
URL:https://wienzimmer.fsw.at/event/hobbylobby-malen-zeichnen-2/2026-03-04/
END:VEVENT
BEGIN:VEVENT
DTSTART;TZID=Europe/Vienna:20260304T160000
DTEND;TZID=Europe/Vienna:20260304T170000
DTSTAMP:20260419T224649
CREATED:20260305T080323Z
LAST-MODIFIED:20260305T094747Z
UID:10007439-1772640000-1772643600@wienzimmer.fsw.at
SUMMARY:HobbyLobby – Nachhilfe
DESCRIPTION:Im Souterrain
URL:https://wienzimmer.fsw.at/event/hobbylobby-nachhilfe-2/2026-03-04/
END:VEVENT
BEGIN:VEVENT
DTSTART;TZID=Europe/Vienna:20260304T170000
DTEND;TZID=Europe/Vienna:20260304T180000
DTSTAMP:20260419T224649
CREATED:20260302T104435Z
LAST-MODIFIED:20260305T093753Z
UID:10007441-1772643600-1772647200@wienzimmer.fsw.at
SUMMARY:HobbyLobby – Anime & Manga
DESCRIPTION:HobbyLobby – Anime & Manga \nIm Souterrain
URL:https://wienzimmer.fsw.at/event/hobbylobby-anime-manga/2026-03-04/
LOCATION:
END:VEVENT
END:VCALENDAR