BEGIN:VCALENDAR
VERSION:2.0
PRODID:-//Wien Zimmer - ECPv6.15.17.1//NONSGML v1.0//EN
CALSCALE:GREGORIAN
METHOD:PUBLISH
X-ORIGINAL-URL:https://wienzimmer.fsw.at
X-WR-CALDESC:Veranstaltungen für Wien Zimmer
REFRESH-INTERVAL;VALUE=DURATION:PT1H
X-Robots-Tag:noindex
X-PUBLISHED-TTL:PT1H
BEGIN:VTIMEZONE
TZID:Europe/Vienna
BEGIN:DAYLIGHT
TZOFFSETFROM:+0100
TZOFFSETTO:+0200
TZNAME:CEST
DTSTART:20250330T010000
END:DAYLIGHT
BEGIN:STANDARD
TZOFFSETFROM:+0200
TZOFFSETTO:+0100
TZNAME:CET
DTSTART:20251026T010000
END:STANDARD
BEGIN:DAYLIGHT
TZOFFSETFROM:+0100
TZOFFSETTO:+0200
TZNAME:CEST
DTSTART:20260329T010000
END:DAYLIGHT
BEGIN:STANDARD
TZOFFSETFROM:+0200
TZOFFSETTO:+0100
TZNAME:CET
DTSTART:20261025T010000
END:STANDARD
BEGIN:DAYLIGHT
TZOFFSETFROM:+0100
TZOFFSETTO:+0200
TZNAME:CEST
DTSTART:20270328T010000
END:DAYLIGHT
BEGIN:STANDARD
TZOFFSETFROM:+0200
TZOFFSETTO:+0100
TZNAME:CET
DTSTART:20271031T010000
END:STANDARD
END:VTIMEZONE
BEGIN:VEVENT
DTSTART;TZID=Europe/Vienna:20260213T083000
DTEND;TZID=Europe/Vienna:20260213T113000
DTSTAMP:20260419T230835
CREATED:20260119T091038Z
LAST-MODIFIED:20260119T091038Z
UID:10007260-1770971400-1770982200@wienzimmer.fsw.at
SUMMARY:Deutschkurs für Frauen* - mit bit social
DESCRIPTION:Souterrain (im Keller)
URL:https://wienzimmer.fsw.at/event/deutschkurs-fuer-frauen-mit-bit-social-2/2026-02-13/
END:VEVENT
BEGIN:VEVENT
DTSTART;TZID=Europe/Vienna:20260213T160000
DTEND;TZID=Europe/Vienna:20260213T203000
DTSTAMP:20260419T230835
CREATED:20260119T092852Z
LAST-MODIFIED:20260119T092852Z
UID:10007309-1770998400-1771014600@wienzimmer.fsw.at
SUMMARY:Lindy Hop Kurs - mit der IG Hop
DESCRIPTION:Im Festsaal
URL:https://wienzimmer.fsw.at/event/lindy-hop-kurs-mit-der-ig-hop/2026-02-13/
ATTACH;FMTTYPE=image/png:https://wienzimmer.fsw.at/wp-content/uploads/2023/11/Tanzen.png
END:VEVENT
END:VCALENDAR