BEGIN:VCALENDAR
VERSION:2.0
PRODID:-//Wien Zimmer - ECPv6.15.17.1//NONSGML v1.0//EN
CALSCALE:GREGORIAN
METHOD:PUBLISH
X-WR-CALNAME:Wien Zimmer
X-ORIGINAL-URL:https://wienzimmer.fsw.at
X-WR-CALDESC:Veranstaltungen für Wien Zimmer
REFRESH-INTERVAL;VALUE=DURATION:PT1H
X-Robots-Tag:noindex
X-PUBLISHED-TTL:PT1H
BEGIN:VTIMEZONE
TZID:Europe/Vienna
BEGIN:DAYLIGHT
TZOFFSETFROM:+0100
TZOFFSETTO:+0200
TZNAME:CEST
DTSTART:20250330T010000
END:DAYLIGHT
BEGIN:STANDARD
TZOFFSETFROM:+0200
TZOFFSETTO:+0100
TZNAME:CET
DTSTART:20251026T010000
END:STANDARD
BEGIN:DAYLIGHT
TZOFFSETFROM:+0100
TZOFFSETTO:+0200
TZNAME:CEST
DTSTART:20260329T010000
END:DAYLIGHT
BEGIN:STANDARD
TZOFFSETFROM:+0200
TZOFFSETTO:+0100
TZNAME:CET
DTSTART:20261025T010000
END:STANDARD
BEGIN:DAYLIGHT
TZOFFSETFROM:+0100
TZOFFSETTO:+0200
TZNAME:CEST
DTSTART:20270328T010000
END:DAYLIGHT
BEGIN:STANDARD
TZOFFSETFROM:+0200
TZOFFSETTO:+0100
TZNAME:CET
DTSTART:20271031T010000
END:STANDARD
END:VTIMEZONE
BEGIN:VEVENT
DTSTART;TZID=Europe/Vienna:20260114T100000
DTEND;TZID=Europe/Vienna:20260114T120000
DTSTAMP:20260420T011151
CREATED:20251217T141804Z
LAST-MODIFIED:20251217T150728Z
UID:10007209-1768384800-1768392000@wienzimmer.fsw.at
SUMMARY:Offene Aquarell-Malrunde (Senior:innen) – selbstorganisiert
DESCRIPTION:Im Festsaal
URL:https://wienzimmer.fsw.at/event/offene-aquarell-malrunde-seniorinnen-selbstorganisiert/2026-01-14/
ATTACH;FMTTYPE=image/png:https://wienzimmer.fsw.at/wp-content/uploads/2023/11/Malen.png
END:VEVENT
BEGIN:VEVENT
DTSTART;TZID=Europe/Vienna:20260114T104000
DTEND;TZID=Europe/Vienna:20260114T114500
DTSTAMP:20260420T011151
CREATED:20251217T141634Z
LAST-MODIFIED:20251217T141634Z
UID:10007205-1768387200-1768391100@wienzimmer.fsw.at
SUMMARY:Yoga mit Sophie – Yoga für Anfänger:innen
DESCRIPTION:Im kleinen Seminarraum (1. Stock).
URL:https://wienzimmer.fsw.at/event/yoga-mit-sophie-yoga-fuer-anfaengerinnen-4/2026-01-14/
END:VEVENT
BEGIN:VEVENT
DTSTART;TZID=Europe/Vienna:20260114T130000
DTEND;TZID=Europe/Vienna:20260114T134500
DTSTAMP:20260420T011151
CREATED:20251217T142205Z
LAST-MODIFIED:20251217T151451Z
UID:10007215-1768395600-1768398300@wienzimmer.fsw.at
SUMMARY:Leseratten Club
DESCRIPTION:Gemeinsames interaktives Vorlesen für Kinder (auf Deutsch und Arabisch).\nIm kleinen Seminarraum (1.Stock).
URL:https://wienzimmer.fsw.at/event/leseratten-club-11/
ATTACH;FMTTYPE=image/png:https://wienzimmer.fsw.at/wp-content/uploads/2024/10/WienZimmer_Veranstaltungskalender-Anime.png
END:VEVENT
BEGIN:VEVENT
DTSTART;TZID=Europe/Vienna:20260114T140000
DTEND;TZID=Europe/Vienna:20260114T180000
DTSTAMP:20260420T011151
CREATED:20251217T142814Z
LAST-MODIFIED:20260128T142053Z
UID:10007345-1768399200-1768413600@wienzimmer.fsw.at
SUMMARY:Kinderfreunde Wien – offene Kinder- & Jugendarbeit
DESCRIPTION:Im WienZimmer (diverse Räume).
URL:https://wienzimmer.fsw.at/event/kinderfreunde-wien-offene-kinder-jugendarbeit-17/2026-01-14/
CATEGORIES:Kinder und Jugendliche
END:VEVENT
BEGIN:VEVENT
DTSTART;TZID=Europe/Vienna:20260114T170000
DTEND;TZID=Europe/Vienna:20260114T200000
DTSTAMP:20260420T011151
CREATED:20251217T150322Z
LAST-MODIFIED:20251217T151402Z
UID:10007253-1768410000-1768420800@wienzimmer.fsw.at
SUMMARY:Schnupperstunde LineDance
DESCRIPTION:Im kleinen Seminarraum.
URL:https://wienzimmer.fsw.at/event/schnupperstunde-linedance/
ATTACH;FMTTYPE=image/png:https://wienzimmer.fsw.at/wp-content/uploads/2023/11/Tanzen.png
END:VEVENT
BEGIN:VEVENT
DTSTART;TZID=Europe/Vienna:20260114T180000
DTEND;TZID=Europe/Vienna:20260114T200000
DTSTAMP:20260420T011151
CREATED:20251217T150358Z
LAST-MODIFIED:20251217T151343Z
UID:10007254-1768413600-1768420800@wienzimmer.fsw.at
SUMMARY:LineDance Gruppe
DESCRIPTION:Im kleinen Seminarraum (1. Stock).
URL:https://wienzimmer.fsw.at/event/linedance-gruppe-4/
ATTACH;FMTTYPE=image/png:https://wienzimmer.fsw.at/wp-content/uploads/2023/11/Tanzen.png
END:VEVENT
END:VCALENDAR