BEGIN:VCALENDAR
VERSION:2.0
PRODID:-//Wien Zimmer - ECPv6.15.17.1//NONSGML v1.0//EN
CALSCALE:GREGORIAN
METHOD:PUBLISH
X-WR-CALNAME:Wien Zimmer
X-ORIGINAL-URL:https://wienzimmer.fsw.at
X-WR-CALDESC:Veranstaltungen für Wien Zimmer
REFRESH-INTERVAL;VALUE=DURATION:PT1H
X-Robots-Tag:noindex
X-PUBLISHED-TTL:PT1H
BEGIN:VTIMEZONE
TZID:Europe/Vienna
BEGIN:DAYLIGHT
TZOFFSETFROM:+0100
TZOFFSETTO:+0200
TZNAME:CEST
DTSTART:20240331T010000
END:DAYLIGHT
BEGIN:STANDARD
TZOFFSETFROM:+0200
TZOFFSETTO:+0100
TZNAME:CET
DTSTART:20241027T010000
END:STANDARD
BEGIN:DAYLIGHT
TZOFFSETFROM:+0100
TZOFFSETTO:+0200
TZNAME:CEST
DTSTART:20250330T010000
END:DAYLIGHT
BEGIN:STANDARD
TZOFFSETFROM:+0200
TZOFFSETTO:+0100
TZNAME:CET
DTSTART:20251026T010000
END:STANDARD
BEGIN:DAYLIGHT
TZOFFSETFROM:+0100
TZOFFSETTO:+0200
TZNAME:CEST
DTSTART:20260329T010000
END:DAYLIGHT
BEGIN:STANDARD
TZOFFSETFROM:+0200
TZOFFSETTO:+0100
TZNAME:CET
DTSTART:20261025T010000
END:STANDARD
END:VTIMEZONE
BEGIN:VEVENT
DTSTART;TZID=Europe/Vienna:20251218T100000
DTEND;TZID=Europe/Vienna:20251218T110000
DTSTAMP:20260420T044338
CREATED:20251126T161112Z
LAST-MODIFIED:20251126T161112Z
UID:10007193-1766052000-1766055600@wienzimmer.fsw.at
SUMMARY:Krafttraining mit Bernd– für ältere Menschen und alle\, die mitmachen wollen
DESCRIPTION:im Souterrain
URL:https://wienzimmer.fsw.at/event/krafttraining-mit-bernd-fuer-aeltere-menschen-und-alle-die-mitmachen-wollen-4/
END:VEVENT
BEGIN:VEVENT
DTSTART;TZID=Europe/Vienna:20251218T130000
DTEND;TZID=Europe/Vienna:20251218T134500
DTSTAMP:20260420T044338
CREATED:20251126T132107Z
LAST-MODIFIED:20251126T132107Z
UID:10006956-1766062800-1766065500@wienzimmer.fsw.at
SUMMARY:Leseratten Club
DESCRIPTION:gemeinsames interaktives Vorlesen für Kinder (auf Deutsch und Arabisch)\nim kleinen Seminarraum (1.Stock)
URL:https://wienzimmer.fsw.at/event/leseratten-club-7/2025-12-18/
CATEGORIES:Kinder und Jugendliche
END:VEVENT
BEGIN:VEVENT
DTSTART;TZID=Europe/Vienna:20251218T140000
DTEND;TZID=Europe/Vienna:20251218T160000
DTSTAMP:20260420T044338
CREATED:20251126T094331Z
LAST-MODIFIED:20251126T094559Z
UID:10006818-1766066400-1766073600@wienzimmer.fsw.at
SUMMARY:Hausaufgabenbegleitung
DESCRIPTION:mit rettet das Kind Österreich\nim kleinen Seminarraum (1. Stock)
URL:https://wienzimmer.fsw.at/event/hausaufgabenbegleitung-5/2025-12-18/
CATEGORIES:Kinder und Jugendliche
ATTACH;FMTTYPE=image/png:https://wienzimmer.fsw.at/wp-content/uploads/2023/11/Hausaufgaben.png
END:VEVENT
BEGIN:VEVENT
DTSTART;TZID=Europe/Vienna:20251218T140000
DTEND;TZID=Europe/Vienna:20251218T160000
DTSTAMP:20260420T044338
CREATED:20251126T130832Z
LAST-MODIFIED:20251126T130921Z
UID:10006943-1766066400-1766073600@wienzimmer.fsw.at
SUMMARY:Handarbeitsstammtisch – selbstorganisiert aus der Nachbarschaft
DESCRIPTION:im Festsaal
URL:https://wienzimmer.fsw.at/event/handarbeitsstammtisch-selbstorganisiert-aus-der-nachbarschaft-2/2025-12-18/
END:VEVENT
END:VCALENDAR