BEGIN:VCALENDAR
VERSION:2.0
PRODID:-//Wien Zimmer - ECPv6.15.17.1//NONSGML v1.0//EN
CALSCALE:GREGORIAN
METHOD:PUBLISH
X-WR-CALNAME:Wien Zimmer
X-ORIGINAL-URL:https://wienzimmer.fsw.at
X-WR-CALDESC:Veranstaltungen für Wien Zimmer
REFRESH-INTERVAL;VALUE=DURATION:PT1H
X-Robots-Tag:noindex
X-PUBLISHED-TTL:PT1H
BEGIN:VTIMEZONE
TZID:Europe/Vienna
BEGIN:DAYLIGHT
TZOFFSETFROM:+0100
TZOFFSETTO:+0200
TZNAME:CEST
DTSTART:20240331T010000
END:DAYLIGHT
BEGIN:STANDARD
TZOFFSETFROM:+0200
TZOFFSETTO:+0100
TZNAME:CET
DTSTART:20241027T010000
END:STANDARD
BEGIN:DAYLIGHT
TZOFFSETFROM:+0100
TZOFFSETTO:+0200
TZNAME:CEST
DTSTART:20250330T010000
END:DAYLIGHT
BEGIN:STANDARD
TZOFFSETFROM:+0200
TZOFFSETTO:+0100
TZNAME:CET
DTSTART:20251026T010000
END:STANDARD
BEGIN:DAYLIGHT
TZOFFSETFROM:+0100
TZOFFSETTO:+0200
TZNAME:CEST
DTSTART:20260329T010000
END:DAYLIGHT
BEGIN:STANDARD
TZOFFSETFROM:+0200
TZOFFSETTO:+0100
TZNAME:CET
DTSTART:20261025T010000
END:STANDARD
END:VTIMEZONE
BEGIN:VEVENT
DTSTART;TZID=Europe/Vienna:20251216T080000
DTEND;TZID=Europe/Vienna:20251216T100000
DTSTAMP:20260420T044419
CREATED:20251126T121707Z
LAST-MODIFIED:20251126T121707Z
UID:10006823-1765872000-1765879200@wienzimmer.fsw.at
SUMMARY:Elterncafé – Austausch und Beratung für alle Eltern
DESCRIPTION:Babies und Kleinkinder können mitgebracht werden.\nIm Festsaal
URL:https://wienzimmer.fsw.at/event/elterncafe-austausch-und-beratung-fuer-alle-eltern/2025-12-16/
CATEGORIES:Kinder und Jugendliche
END:VEVENT
BEGIN:VEVENT
DTSTART;TZID=Europe/Vienna:20251216T100000
DTEND;TZID=Europe/Vienna:20251216T130000
DTSTAMP:20260420T044419
CREATED:20251126T132345Z
LAST-MODIFIED:20251126T134348Z
UID:10006965-1765879200-1765890000@wienzimmer.fsw.at
SUMMARY:KlimeLabor:  Kekse backen
DESCRIPTION:Gebacken wird biologisch\, regional und möglichst saisonal.\nIn der Küche (Hochparterre)
URL:https://wienzimmer.fsw.at/event/klimelabor-kekse-backen/2025-12-16/
END:VEVENT
BEGIN:VEVENT
DTSTART;TZID=Europe/Vienna:20251216T130000
DTEND;TZID=Europe/Vienna:20251216T134500
DTSTAMP:20260420T044419
CREATED:20251126T132107Z
LAST-MODIFIED:20251126T132107Z
UID:10006954-1765890000-1765892700@wienzimmer.fsw.at
SUMMARY:Leseratten Club
DESCRIPTION:gemeinsames interaktives Vorlesen für Kinder (auf Deutsch und Arabisch)\nim kleinen Seminarraum (1.Stock)
URL:https://wienzimmer.fsw.at/event/leseratten-club-7/2025-12-16/
CATEGORIES:Kinder und Jugendliche
END:VEVENT
BEGIN:VEVENT
DTSTART;TZID=Europe/Vienna:20251216T140000
DTEND;TZID=Europe/Vienna:20251216T160000
DTSTAMP:20260420T044419
CREATED:20251126T094331Z
LAST-MODIFIED:20251126T094559Z
UID:10006817-1765893600-1765900800@wienzimmer.fsw.at
SUMMARY:Hausaufgabenbegleitung
DESCRIPTION:mit rettet das Kind Österreich\nim kleinen Seminarraum (1. Stock)
URL:https://wienzimmer.fsw.at/event/hausaufgabenbegleitung-5/2025-12-16/
CATEGORIES:Kinder und Jugendliche
ATTACH;FMTTYPE=image/png:https://wienzimmer.fsw.at/wp-content/uploads/2023/11/Hausaufgaben.png
END:VEVENT
BEGIN:VEVENT
DTSTART;TZID=Europe/Vienna:20251216T170000
DTEND;TZID=Europe/Vienna:20251216T200000
DTSTAMP:20260420T044419
CREATED:20251204T120139Z
LAST-MODIFIED:20251204T120139Z
UID:10007199-1765904400-1765915200@wienzimmer.fsw.at
SUMMARY:Tanz mit Franz (Weihnachtsedition)
DESCRIPTION:Disko mit unserem DJ Franz Haberl\nim Festsaal
URL:https://wienzimmer.fsw.at/event/tanz-mit-franz-weihnachtsedition/
END:VEVENT
BEGIN:VEVENT
DTSTART;TZID=Europe/Vienna:20251216T180000
DTEND;TZID=Europe/Vienna:20251216T193000
DTSTAMP:20260420T044419
CREATED:20251126T122138Z
LAST-MODIFIED:20251126T122138Z
UID:10006829-1765908000-1765913400@wienzimmer.fsw.at
SUMMARY:Bauchtanzgruppe
DESCRIPTION:im kleinen Seminarraum (1. Stock)
URL:https://wienzimmer.fsw.at/event/bauchtanzgruppe-3/2025-12-16/
END:VEVENT
END:VCALENDAR