BEGIN:VCALENDAR
VERSION:2.0
PRODID:-//Wien Zimmer - ECPv6.15.17.1//NONSGML v1.0//EN
CALSCALE:GREGORIAN
METHOD:PUBLISH
X-ORIGINAL-URL:https://wienzimmer.fsw.at
X-WR-CALDESC:Veranstaltungen für Wien Zimmer
REFRESH-INTERVAL;VALUE=DURATION:PT1H
X-Robots-Tag:noindex
X-PUBLISHED-TTL:PT1H
BEGIN:VTIMEZONE
TZID:Europe/Vienna
BEGIN:DAYLIGHT
TZOFFSETFROM:+0100
TZOFFSETTO:+0200
TZNAME:CEST
DTSTART:20240331T010000
END:DAYLIGHT
BEGIN:STANDARD
TZOFFSETFROM:+0200
TZOFFSETTO:+0100
TZNAME:CET
DTSTART:20241027T010000
END:STANDARD
BEGIN:DAYLIGHT
TZOFFSETFROM:+0100
TZOFFSETTO:+0200
TZNAME:CEST
DTSTART:20250330T010000
END:DAYLIGHT
BEGIN:STANDARD
TZOFFSETFROM:+0200
TZOFFSETTO:+0100
TZNAME:CET
DTSTART:20251026T010000
END:STANDARD
BEGIN:DAYLIGHT
TZOFFSETFROM:+0100
TZOFFSETTO:+0200
TZNAME:CEST
DTSTART:20260329T010000
END:DAYLIGHT
BEGIN:STANDARD
TZOFFSETFROM:+0200
TZOFFSETTO:+0100
TZNAME:CET
DTSTART:20261025T010000
END:STANDARD
END:VTIMEZONE
BEGIN:VEVENT
DTSTART;TZID=Europe/Vienna:20251211T100000
DTEND;TZID=Europe/Vienna:20251211T110000
DTSTAMP:20260420T045606
CREATED:20251126T125221Z
LAST-MODIFIED:20251126T125222Z
UID:10006910-1765447200-1765450800@wienzimmer.fsw.at
SUMMARY:Krafttraining mit Bernd
DESCRIPTION:für ältere Menschen und alle\, die mitmachen wollen. \nIm Souterrain. 
URL:https://wienzimmer.fsw.at/event/krafttraining-mit-bernd-2-2/2025-12-11/
END:VEVENT
BEGIN:VEVENT
DTSTART;TZID=Europe/Vienna:20251211T130000
DTEND;TZID=Europe/Vienna:20251211T134500
DTSTAMP:20260420T045606
CREATED:20251126T132107Z
LAST-MODIFIED:20251126T132107Z
UID:10006953-1765458000-1765460700@wienzimmer.fsw.at
SUMMARY:Leseratten Club
DESCRIPTION:gemeinsames interaktives Vorlesen für Kinder (auf Deutsch und Arabisch)\nim kleinen Seminarraum (1.Stock)
URL:https://wienzimmer.fsw.at/event/leseratten-club-7/2025-12-11/
CATEGORIES:Kinder und Jugendliche
END:VEVENT
BEGIN:VEVENT
DTSTART;TZID=Europe/Vienna:20251211T133000
DTEND;TZID=Europe/Vienna:20251211T200000
DTSTAMP:20260420T045606
CREATED:20251126T133935Z
LAST-MODIFIED:20251126T133935Z
UID:10006851-1765459800-1765483200@wienzimmer.fsw.at
SUMMARY:Kinderfreunde Wien – offene Kinder- & Jugendarbeit
DESCRIPTION:bei Schönwetter draußen im Karl-Seitz-Hof / bei Schlechtwetter im WienZimmer
URL:https://wienzimmer.fsw.at/event/kinderfreunde-wien-offene-kinder-jugendarbeit-16-3/
CATEGORIES:Kinder und Jugendliche
END:VEVENT
BEGIN:VEVENT
DTSTART;TZID=Europe/Vienna:20251211T140000
DTEND;TZID=Europe/Vienna:20251211T160000
DTSTAMP:20260420T045606
CREATED:20251126T094331Z
LAST-MODIFIED:20251126T094559Z
UID:10006815-1765461600-1765468800@wienzimmer.fsw.at
SUMMARY:Hausaufgabenbegleitung
DESCRIPTION:mit rettet das Kind Österreich\nim kleinen Seminarraum (1. Stock)
URL:https://wienzimmer.fsw.at/event/hausaufgabenbegleitung-5/2025-12-11/
CATEGORIES:Kinder und Jugendliche
ATTACH;FMTTYPE=image/png:https://wienzimmer.fsw.at/wp-content/uploads/2023/11/Hausaufgaben.png
END:VEVENT
BEGIN:VEVENT
DTSTART;TZID=Europe/Vienna:20251211T140000
DTEND;TZID=Europe/Vienna:20251211T160000
DTSTAMP:20260420T045606
CREATED:20251126T130832Z
LAST-MODIFIED:20251126T130921Z
UID:10006942-1765461600-1765468800@wienzimmer.fsw.at
SUMMARY:Handarbeitsstammtisch – selbstorganisiert aus der Nachbarschaft
DESCRIPTION:im Festsaal
URL:https://wienzimmer.fsw.at/event/handarbeitsstammtisch-selbstorganisiert-aus-der-nachbarschaft-2/2025-12-11/
END:VEVENT
BEGIN:VEVENT
DTSTART;TZID=Europe/Vienna:20251211T140000
DTEND;TZID=Europe/Vienna:20251211T170000
DTSTAMP:20260420T045606
CREATED:20251204T115903Z
LAST-MODIFIED:20251204T115903Z
UID:10007197-1765461600-1765472400@wienzimmer.fsw.at
SUMMARY:KlimaLabor: Tierspielzeug basteln
DESCRIPTION:Ökologisches & soziales Klima:\ngemeinsam mit dem Projekt „A Gspia für’s Tier und den Kinderfreunden Wien“ wird bei diesem Termin Tierspielzeug\n(Schwerpunkt Hunde und Katzen) aus Recyclingmaterial gebastelt\nim Festsaal (Hochparterre)
URL:https://wienzimmer.fsw.at/event/klimalabor-tierspielzeug-basteln/
CATEGORIES:Kinder und Jugendliche
END:VEVENT
BEGIN:VEVENT
DTSTART;TZID=Europe/Vienna:20251211T153000
DTEND;TZID=Europe/Vienna:20251211T163000
DTSTAMP:20260420T045606
CREATED:20251126T154831Z
LAST-MODIFIED:20251126T154831Z
UID:10007049-1765467000-1765470600@wienzimmer.fsw.at
SUMMARY:Hobby Lobby: Schauspielen
DESCRIPTION:im Souterrain
URL:https://wienzimmer.fsw.at/event/hobby-lobby-schauspielen-2/2025-12-11/
CATEGORIES:Kinder und Jugendliche
END:VEVENT
BEGIN:VEVENT
DTSTART;TZID=Europe/Vienna:20251211T160000
DTEND;TZID=Europe/Vienna:20251211T170000
DTSTAMP:20260420T045606
CREATED:20251126T155015Z
LAST-MODIFIED:20251126T155015Z
UID:10007050-1765468800-1765472400@wienzimmer.fsw.at
SUMMARY:Hobby Lobby: Malen
DESCRIPTION:im kleinen Seminarraum (1. Stock)
URL:https://wienzimmer.fsw.at/event/hobby-lobby-malen-2/
CATEGORIES:Kinder und Jugendliche
END:VEVENT
BEGIN:VEVENT
DTSTART;TZID=Europe/Vienna:20251211T160000
DTEND;TZID=Europe/Vienna:20251211T173000
DTSTAMP:20260420T045606
CREATED:20251126T131047Z
LAST-MODIFIED:20251126T131114Z
UID:10006947-1765468800-1765474200@wienzimmer.fsw.at
SUMMARY:WienZimmer-Chor mit Sophie
DESCRIPTION:Chorprojekt für alle\, die gerne singen – Vorkenntnisse nicht notwendig! \nIn der Küche \nAnmeldung unter: sophie.gnad@fsw.at
URL:https://wienzimmer.fsw.at/event/wienzimmer-chor-mit-sophie-2/2025-12-11/
ATTACH;FMTTYPE=image/png:https://wienzimmer.fsw.at/wp-content/uploads/2024/04/musik_singen.png
END:VEVENT
BEGIN:VEVENT
DTSTART;TZID=Europe/Vienna:20251211T173000
DTEND;TZID=Europe/Vienna:20251211T183000
DTSTAMP:20260420T045606
CREATED:20251126T155134Z
LAST-MODIFIED:20251126T155134Z
UID:10007069-1765474200-1765477800@wienzimmer.fsw.at
SUMMARY:Hobby Lobby: Kampfsport
DESCRIPTION:im Soutterain
URL:https://wienzimmer.fsw.at/event/hobby-lobby-kampfsport-3/2025-12-11/
ATTACH;FMTTYPE=image/png:https://wienzimmer.fsw.at/wp-content/uploads/2024/04/kampfsport.png
END:VEVENT
BEGIN:VEVENT
DTSTART;TZID=Europe/Vienna:20251211T173000
DTEND;TZID=Europe/Vienna:20251211T183000
DTSTAMP:20260420T045606
CREATED:20251126T155234Z
LAST-MODIFIED:20251126T155234Z
UID:10007080-1765474200-1765477800@wienzimmer.fsw.at
SUMMARY:Hobby Lobby: Töpfern
DESCRIPTION:im kleinen Seminarraum (1. Stock)
URL:https://wienzimmer.fsw.at/event/hobby-lobby-toepfern-2/2025-12-11/
ATTACH;FMTTYPE=image/png:https://wienzimmer.fsw.at/wp-content/uploads/2023/11/Toepfern.png
END:VEVENT
END:VCALENDAR