BEGIN:VCALENDAR
VERSION:2.0
PRODID:-//Wien Zimmer - ECPv6.15.17.1//NONSGML v1.0//EN
CALSCALE:GREGORIAN
METHOD:PUBLISH
X-WR-CALNAME:Wien Zimmer
X-ORIGINAL-URL:https://wienzimmer.fsw.at
X-WR-CALDESC:Veranstaltungen für Wien Zimmer
REFRESH-INTERVAL;VALUE=DURATION:PT1H
X-Robots-Tag:noindex
X-PUBLISHED-TTL:PT1H
BEGIN:VTIMEZONE
TZID:Europe/Vienna
BEGIN:DAYLIGHT
TZOFFSETFROM:+0100
TZOFFSETTO:+0200
TZNAME:CEST
DTSTART:20240331T010000
END:DAYLIGHT
BEGIN:STANDARD
TZOFFSETFROM:+0200
TZOFFSETTO:+0100
TZNAME:CET
DTSTART:20241027T010000
END:STANDARD
BEGIN:DAYLIGHT
TZOFFSETFROM:+0100
TZOFFSETTO:+0200
TZNAME:CEST
DTSTART:20250330T010000
END:DAYLIGHT
BEGIN:STANDARD
TZOFFSETFROM:+0200
TZOFFSETTO:+0100
TZNAME:CET
DTSTART:20251026T010000
END:STANDARD
BEGIN:DAYLIGHT
TZOFFSETFROM:+0100
TZOFFSETTO:+0200
TZNAME:CEST
DTSTART:20260329T010000
END:DAYLIGHT
BEGIN:STANDARD
TZOFFSETFROM:+0200
TZOFFSETTO:+0100
TZNAME:CET
DTSTART:20261025T010000
END:STANDARD
END:VTIMEZONE
BEGIN:VEVENT
DTSTART;TZID=Europe/Vienna:20251210T091500
DTEND;TZID=Europe/Vienna:20251210T101500
DTSTAMP:20260420T030939
CREATED:20251126T122326Z
LAST-MODIFIED:20251126T122326Z
UID:10006831-1765358100-1765361700@wienzimmer.fsw.at
SUMMARY:Yoga mit Sophie – für Senior:innen
DESCRIPTION:im kleinen Seminarraum (1. Stock)
URL:https://wienzimmer.fsw.at/event/yoga-mit-sophie-fuer-seniorinnen-4/2025-12-10/
END:VEVENT
BEGIN:VEVENT
DTSTART;TZID=Europe/Vienna:20251210T100000
DTEND;TZID=Europe/Vienna:20251210T120000
DTSTAMP:20260420T030939
CREATED:20251126T133140Z
LAST-MODIFIED:20251126T133140Z
UID:10006963-1765360800-1765368000@wienzimmer.fsw.at
SUMMARY:offene Aquarell-Malrunde – selbstorganisiert
DESCRIPTION:Für Senior:innen. \nIm Festsaal
URL:https://wienzimmer.fsw.at/event/offene-aquarell-malrunde-selbstorganisiert-5/2025-12-10/
END:VEVENT
BEGIN:VEVENT
DTSTART;TZID=Europe/Vienna:20251210T104000
DTEND;TZID=Europe/Vienna:20251210T114500
DTSTAMP:20260420T030939
CREATED:20251126T122401Z
LAST-MODIFIED:20251126T122401Z
UID:10006837-1765363200-1765367100@wienzimmer.fsw.at
SUMMARY:Yoga mit Sophie – für Senior:innen
DESCRIPTION:im kleinen Seminarraum (1. Stock)
URL:https://wienzimmer.fsw.at/event/yoga-mit-sophie-fuer-seniorinnen-5/2025-12-10/
END:VEVENT
BEGIN:VEVENT
DTSTART;TZID=Europe/Vienna:20251210T130000
DTEND;TZID=Europe/Vienna:20251210T134500
DTSTAMP:20260420T030939
CREATED:20251126T132107Z
LAST-MODIFIED:20251126T132107Z
UID:10006952-1765371600-1765374300@wienzimmer.fsw.at
SUMMARY:Leseratten Club
DESCRIPTION:gemeinsames interaktives Vorlesen für Kinder (auf Deutsch und Arabisch)\nim kleinen Seminarraum (1.Stock)
URL:https://wienzimmer.fsw.at/event/leseratten-club-7/2025-12-10/
CATEGORIES:Kinder und Jugendliche
END:VEVENT
BEGIN:VEVENT
DTSTART;TZID=Europe/Vienna:20251210T133000
DTEND;TZID=Europe/Vienna:20251210T190000
DTSTAMP:20260420T030939
CREATED:20251126T122930Z
LAST-MODIFIED:20251126T133342Z
UID:10006850-1765373400-1765393200@wienzimmer.fsw.at
SUMMARY:Kinderfreunde Wien – offene Kinder- & Jugendarbeit
DESCRIPTION:bei Schönwetter draußen im Karl-Seitz-Hof / bei Schlechtwetter im WienZimmer
URL:https://wienzimmer.fsw.at/event/kinderfreunde-wien-offene-kinder-jugendarbeit-16/2025-12-10/
CATEGORIES:Kinder und Jugendliche
END:VEVENT
BEGIN:VEVENT
DTSTART;TZID=Europe/Vienna:20251210T160000
DTEND;TZID=Europe/Vienna:20251210T170000
DTSTAMP:20260420T030939
CREATED:20251126T154548Z
LAST-MODIFIED:20251126T154548Z
UID:10007027-1765382400-1765386000@wienzimmer.fsw.at
SUMMARY:Hobby Lobby: Nachhilfe
DESCRIPTION:im kleinen Seminarraum
URL:https://wienzimmer.fsw.at/event/hobby-lobby-nachhilfe-3/2025-12-10/
CATEGORIES:Kinder und Jugendliche
END:VEVENT
BEGIN:VEVENT
DTSTART;TZID=Europe/Vienna:20251210T160000
DTEND;TZID=Europe/Vienna:20251210T170000
DTSTAMP:20260420T030939
CREATED:20251126T160852Z
LAST-MODIFIED:20251126T160852Z
UID:10007086-1765382400-1765386000@wienzimmer.fsw.at
SUMMARY:Hobby Lobby: Kunstwerkstatt
DESCRIPTION:im Souterrain
URL:https://wienzimmer.fsw.at/event/hobby-lobby-kunstwerkstatt-3/2025-12-10/
END:VEVENT
BEGIN:VEVENT
DTSTART;TZID=Europe/Vienna:20251210T160000
DTEND;TZID=Europe/Vienna:20251210T170000
DTSTAMP:20260420T030939
CREATED:20251126T161505Z
LAST-MODIFIED:20251126T161507Z
UID:10007195-1765382400-1765386000@wienzimmer.fsw.at
SUMMARY:Hobby Lobby: Kunstwerkstatt
DESCRIPTION:im Souterrain
URL:https://wienzimmer.fsw.at/event/hobby-lobby-kunstwerkstatt-3-2/2025-12-10/
END:VEVENT
BEGIN:VEVENT
DTSTART;TZID=Europe/Vienna:20251210T170000
DTEND;TZID=Europe/Vienna:20251210T180000
DTSTAMP:20260420T030939
CREATED:20251126T154709Z
LAST-MODIFIED:20251126T154709Z
UID:10007038-1765386000-1765389600@wienzimmer.fsw.at
SUMMARY:Hobby Lobby: Anime & Manga
DESCRIPTION:im Souterrain
URL:https://wienzimmer.fsw.at/event/hobby-lobby-anime-manga-2/2025-12-10/
CATEGORIES:Kinder und Jugendliche
END:VEVENT
BEGIN:VEVENT
DTSTART;TZID=Europe/Vienna:20251210T170000
DTEND;TZID=Europe/Vienna:20251210T190000
DTSTAMP:20260420T030939
CREATED:20251126T132203Z
LAST-MODIFIED:20251126T132203Z
UID:10006957-1765386000-1765393200@wienzimmer.fsw.at
SUMMARY:Gemeinsam statt einsam Dinner
DESCRIPTION:Das WienZimmer lädt zum gemeinsamen Abendessen ein.\nVoranmeldung erforderlich! \nIm Festsaal
URL:https://wienzimmer.fsw.at/event/gemeinsam-statt-einsam-dinner-4/
END:VEVENT
BEGIN:VEVENT
DTSTART;TZID=Europe/Vienna:20251210T180000
DTEND;TZID=Europe/Vienna:20251210T200000
DTSTAMP:20260420T030939
CREATED:20251126T132239Z
LAST-MODIFIED:20251126T132239Z
UID:10006958-1765389600-1765396800@wienzimmer.fsw.at
SUMMARY:Kulturlabor im Gemeindebau: Theater Treffen
DESCRIPTION:Treffen mit allen Fixteilnehmer:innen!\nim kleinen Seminarraum (1. Stock)
URL:https://wienzimmer.fsw.at/event/kulturlabor-im-gemeindebau-theater-treffen/
END:VEVENT
END:VCALENDAR