BEGIN:VCALENDAR
VERSION:2.0
PRODID:-//Wien Zimmer - ECPv6.15.17.1//NONSGML v1.0//EN
CALSCALE:GREGORIAN
METHOD:PUBLISH
X-ORIGINAL-URL:https://wienzimmer.fsw.at
X-WR-CALDESC:Veranstaltungen für Wien Zimmer
REFRESH-INTERVAL;VALUE=DURATION:PT1H
X-Robots-Tag:noindex
X-PUBLISHED-TTL:PT1H
BEGIN:VTIMEZONE
TZID:Europe/Vienna
BEGIN:DAYLIGHT
TZOFFSETFROM:+0100
TZOFFSETTO:+0200
TZNAME:CEST
DTSTART:20240331T010000
END:DAYLIGHT
BEGIN:STANDARD
TZOFFSETFROM:+0200
TZOFFSETTO:+0100
TZNAME:CET
DTSTART:20241027T010000
END:STANDARD
BEGIN:DAYLIGHT
TZOFFSETFROM:+0100
TZOFFSETTO:+0200
TZNAME:CEST
DTSTART:20250330T010000
END:DAYLIGHT
BEGIN:STANDARD
TZOFFSETFROM:+0200
TZOFFSETTO:+0100
TZNAME:CET
DTSTART:20251026T010000
END:STANDARD
BEGIN:DAYLIGHT
TZOFFSETFROM:+0100
TZOFFSETTO:+0200
TZNAME:CEST
DTSTART:20260329T010000
END:DAYLIGHT
BEGIN:STANDARD
TZOFFSETFROM:+0200
TZOFFSETTO:+0100
TZNAME:CET
DTSTART:20261025T010000
END:STANDARD
END:VTIMEZONE
BEGIN:VEVENT
DTSTART;TZID=Europe/Vienna:20251128T100000
DTEND;TZID=Europe/Vienna:20251128T130000
DTSTAMP:20260420T050235
CREATED:20251021T130815Z
LAST-MODIFIED:20251126T093433Z
UID:10006462-1764324000-1764334800@wienzimmer.fsw.at
SUMMARY:kostenlose Deutschkurse für Frauen* - mit bit social
DESCRIPTION:Sprachlerntreffen\, Niveau A1-B2\nim kleinen Seminarraum (1. Stock)\n\nAnmeldung bei: Andrea Pap; Tel. +43 664 6199 731; Mail. andrea.pap@bitsocial.at
URL:https://wienzimmer.fsw.at/event/kostenlose-deutschkurse-fuer-frauen-mit-bit-social/2025-11-28/
END:VEVENT
BEGIN:VEVENT
DTSTART;TZID=Europe/Vienna:20251128T110000
DTEND;TZID=Europe/Vienna:20251128T123000
DTSTAMP:20260420T050235
CREATED:20251030T080928Z
LAST-MODIFIED:20251030T100344Z
UID:10006707-1764327600-1764333000@wienzimmer.fsw.at
SUMMARY:Digitale Sicherheit und Betrugsprävention
DESCRIPTION:Der Kurs wird von einem Gruppeninspektor vom Landeskriminalamt Wien (Abteilung Eigentumsprävention\, Digitale Sicherheit\, Korruptionsprävention) geleitet\, der aus seinem Berufsalltag berichten und wertvolle Tipps für die digitale Sicherheit an Handy und Rechner geben wird.
URL:https://wienzimmer.fsw.at/event/digitale-sicherheit-und-betrugspraevention/
END:VEVENT
BEGIN:VEVENT
DTSTART;TZID=Europe/Vienna:20251128T160000
DTEND;TZID=Europe/Vienna:20251128T170000
DTSTAMP:20260420T050235
CREATED:20250930T130217Z
LAST-MODIFIED:20251022T085108Z
UID:10006691-1764345600-1764349200@wienzimmer.fsw.at
SUMMARY:Hobby Lobby: Singen
DESCRIPTION:im kleinen Seminarraum (1. Stock)
URL:https://wienzimmer.fsw.at/event/hobby-lobby-singen/2025-11-28/
ATTACH;FMTTYPE=image/png:https://wienzimmer.fsw.at/wp-content/uploads/2024/04/musik_singen.png
END:VEVENT
BEGIN:VEVENT
DTSTART;TZID=Europe/Vienna:20251128T160000
DTEND;TZID=Europe/Vienna:20251128T170000
DTSTAMP:20260420T050235
CREATED:20251001T085340Z
LAST-MODIFIED:20251022T085543Z
UID:10006695-1764345600-1764349200@wienzimmer.fsw.at
SUMMARY:Hobby Lobby: Textilwerkstatt für Volksschulkinder
DESCRIPTION:im Souterrain
URL:https://wienzimmer.fsw.at/event/hobby-lobby-textilwerkstatt-fuer-volksschulkinder/2025-11-28/
CATEGORIES:Kinder und Jugendliche
END:VEVENT
BEGIN:VEVENT
DTSTART;TZID=Europe/Vienna:20251128T170000
DTEND;TZID=Europe/Vienna:20251128T180000
DTSTAMP:20260420T050235
CREATED:20250930T130413Z
LAST-MODIFIED:20251022T085622Z
UID:10006699-1764349200-1764352800@wienzimmer.fsw.at
SUMMARY:Hobby Lobby: Experimente
DESCRIPTION:im Souterrain
URL:https://wienzimmer.fsw.at/event/hobby-lobby-experimente-2/2025-11-28/
ATTACH;FMTTYPE=image/png:https://wienzimmer.fsw.at/wp-content/uploads/2024/10/WienZimmer_Veranstaltungskalender-Experimente.png
END:VEVENT
END:VCALENDAR