BEGIN:VCALENDAR
VERSION:2.0
PRODID:-//Wien Zimmer - ECPv6.15.17.1//NONSGML v1.0//EN
CALSCALE:GREGORIAN
METHOD:PUBLISH
X-ORIGINAL-URL:https://wienzimmer.fsw.at
X-WR-CALDESC:Veranstaltungen für Wien Zimmer
REFRESH-INTERVAL;VALUE=DURATION:PT1H
X-Robots-Tag:noindex
X-PUBLISHED-TTL:PT1H
BEGIN:VTIMEZONE
TZID:Europe/Vienna
BEGIN:DAYLIGHT
TZOFFSETFROM:+0100
TZOFFSETTO:+0200
TZNAME:CEST
DTSTART:20240331T010000
END:DAYLIGHT
BEGIN:STANDARD
TZOFFSETFROM:+0200
TZOFFSETTO:+0100
TZNAME:CET
DTSTART:20241027T010000
END:STANDARD
BEGIN:DAYLIGHT
TZOFFSETFROM:+0100
TZOFFSETTO:+0200
TZNAME:CEST
DTSTART:20250330T010000
END:DAYLIGHT
BEGIN:STANDARD
TZOFFSETFROM:+0200
TZOFFSETTO:+0100
TZNAME:CET
DTSTART:20251026T010000
END:STANDARD
BEGIN:DAYLIGHT
TZOFFSETFROM:+0100
TZOFFSETTO:+0200
TZNAME:CEST
DTSTART:20260329T010000
END:DAYLIGHT
BEGIN:STANDARD
TZOFFSETFROM:+0200
TZOFFSETTO:+0100
TZNAME:CET
DTSTART:20261025T010000
END:STANDARD
END:VTIMEZONE
BEGIN:VEVENT
DTSTART;TZID=Europe/Vienna:20251113T100000
DTEND;TZID=Europe/Vienna:20251113T110000
DTSTAMP:20260420T050152
CREATED:20250806T135301Z
LAST-MODIFIED:20251030T102441Z
UID:10006718-1763028000-1763031600@wienzimmer.fsw.at
SUMMARY:Krafttraining mit Bernd – für ältere Menschen und alle die mitmachen wollen
DESCRIPTION:im Souterrain
URL:https://wienzimmer.fsw.at/event/krafttraining-mit-bernd-fuer-aeltere-menschen-und-alle-die-mitmachen-wollen-3/2025-11-13/
ATTACH;FMTTYPE=image/png:https://wienzimmer.fsw.at/wp-content/uploads/2023/11/Fitness.png
END:VEVENT
BEGIN:VEVENT
DTSTART;TZID=Europe/Vienna:20251113T130000
DTEND;TZID=Europe/Vienna:20251113T134500
DTSTAMP:20260420T050152
CREATED:20250821T095551Z
LAST-MODIFIED:20251021T133120Z
UID:10006592-1763038800-1763041500@wienzimmer.fsw.at
SUMMARY:Leseratten Club
DESCRIPTION:gemeinsames interaktives Vorlesen für Kinder\nim kleinen Seminarraum (1. Stock) \n 
URL:https://wienzimmer.fsw.at/event/leseratten-club-5/2025-11-13/
CATEGORIES:Kinder und Jugendliche
END:VEVENT
BEGIN:VEVENT
DTSTART;TZID=Europe/Vienna:20251113T140000
DTEND;TZID=Europe/Vienna:20251113T160000
DTSTAMP:20260420T050152
CREATED:20250326T150703Z
LAST-MODIFIED:20251022T083833Z
UID:10006665-1763042400-1763049600@wienzimmer.fsw.at
SUMMARY:Handarbeitsstammtisch – selbstorganisiert aus der Nachbarschaft
DESCRIPTION:im Festsaal
URL:https://wienzimmer.fsw.at/event/handarbeitsstammtisch-selbstorganisiert-aus-der-nachbarschaft/2025-11-13/
END:VEVENT
BEGIN:VEVENT
DTSTART;TZID=Europe/Vienna:20251113T140000
DTEND;TZID=Europe/Vienna:20251113T160000
DTSTAMP:20260420T050152
CREATED:20251001T085925Z
LAST-MODIFIED:20251021T131127Z
UID:10006572-1763042400-1763049600@wienzimmer.fsw.at
SUMMARY:Hausaufgabenbegleitung
DESCRIPTION:mit rettet das Kind Österreich\nim kleinen Seminarraum (1. Stock)
URL:https://wienzimmer.fsw.at/event/hausaufgabenbegleitung-4/2025-11-13/
CATEGORIES:Kinder und Jugendliche
ATTACH;FMTTYPE=image/png:https://wienzimmer.fsw.at/wp-content/uploads/2023/11/Hausaufgaben.png
END:VEVENT
BEGIN:VEVENT
DTSTART;TZID=Europe/Vienna:20251113T153000
DTEND;TZID=Europe/Vienna:20251113T163000
DTSTAMP:20260420T050152
CREATED:20250930T122406Z
LAST-MODIFIED:20251022T084437Z
UID:10006673-1763047800-1763051400@wienzimmer.fsw.at
SUMMARY:Hobby Lobby: Schauspielen
DESCRIPTION:im Souterrain
URL:https://wienzimmer.fsw.at/event/hobby-lobby-schauspielen/2025-11-13/
CATEGORIES:Kinder und Jugendliche
END:VEVENT
BEGIN:VEVENT
DTSTART;TZID=Europe/Vienna:20251113T160000
DTEND;TZID=Europe/Vienna:20251113T170000
DTSTAMP:20260420T050152
CREATED:20250930T122544Z
LAST-MODIFIED:20251022T084549Z
UID:10006677-1763049600-1763053200@wienzimmer.fsw.at
SUMMARY:Hobby Lobby: Malen
DESCRIPTION:im kleinen Seminarraum (1. Stock)
URL:https://wienzimmer.fsw.at/event/hobby-lobby-malen/2025-11-13/
CATEGORIES:Kinder und Jugendliche
END:VEVENT
BEGIN:VEVENT
DTSTART;TZID=Europe/Vienna:20251113T160000
DTEND;TZID=Europe/Vienna:20251113T173000
DTSTAMP:20260420T050152
CREATED:20251022T084232Z
LAST-MODIFIED:20251030T101630Z
UID:10006669-1763049600-1763055000@wienzimmer.fsw.at
SUMMARY:WienZimmer-Chor mit Sophie
DESCRIPTION:Chorprojekt für alle\, die gerne singen – Vorkenntnisse nicht notwendig! \nIn der Küche \nAnmeldung unter: sophie.gnad@fsw.at
URL:https://wienzimmer.fsw.at/event/wienzimmer-chor-mit-sophie/2025-11-13/
ATTACH;FMTTYPE=image/png:https://wienzimmer.fsw.at/wp-content/uploads/2024/04/musik_singen.png
END:VEVENT
BEGIN:VEVENT
DTSTART;TZID=Europe/Vienna:20251113T173000
DTEND;TZID=Europe/Vienna:20251113T183000
DTSTAMP:20260420T050152
CREATED:20250930T122710Z
LAST-MODIFIED:20251022T084736Z
UID:10006681-1763055000-1763058600@wienzimmer.fsw.at
SUMMARY:Hobby Lobby: Kampfsport
DESCRIPTION:im Soutterain
URL:https://wienzimmer.fsw.at/event/hobby-lobby-kampfsport-2/2025-11-13/
ATTACH;FMTTYPE=image/png:https://wienzimmer.fsw.at/wp-content/uploads/2024/04/kampfsport.png
END:VEVENT
BEGIN:VEVENT
DTSTART;TZID=Europe/Vienna:20251113T173000
DTEND;TZID=Europe/Vienna:20251113T183000
DTSTAMP:20260420T050152
CREATED:20251001T084740Z
LAST-MODIFIED:20251022T084852Z
UID:10006685-1763055000-1763058600@wienzimmer.fsw.at
SUMMARY:Hobby Lobby: Töpfern
DESCRIPTION:im kleinen Seminarraum (1. Stock)
URL:https://wienzimmer.fsw.at/event/hobbylobby-toepfern/2025-11-13/
CATEGORIES:Kinder und Jugendliche
ATTACH;FMTTYPE=image/png:https://wienzimmer.fsw.at/wp-content/uploads/2023/11/Toepfern.png
END:VEVENT
END:VCALENDAR