BEGIN:VCALENDAR
VERSION:2.0
PRODID:-//Wien Zimmer - ECPv6.15.17.1//NONSGML v1.0//EN
CALSCALE:GREGORIAN
METHOD:PUBLISH
X-ORIGINAL-URL:https://wienzimmer.fsw.at
X-WR-CALDESC:Veranstaltungen für Wien Zimmer
REFRESH-INTERVAL;VALUE=DURATION:PT1H
X-Robots-Tag:noindex
X-PUBLISHED-TTL:PT1H
BEGIN:VTIMEZONE
TZID:Europe/Vienna
BEGIN:DAYLIGHT
TZOFFSETFROM:+0100
TZOFFSETTO:+0200
TZNAME:CEST
DTSTART:20240331T010000
END:DAYLIGHT
BEGIN:STANDARD
TZOFFSETFROM:+0200
TZOFFSETTO:+0100
TZNAME:CET
DTSTART:20241027T010000
END:STANDARD
BEGIN:DAYLIGHT
TZOFFSETFROM:+0100
TZOFFSETTO:+0200
TZNAME:CEST
DTSTART:20250330T010000
END:DAYLIGHT
BEGIN:STANDARD
TZOFFSETFROM:+0200
TZOFFSETTO:+0100
TZNAME:CET
DTSTART:20251026T010000
END:STANDARD
BEGIN:DAYLIGHT
TZOFFSETFROM:+0100
TZOFFSETTO:+0200
TZNAME:CEST
DTSTART:20260329T010000
END:DAYLIGHT
BEGIN:STANDARD
TZOFFSETFROM:+0200
TZOFFSETTO:+0100
TZNAME:CET
DTSTART:20261025T010000
END:STANDARD
END:VTIMEZONE
BEGIN:VEVENT
DTSTART;TZID=Europe/Vienna:20251031T160000
DTEND;TZID=Europe/Vienna:20251031T170000
DTSTAMP:20260420T050237
CREATED:20250930T130217Z
LAST-MODIFIED:20251022T085108Z
UID:10006299-1761926400-1761930000@wienzimmer.fsw.at
SUMMARY:Hobby Lobby: Singen
DESCRIPTION:im kleinen Seminarraum (1. Stock)
URL:https://wienzimmer.fsw.at/event/hobby-lobby-singen/2025-10-31/
ATTACH;FMTTYPE=image/png:https://wienzimmer.fsw.at/wp-content/uploads/2024/04/musik_singen.png
END:VEVENT
BEGIN:VEVENT
DTSTART;TZID=Europe/Vienna:20251031T160000
DTEND;TZID=Europe/Vienna:20251031T170000
DTSTAMP:20260420T050237
CREATED:20251001T085340Z
LAST-MODIFIED:20251022T085543Z
UID:10006438-1761926400-1761930000@wienzimmer.fsw.at
SUMMARY:Hobby Lobby: Textilwerkstatt für Volksschulkinder
DESCRIPTION:im Souterrain
URL:https://wienzimmer.fsw.at/event/hobby-lobby-textilwerkstatt-fuer-volksschulkinder/2025-10-31/
CATEGORIES:Kinder und Jugendliche
END:VEVENT
BEGIN:VEVENT
DTSTART;TZID=Europe/Vienna:20251031T170000
DTEND;TZID=Europe/Vienna:20251031T180000
DTSTAMP:20260420T050237
CREATED:20250930T130413Z
LAST-MODIFIED:20251022T085622Z
UID:10006304-1761930000-1761933600@wienzimmer.fsw.at
SUMMARY:Hobby Lobby: Experimente
DESCRIPTION:im Souterrain
URL:https://wienzimmer.fsw.at/event/hobby-lobby-experimente-2/2025-10-31/
ATTACH;FMTTYPE=image/png:https://wienzimmer.fsw.at/wp-content/uploads/2024/10/WienZimmer_Veranstaltungskalender-Experimente.png
END:VEVENT
END:VCALENDAR