BEGIN:VCALENDAR
VERSION:2.0
PRODID:-//Wien Zimmer - ECPv6.15.17.1//NONSGML v1.0//EN
CALSCALE:GREGORIAN
METHOD:PUBLISH
X-ORIGINAL-URL:https://wienzimmer.fsw.at
X-WR-CALDESC:Veranstaltungen für Wien Zimmer
REFRESH-INTERVAL;VALUE=DURATION:PT1H
X-Robots-Tag:noindex
X-PUBLISHED-TTL:PT1H
BEGIN:VTIMEZONE
TZID:Europe/Vienna
BEGIN:DAYLIGHT
TZOFFSETFROM:+0100
TZOFFSETTO:+0200
TZNAME:CEST
DTSTART:20240331T010000
END:DAYLIGHT
BEGIN:STANDARD
TZOFFSETFROM:+0200
TZOFFSETTO:+0100
TZNAME:CET
DTSTART:20241027T010000
END:STANDARD
BEGIN:DAYLIGHT
TZOFFSETFROM:+0100
TZOFFSETTO:+0200
TZNAME:CEST
DTSTART:20250330T010000
END:DAYLIGHT
BEGIN:STANDARD
TZOFFSETFROM:+0200
TZOFFSETTO:+0100
TZNAME:CET
DTSTART:20251026T010000
END:STANDARD
BEGIN:DAYLIGHT
TZOFFSETFROM:+0100
TZOFFSETTO:+0200
TZNAME:CEST
DTSTART:20260329T010000
END:DAYLIGHT
BEGIN:STANDARD
TZOFFSETFROM:+0200
TZOFFSETTO:+0100
TZNAME:CET
DTSTART:20261025T010000
END:STANDARD
END:VTIMEZONE
BEGIN:VEVENT
DTSTART;TZID=Europe/Vienna:20251029T091500
DTEND;TZID=Europe/Vienna:20251029T101500
DTSTAMP:20260420T050143
CREATED:20250806T140720Z
LAST-MODIFIED:20251021T133852Z
UID:10006182-1761729300-1761732900@wienzimmer.fsw.at
SUMMARY:Yoga mit Sophie – für Senior:innen
DESCRIPTION:im kleinen Seminarraum (1. Stock)
URL:https://wienzimmer.fsw.at/event/yoga-mit-sophie-fuer-seniorinnen-3/2025-10-29/
END:VEVENT
BEGIN:VEVENT
DTSTART;TZID=Europe/Vienna:20251029T100000
DTEND;TZID=Europe/Vienna:20251029T120000
DTSTAMP:20260420T050143
CREATED:20250806T140834Z
LAST-MODIFIED:20250930T115904Z
UID:10006206-1761732000-1761739200@wienzimmer.fsw.at
SUMMARY:offene Aquarell-Malrunde  - selbstorganisiert
DESCRIPTION:– selbstorganisiert\nkleiner Seminarraum (1. Stock)
URL:https://wienzimmer.fsw.at/event/offene-aquarell-malrunde-selbstorganisiert-3/2025-10-29/
ATTACH;FMTTYPE=image/png:https://wienzimmer.fsw.at/wp-content/uploads/2023/11/Malen.png
END:VEVENT
BEGIN:VEVENT
DTSTART;TZID=Europe/Vienna:20251029T103000
DTEND;TZID=Europe/Vienna:20251029T123000
DTSTAMP:20260420T050143
CREATED:20250930T133507Z
LAST-MODIFIED:20250930T133507Z
UID:10006347-1761733800-1761741000@wienzimmer.fsw.at
SUMMARY:Vortrag: Auskommen mit der Pension
DESCRIPTION:FSW-Finanzbildung\nim Festsaal
URL:https://wienzimmer.fsw.at/event/vortrag-auskommen-mit-der-pension/
END:VEVENT
BEGIN:VEVENT
DTSTART;TZID=Europe/Vienna:20251029T104000
DTEND;TZID=Europe/Vienna:20251029T114500
DTSTAMP:20260420T050143
CREATED:20250806T141016Z
LAST-MODIFIED:20251021T134335Z
UID:10006211-1761734400-1761738300@wienzimmer.fsw.at
SUMMARY:Yoga mit Sophie – Yoga für Anfänger:innen
DESCRIPTION:im kleinen Seminarraum (1. Stock)
URL:https://wienzimmer.fsw.at/event/yoga-mit-sophie-yoga-fuer-anfaengerinnen-3/2025-10-29/
END:VEVENT
BEGIN:VEVENT
DTSTART;TZID=Europe/Vienna:20251029T130000
DTEND;TZID=Europe/Vienna:20251029T134500
DTSTAMP:20260420T050143
CREATED:20250821T095255Z
LAST-MODIFIED:20251021T133045Z
UID:10006220-1761742800-1761745500@wienzimmer.fsw.at
SUMMARY:Leseratten Club
DESCRIPTION:gemeinsames interaktives Vorlesen für Kinder (auf Deutsch und Arabisch)\nim kleinen Seminarraum (1. Stock) \n 
URL:https://wienzimmer.fsw.at/event/uhr-leseratten-club-2/2025-10-29/
CATEGORIES:Kinder und Jugendliche
END:VEVENT
BEGIN:VEVENT
DTSTART;TZID=Europe/Vienna:20251029T130000
DTEND;TZID=Europe/Vienna:20251029T143000
DTSTAMP:20260420T050143
CREATED:20250930T133554Z
LAST-MODIFIED:20250930T133554Z
UID:10006348-1761742800-1761748200@wienzimmer.fsw.at
SUMMARY:Nährstoffe\, die uns jung halten
DESCRIPTION:Vortrag der Community Nurses\nin der Küche
URL:https://wienzimmer.fsw.at/event/naehrstoffe-die-uns-jung-halten/
END:VEVENT
BEGIN:VEVENT
DTSTART;TZID=Europe/Vienna:20251029T160000
DTEND;TZID=Europe/Vienna:20251029T170000
DTSTAMP:20260420T050143
CREATED:20250930T120751Z
LAST-MODIFIED:20251021T134531Z
UID:10006230-1761753600-1761757200@wienzimmer.fsw.at
SUMMARY:Hobby Lobby: Kunstwerkstatt
DESCRIPTION:im Souterrain
URL:https://wienzimmer.fsw.at/event/hobby-lobby-kunstwerkstatt/2025-10-29/
CATEGORIES:Kinder und Jugendliche
END:VEVENT
BEGIN:VEVENT
DTSTART;TZID=Europe/Vienna:20251029T160000
DTEND;TZID=Europe/Vienna:20251029T170000
DTSTAMP:20260420T050143
CREATED:20250930T120905Z
LAST-MODIFIED:20251021T134629Z
UID:10006235-1761753600-1761757200@wienzimmer.fsw.at
SUMMARY:Hobby Lobby: Nachhilfe
DESCRIPTION:im kleinen Seminarraum
URL:https://wienzimmer.fsw.at/event/hobby-lobby-nachhilfe-2/2025-10-29/
CATEGORIES:Kinder und Jugendliche
END:VEVENT
BEGIN:VEVENT
DTSTART;TZID=Europe/Vienna:20251029T160000
DTEND;TZID=Europe/Vienna:20251029T170000
DTSTAMP:20260420T050143
CREATED:20251126T154456Z
LAST-MODIFIED:20251126T154456Z
UID:10007012-1761753600-1761757200@wienzimmer.fsw.at
SUMMARY:Hobby Lobby: Kunstwerkstatt
DESCRIPTION:im Souterrain
URL:https://wienzimmer.fsw.at/event/hobby-lobby-kunstwerkstatt-2/2025-10-29/
CATEGORIES:Kinder und Jugendliche
END:VEVENT
BEGIN:VEVENT
DTSTART;TZID=Europe/Vienna:20251029T163000
DTEND;TZID=Europe/Vienna:20251029T170000
DTSTAMP:20260420T050143
CREATED:20250930T133648Z
LAST-MODIFIED:20250930T133659Z
UID:10006349-1761755400-1761757200@wienzimmer.fsw.at
SUMMARY:Hans liest Schenk
DESCRIPTION:im Festsaal
URL:https://wienzimmer.fsw.at/event/hans-liest-schenk/
END:VEVENT
BEGIN:VEVENT
DTSTART;TZID=Europe/Vienna:20251029T170000
DTEND;TZID=Europe/Vienna:20251029T180000
DTSTAMP:20260420T050143
CREATED:20250930T121116Z
LAST-MODIFIED:20251021T134720Z
UID:10006240-1761757200-1761760800@wienzimmer.fsw.at
SUMMARY:Hobby Lobby: Anime & Manga
DESCRIPTION:im Souterrain
URL:https://wienzimmer.fsw.at/event/hobby-lobby-anime-manga/2025-10-29/
CATEGORIES:Kinder und Jugendliche
END:VEVENT
BEGIN:VEVENT
DTSTART;TZID=Europe/Vienna:20251029T170000
DTEND;TZID=Europe/Vienna:20251029T190000
DTSTAMP:20260420T050143
CREATED:20250930T133739Z
LAST-MODIFIED:20250930T133739Z
UID:10006350-1761757200-1761764400@wienzimmer.fsw.at
SUMMARY:„Gemeinsam statt einsam“ Dinner (im Rahmen des WienZimmer KlimaLabor)
DESCRIPTION:im Festsaal
URL:https://wienzimmer.fsw.at/event/gemeinsam-statt-einsam-dinner-im-rahmen-des-wienzimmer-klimalabor/
END:VEVENT
BEGIN:VEVENT
DTSTART;TZID=Europe/Vienna:20251029T170000
DTEND;TZID=Europe/Vienna:20251029T200000
DTSTAMP:20260420T050143
CREATED:20250930T121350Z
LAST-MODIFIED:20251022T103234Z
UID:10006245-1761757200-1761768000@wienzimmer.fsw.at
SUMMARY:Gruppentherapie: Psychodrama
DESCRIPTION:im kleinen Seminarraum (1. Stock) \nHilfe bei Angst\, bei Depression und anderen Schwierigkeiten. Gruppenpsychotherapie mit der Methode Psychodrama. \nAb 17.15 – 20.00 Uhr\, mit Pause \nOhne Kosten bei Vorlage einer ärztlichen Überweisung zur Psychotherapie. \nFür die Anmeldung und mehr Information: Michael Josef Seiss\, MMSc. unter 0699-11133441. praxis@michaeljosefseiss.at
URL:https://wienzimmer.fsw.at/event/gruppentherapie-psychodrama-29/2025-10-29/
LOCATION:WienZimmer\, Karl-Seitz-Hof - Jedleseer Str. 66-94/Ecke Jedleseer Straße und Dunantgasse\, Wien\, 1210\, Österreich
CATEGORIES:Sonstiges
ATTACH;FMTTYPE=image/png:https://wienzimmer.fsw.at/wp-content/uploads/2023/11/Gruppentherapie.png
END:VEVENT
END:VCALENDAR