BEGIN:VCALENDAR
VERSION:2.0
PRODID:-//Wien Zimmer - ECPv6.15.17.1//NONSGML v1.0//EN
CALSCALE:GREGORIAN
METHOD:PUBLISH
X-ORIGINAL-URL:https://wienzimmer.fsw.at
X-WR-CALDESC:Veranstaltungen für Wien Zimmer
REFRESH-INTERVAL;VALUE=DURATION:PT1H
X-Robots-Tag:noindex
X-PUBLISHED-TTL:PT1H
BEGIN:VTIMEZONE
TZID:Europe/Vienna
BEGIN:DAYLIGHT
TZOFFSETFROM:+0100
TZOFFSETTO:+0200
TZNAME:CEST
DTSTART:20240331T010000
END:DAYLIGHT
BEGIN:STANDARD
TZOFFSETFROM:+0200
TZOFFSETTO:+0100
TZNAME:CET
DTSTART:20241027T010000
END:STANDARD
BEGIN:DAYLIGHT
TZOFFSETFROM:+0100
TZOFFSETTO:+0200
TZNAME:CEST
DTSTART:20250330T010000
END:DAYLIGHT
BEGIN:STANDARD
TZOFFSETFROM:+0200
TZOFFSETTO:+0100
TZNAME:CET
DTSTART:20251026T010000
END:STANDARD
BEGIN:DAYLIGHT
TZOFFSETFROM:+0100
TZOFFSETTO:+0200
TZNAME:CEST
DTSTART:20260329T010000
END:DAYLIGHT
BEGIN:STANDARD
TZOFFSETFROM:+0200
TZOFFSETTO:+0100
TZNAME:CET
DTSTART:20261025T010000
END:STANDARD
END:VTIMEZONE
BEGIN:VEVENT
DTSTART;TZID=Europe/Vienna:20251024T110000
DTEND;TZID=Europe/Vienna:20251024T123000
DTSTAMP:20260422T130157
CREATED:20250930T133245Z
LAST-MODIFIED:20250930T133245Z
UID:10006344-1761303600-1761309000@wienzimmer.fsw.at
SUMMARY:Tanzworkshop für Senior:innen
DESCRIPTION:mit TanzDieToleranz\nim kleinen Seminarraum (1. Stock)
URL:https://wienzimmer.fsw.at/event/tanzworkshop-fuer-seniorinnen/
END:VEVENT
BEGIN:VEVENT
DTSTART;TZID=Europe/Vienna:20251024T130000
DTEND;TZID=Europe/Vienna:20251024T150000
DTSTAMP:20260422T130157
CREATED:20250930T133329Z
LAST-MODIFIED:20250930T133329Z
UID:10006345-1761310800-1761318000@wienzimmer.fsw.at
SUMMARY:FEM: Erzählcafé mit Impulsen zu altersrelevanten Themen
DESCRIPTION:mit Franziska Korn Tarde (Mediatorin & Coach)\nin der Küche
URL:https://wienzimmer.fsw.at/event/fem-erzaehlcafe-mit-impulsen-zu-altersrelevanten-themen/
END:VEVENT
BEGIN:VEVENT
DTSTART;TZID=Europe/Vienna:20251024T160000
DTEND;TZID=Europe/Vienna:20251024T170000
DTSTAMP:20260422T130157
CREATED:20250930T130217Z
LAST-MODIFIED:20251022T085108Z
UID:10006298-1761321600-1761325200@wienzimmer.fsw.at
SUMMARY:Hobby Lobby: Singen
DESCRIPTION:im kleinen Seminarraum (1. Stock)
URL:https://wienzimmer.fsw.at/event/hobby-lobby-singen/2025-10-24/
ATTACH;FMTTYPE=image/png:https://wienzimmer.fsw.at/wp-content/uploads/2024/04/musik_singen.png
END:VEVENT
BEGIN:VEVENT
DTSTART;TZID=Europe/Vienna:20251024T160000
DTEND;TZID=Europe/Vienna:20251024T170000
DTSTAMP:20260422T130157
CREATED:20251001T085340Z
LAST-MODIFIED:20251022T085543Z
UID:10006436-1761321600-1761325200@wienzimmer.fsw.at
SUMMARY:Hobby Lobby: Textilwerkstatt für Volksschulkinder
DESCRIPTION:im Souterrain
URL:https://wienzimmer.fsw.at/event/hobby-lobby-textilwerkstatt-fuer-volksschulkinder/2025-10-24/
CATEGORIES:Kinder und Jugendliche
END:VEVENT
BEGIN:VEVENT
DTSTART;TZID=Europe/Vienna:20251024T160000
DTEND;TZID=Europe/Vienna:20251024T203000
DTSTAMP:20260422T130157
CREATED:20250930T130000Z
LAST-MODIFIED:20251001T110707Z
UID:10006454-1761321600-1761337800@wienzimmer.fsw.at
SUMMARY:LindyHop Kurs
DESCRIPTION:mit der IG Hop\nim Festsaal \n 
URL:https://wienzimmer.fsw.at/event/lindyhop-kurs/2025-10-24/
END:VEVENT
BEGIN:VEVENT
DTSTART;TZID=Europe/Vienna:20251024T170000
DTEND;TZID=Europe/Vienna:20251024T180000
DTSTAMP:20260422T130157
CREATED:20250930T130413Z
LAST-MODIFIED:20251022T085622Z
UID:10006303-1761325200-1761328800@wienzimmer.fsw.at
SUMMARY:Hobby Lobby: Experimente
DESCRIPTION:im Souterrain
URL:https://wienzimmer.fsw.at/event/hobby-lobby-experimente-2/2025-10-24/
ATTACH;FMTTYPE=image/png:https://wienzimmer.fsw.at/wp-content/uploads/2024/10/WienZimmer_Veranstaltungskalender-Experimente.png
END:VEVENT
END:VCALENDAR