BEGIN:VCALENDAR
VERSION:2.0
PRODID:-//Wien Zimmer - ECPv6.15.17.1//NONSGML v1.0//EN
CALSCALE:GREGORIAN
METHOD:PUBLISH
X-ORIGINAL-URL:https://wienzimmer.fsw.at
X-WR-CALDESC:Veranstaltungen für Wien Zimmer
REFRESH-INTERVAL;VALUE=DURATION:PT1H
X-Robots-Tag:noindex
X-PUBLISHED-TTL:PT1H
BEGIN:VTIMEZONE
TZID:Europe/Vienna
BEGIN:DAYLIGHT
TZOFFSETFROM:+0100
TZOFFSETTO:+0200
TZNAME:CEST
DTSTART:20240331T010000
END:DAYLIGHT
BEGIN:STANDARD
TZOFFSETFROM:+0200
TZOFFSETTO:+0100
TZNAME:CET
DTSTART:20241027T010000
END:STANDARD
BEGIN:DAYLIGHT
TZOFFSETFROM:+0100
TZOFFSETTO:+0200
TZNAME:CEST
DTSTART:20250330T010000
END:DAYLIGHT
BEGIN:STANDARD
TZOFFSETFROM:+0200
TZOFFSETTO:+0100
TZNAME:CET
DTSTART:20251026T010000
END:STANDARD
BEGIN:DAYLIGHT
TZOFFSETFROM:+0100
TZOFFSETTO:+0200
TZNAME:CEST
DTSTART:20260329T010000
END:DAYLIGHT
BEGIN:STANDARD
TZOFFSETFROM:+0200
TZOFFSETTO:+0100
TZNAME:CET
DTSTART:20261025T010000
END:STANDARD
END:VTIMEZONE
BEGIN:VEVENT
DTSTART;TZID=Europe/Vienna:20251011T093000
DTEND;TZID=Europe/Vienna:20251011T130000
DTSTAMP:20260422T132632
CREATED:20250930T132339Z
LAST-MODIFIED:20250930T132339Z
UID:10006335-1760175000-1760187600@wienzimmer.fsw.at
SUMMARY:FEM-Kurs: „Fußreflexzonenmassage zur Selbstanwendung“
DESCRIPTION:– mit Nathalie Rosenegger (Rehab-Therapeutin und Beckenboden-Autorin) à das Angebot richtet sich ausschließlich an Frauen*\nim kleinen Seminarraum (1. Stock)
URL:https://wienzimmer.fsw.at/event/fem-kurs-fussreflexzonenmassage-zur-selbstanwendung/
END:VEVENT
BEGIN:VEVENT
DTSTART;TZID=Europe/Vienna:20251011T193000
DTEND;TZID=Europe/Vienna:20251011T210000
DTSTAMP:20260422T132632
CREATED:20250930T132427Z
LAST-MODIFIED:20250930T132427Z
UID:10006336-1760211000-1760216400@wienzimmer.fsw.at
SUMMARY:Podiumsdiskussion - Immersives Stationentheater widerSTADT Theater der Unterdrückten Wien
DESCRIPTION:im Festsaal \nErgänzend zur Theaterveranstaltung (siehe Website tdu – www.tdu-wien.at/widerstadt-2025/) wird zu einer offenen Podiumsdiskussion mit Expert:innen eingeladen\, die sich mit den historischen Hintergründen der Zeit befassen\, sowie mit den gegenwärtigen gesellschaftlichen Entwicklungen. Dabei sind die Entwicklungen im Österreich der Zwischenkriegszeit und die damalige Spaltung der Gesellschaft\, sowie die gewaltsame Unterdrückung der oppositionellen politischen Positionen sehr relevant und verdienen Reflexion und Bewusstwerdung. Die Ereignisse in Österreich der 1930er Jahre gingen dem Großwerden des Nationalsozialismus hierzulande voraus. Welche Widerstandsformen brauchen wir heute? Wie gehen wir mit dem Rechtsruck heute um? Was können wir aus der Geschichte lernen und wie schaffen wir eine zeitgemäße Erinnerungskultur?
URL:https://wienzimmer.fsw.at/event/podiumsdiskussion-immersives-stationentheater-widerstadt-theater-der-unterdrueckten-wien/
END:VEVENT
END:VCALENDAR