BEGIN:VCALENDAR
VERSION:2.0
PRODID:-//Wien Zimmer - ECPv6.15.17.1//NONSGML v1.0//EN
CALSCALE:GREGORIAN
METHOD:PUBLISH
X-WR-CALNAME:Wien Zimmer
X-ORIGINAL-URL:https://wienzimmer.fsw.at
X-WR-CALDESC:Veranstaltungen für Wien Zimmer
REFRESH-INTERVAL;VALUE=DURATION:PT1H
X-Robots-Tag:noindex
X-PUBLISHED-TTL:PT1H
BEGIN:VTIMEZONE
TZID:Europe/Vienna
BEGIN:DAYLIGHT
TZOFFSETFROM:+0100
TZOFFSETTO:+0200
TZNAME:CEST
DTSTART:20240331T010000
END:DAYLIGHT
BEGIN:STANDARD
TZOFFSETFROM:+0200
TZOFFSETTO:+0100
TZNAME:CET
DTSTART:20241027T010000
END:STANDARD
BEGIN:DAYLIGHT
TZOFFSETFROM:+0100
TZOFFSETTO:+0200
TZNAME:CEST
DTSTART:20250330T010000
END:DAYLIGHT
BEGIN:STANDARD
TZOFFSETFROM:+0200
TZOFFSETTO:+0100
TZNAME:CET
DTSTART:20251026T010000
END:STANDARD
BEGIN:DAYLIGHT
TZOFFSETFROM:+0100
TZOFFSETTO:+0200
TZNAME:CEST
DTSTART:20260329T010000
END:DAYLIGHT
BEGIN:STANDARD
TZOFFSETFROM:+0200
TZOFFSETTO:+0100
TZNAME:CET
DTSTART:20261025T010000
END:STANDARD
END:VTIMEZONE
BEGIN:VEVENT
DTSTART;TZID=Europe/Vienna:20250915T100000
DTEND;TZID=Europe/Vienna:20250915T130000
DTSTAMP:20260422T142718
CREATED:20250826T113114Z
LAST-MODIFIED:20250826T113114Z
UID:10005792-1757930400-1757941200@wienzimmer.fsw.at
SUMMARY:TAG DER DEMOKRATIE
DESCRIPTION:hierzu finden verschiedenen Aktionen wienweit statt \n\nDemokratie-Fitness Trainings– zum Tag der Demokratie\n10:00 Uhr achtsames Zuhören (30 min)\n10:45 Uhr Meinung (30 min)\n11:30 Uhr Kompromiss(30 min)\n12:15 Uhr Aktivismus (30 min)\nFestsaal \nUm Anmeldung wird gebeten!\nMail. wienzimmer@fsw.at   Tel. +43 676 8289 40055 oder persönlich im WienZimmer!
URL:https://wienzimmer.fsw.at/event/tag-der-demokratie/
END:VEVENT
BEGIN:VEVENT
DTSTART;TZID=Europe/Vienna:20250915T140000
DTEND;TZID=Europe/Vienna:20250915T160000
DTSTAMP:20260422T142718
CREATED:20250826T114142Z
LAST-MODIFIED:20250909T080303Z
UID:10005793-1757944800-1757952000@wienzimmer.fsw.at
SUMMARY:
DESCRIPTION:Hausaufgabenbegleitung – mit rettet das Kind Österreich\nim kleinen Seminarraum (1. Stock) \n 
URL:https://wienzimmer.fsw.at/event/2672/2025-09-15/
CATEGORIES:Kinder und Jugendliche
END:VEVENT
BEGIN:VEVENT
DTSTART;TZID=Europe/Vienna:20250915T180000
DTEND;TZID=Europe/Vienna:20250915T210000
DTSTAMP:20260422T142718
CREATED:20250826T114446Z
LAST-MODIFIED:20250826T114446Z
UID:10006167-1757959200-1757970000@wienzimmer.fsw.at
SUMMARY:Kulturlabor im Gemeindebau: Animal Bodies 
DESCRIPTION:Schauspielworkshop nach der Lecoq-Methode mit Julia Vandehof\nim Festsaal\n* für alle interessierte Menschen ab 16 Jahren. Die Workshops können einzeln besucht werden. \nJulia Vandehof zeichnet sich für die künstlerische Leitung des Gemeindebautheaters verantwortlich. Hier hast du die Möglichkeit in die Arbeit des Gemeindebautheaters hineinzuschnuppern und vielfältige Formen von Theater auszuprobieren. Die Workshopreihe dient auch als Vorbereitung für die Produktion 2026.\nWeitere Termine am 6.10. und 17.11. \nDie Teilnahme ist kostenlos.Um Anmeldung wird gebeten. Tel. 01/24503-25963 oder unter\nkulturlabor-gemeindebau@wohnpartner-wien.at; www.kulturlabor-gemeindebau.at
URL:https://wienzimmer.fsw.at/event/kulturlabor-im-gemeindebau-animal-bodies/
END:VEVENT
END:VCALENDAR