BEGIN:VCALENDAR
VERSION:2.0
PRODID:-//Wien Zimmer - ECPv6.15.17.1//NONSGML v1.0//EN
CALSCALE:GREGORIAN
METHOD:PUBLISH
X-WR-CALNAME:Wien Zimmer
X-ORIGINAL-URL:https://wienzimmer.fsw.at
X-WR-CALDESC:Veranstaltungen für Wien Zimmer
REFRESH-INTERVAL;VALUE=DURATION:PT1H
X-Robots-Tag:noindex
X-PUBLISHED-TTL:PT1H
BEGIN:VTIMEZONE
TZID:Europe/Vienna
BEGIN:DAYLIGHT
TZOFFSETFROM:+0100
TZOFFSETTO:+0200
TZNAME:CEST
DTSTART:20240331T010000
END:DAYLIGHT
BEGIN:STANDARD
TZOFFSETFROM:+0200
TZOFFSETTO:+0100
TZNAME:CET
DTSTART:20241027T010000
END:STANDARD
BEGIN:DAYLIGHT
TZOFFSETFROM:+0100
TZOFFSETTO:+0200
TZNAME:CEST
DTSTART:20250330T010000
END:DAYLIGHT
BEGIN:STANDARD
TZOFFSETFROM:+0200
TZOFFSETTO:+0100
TZNAME:CET
DTSTART:20251026T010000
END:STANDARD
BEGIN:DAYLIGHT
TZOFFSETFROM:+0100
TZOFFSETTO:+0200
TZNAME:CEST
DTSTART:20260329T010000
END:DAYLIGHT
BEGIN:STANDARD
TZOFFSETFROM:+0200
TZOFFSETTO:+0100
TZNAME:CET
DTSTART:20261025T010000
END:STANDARD
END:VTIMEZONE
BEGIN:VEVENT
DTSTART;TZID=Europe/Vienna:20250910T091500
DTEND;TZID=Europe/Vienna:20250910T101500
DTSTAMP:20260422T142718
CREATED:20250806T140720Z
LAST-MODIFIED:20251021T133852Z
UID:10005764-1757495700-1757499300@wienzimmer.fsw.at
SUMMARY:Yoga mit Sophie – für Senior:innen
DESCRIPTION:im kleinen Seminarraum (1. Stock)
URL:https://wienzimmer.fsw.at/event/yoga-mit-sophie-fuer-seniorinnen-3/2025-09-10/
END:VEVENT
BEGIN:VEVENT
DTSTART;TZID=Europe/Vienna:20250910T100000
DTEND;TZID=Europe/Vienna:20250910T120000
DTSTAMP:20260422T142718
CREATED:20250806T140834Z
LAST-MODIFIED:20250930T115904Z
UID:10005768-1757498400-1757505600@wienzimmer.fsw.at
SUMMARY:offene Aquarell-Malrunde  - selbstorganisiert
DESCRIPTION:– selbstorganisiert\nkleiner Seminarraum (1. Stock)
URL:https://wienzimmer.fsw.at/event/offene-aquarell-malrunde-selbstorganisiert-3/2025-09-10/
ATTACH;FMTTYPE=image/png:https://wienzimmer.fsw.at/wp-content/uploads/2023/11/Malen.png
END:VEVENT
BEGIN:VEVENT
DTSTART;TZID=Europe/Vienna:20250910T104000
DTEND;TZID=Europe/Vienna:20250910T114500
DTSTAMP:20260422T142718
CREATED:20250806T141016Z
LAST-MODIFIED:20251021T134335Z
UID:10005772-1757500800-1757504700@wienzimmer.fsw.at
SUMMARY:Yoga mit Sophie – Yoga für Anfänger:innen
DESCRIPTION:im kleinen Seminarraum (1. Stock)
URL:https://wienzimmer.fsw.at/event/yoga-mit-sophie-yoga-fuer-anfaengerinnen-3/2025-09-10/
END:VEVENT
BEGIN:VEVENT
DTSTART;TZID=Europe/Vienna:20250910T130000
DTEND;TZID=Europe/Vienna:20250910T134500
DTSTAMP:20260422T142718
CREATED:20250821T095255Z
LAST-MODIFIED:20251021T133045Z
UID:10005745-1757509200-1757511900@wienzimmer.fsw.at
SUMMARY:Leseratten Club
DESCRIPTION:gemeinsames interaktives Vorlesen für Kinder (auf Deutsch und Arabisch)\nim kleinen Seminarraum (1. Stock) \n 
URL:https://wienzimmer.fsw.at/event/uhr-leseratten-club-2/2025-09-10/
CATEGORIES:Kinder und Jugendliche
END:VEVENT
BEGIN:VEVENT
DTSTART;TZID=Europe/Vienna:20250910T170000
DTEND;TZID=Europe/Vienna:20250910T180000
DTSTAMP:20260422T142718
CREATED:20250826T112542Z
LAST-MODIFIED:20250826T112542Z
UID:10005788-1757523600-1757527200@wienzimmer.fsw.at
SUMMARY:LineDance Schnupperstunde
DESCRIPTION:im kleinen Seminarraum (1. Stock)
URL:https://wienzimmer.fsw.at/event/linedance-schnupperstunde/
END:VEVENT
BEGIN:VEVENT
DTSTART;TZID=Europe/Vienna:20250910T180000
DTEND;TZID=Europe/Vienna:20250910T200000
DTSTAMP:20260422T142718
CREATED:20250826T112805Z
LAST-MODIFIED:20251021T134903Z
UID:10006176-1757527200-1757534400@wienzimmer.fsw.at
SUMMARY:LineDance Gruppe
DESCRIPTION:im kleinen Seminarraum (1. Stock) \nLine Dance ist eine choreografierte Tanzform\, bei der einzelne Tänzer:innen in Reihen vor- und nebeneinander tanzen (Reihentanz). Die Tänze sind passend zur Musik choreografiert\, die meist aus den Kategorien Country und Pop stammt.
URL:https://wienzimmer.fsw.at/event/linedance-gruppe-2/2025-09-10/
END:VEVENT
END:VCALENDAR