BEGIN:VCALENDAR
VERSION:2.0
PRODID:-//Wien Zimmer - ECPv6.15.17.1//NONSGML v1.0//EN
CALSCALE:GREGORIAN
METHOD:PUBLISH
X-WR-CALNAME:Wien Zimmer
X-ORIGINAL-URL:https://wienzimmer.fsw.at
X-WR-CALDESC:Veranstaltungen für Wien Zimmer
REFRESH-INTERVAL;VALUE=DURATION:PT1H
X-Robots-Tag:noindex
X-PUBLISHED-TTL:PT1H
BEGIN:VTIMEZONE
TZID:Europe/Vienna
BEGIN:DAYLIGHT
TZOFFSETFROM:+0100
TZOFFSETTO:+0200
TZNAME:CEST
DTSTART:20240331T010000
END:DAYLIGHT
BEGIN:STANDARD
TZOFFSETFROM:+0200
TZOFFSETTO:+0100
TZNAME:CET
DTSTART:20241027T010000
END:STANDARD
BEGIN:DAYLIGHT
TZOFFSETFROM:+0100
TZOFFSETTO:+0200
TZNAME:CEST
DTSTART:20250330T010000
END:DAYLIGHT
BEGIN:STANDARD
TZOFFSETFROM:+0200
TZOFFSETTO:+0100
TZNAME:CET
DTSTART:20251026T010000
END:STANDARD
BEGIN:DAYLIGHT
TZOFFSETFROM:+0100
TZOFFSETTO:+0200
TZNAME:CEST
DTSTART:20260329T010000
END:DAYLIGHT
BEGIN:STANDARD
TZOFFSETFROM:+0200
TZOFFSETTO:+0100
TZNAME:CET
DTSTART:20261025T010000
END:STANDARD
END:VTIMEZONE
BEGIN:VEVENT
DTSTART;TZID=Europe/Vienna:20250827T090000
DTEND;TZID=Europe/Vienna:20250827T120000
DTSTAMP:20260422T175558
CREATED:20250806T142102Z
LAST-MODIFIED:20250806T142102Z
UID:10005339-1756285200-1756296000@wienzimmer.fsw.at
SUMMARY:Zukunft.Tanz.Werkstatt – 3 Tage Bewegung\, Begegnung & Klimabewusstsein
DESCRIPTION:3-tägiger Kreativworkshop mit Tanz die Toleranz für Groß und Klein – keine Vorkenntnisse nötig\, die Teilnahme an allen 3 Tagen ist Voraussetzung!\nim kleinen Seminarraum
URL:https://wienzimmer.fsw.at/event/zukunft-tanz-werkstatt-3-tage-bewegung-begegnung-klimabewusstsein/2025-08-27/
END:VEVENT
BEGIN:VEVENT
DTSTART;TZID=Europe/Vienna:20250827T130000
DTEND;TZID=Europe/Vienna:20250827T134500
DTSTAMP:20260422T175558
CREATED:20250807T100530Z
LAST-MODIFIED:20250807T100629Z
UID:10005358-1756299600-1756302300@wienzimmer.fsw.at
SUMMARY:Leseratten-Club
DESCRIPTION:gemeinsames interaktives Vorlesen für Kinder (auf Deutsch und Arabisch)\nim kleinen Seminarraum
URL:https://wienzimmer.fsw.at/event/leseratten-club-4/2025-08-27/
CATEGORIES:Kinder und Jugendliche
END:VEVENT
BEGIN:VEVENT
DTSTART;TZID=Europe/Vienna:20250827T133000
DTEND;TZID=Europe/Vienna:20250827T200000
DTSTAMP:20260422T175558
CREATED:20250806T142203Z
LAST-MODIFIED:20250806T142203Z
UID:10005342-1756301400-1756324800@wienzimmer.fsw.at
SUMMARY:Kinderfreunde Wien – offene Kinder- & Jugendarbeit
DESCRIPTION:bei Schönwetter draußen im Freiligrathpark /  bei Schlechtwetter im WienZimmer
URL:https://wienzimmer.fsw.at/event/kinderfreunde-wien-offene-kinder-jugendarbeit-13/
CATEGORIES:Kinder und Jugendliche
END:VEVENT
BEGIN:VEVENT
DTSTART;TZID=Europe/Vienna:20250827T140000
DTEND;TZID=Europe/Vienna:20250827T160000
DTSTAMP:20260422T175558
CREATED:20250821T085206Z
LAST-MODIFIED:20250821T085403Z
UID:10005727-1756303200-1756310400@wienzimmer.fsw.at
SUMMARY:KlimaLabor: Holzwerkstatt
DESCRIPTION:Für Kinder zwischen 8 und 12 Jahre\nauf der Terrasse \nUm Anmeldung wird gebeten!\nMail: wienzimmer@fsw.at   Tel. +43 676 8289 40055 oder persönlich im WienZimmer!
URL:https://wienzimmer.fsw.at/event/klimalabor-holzwerkstatt/
END:VEVENT
END:VCALENDAR