BEGIN:VCALENDAR
VERSION:2.0
PRODID:-//Wien Zimmer - ECPv6.15.17.1//NONSGML v1.0//EN
CALSCALE:GREGORIAN
METHOD:PUBLISH
X-ORIGINAL-URL:https://wienzimmer.fsw.at
X-WR-CALDESC:Veranstaltungen für Wien Zimmer
REFRESH-INTERVAL;VALUE=DURATION:PT1H
X-Robots-Tag:noindex
X-PUBLISHED-TTL:PT1H
BEGIN:VTIMEZONE
TZID:Europe/Vienna
BEGIN:DAYLIGHT
TZOFFSETFROM:+0100
TZOFFSETTO:+0200
TZNAME:CEST
DTSTART:20240331T010000
END:DAYLIGHT
BEGIN:STANDARD
TZOFFSETFROM:+0200
TZOFFSETTO:+0100
TZNAME:CET
DTSTART:20241027T010000
END:STANDARD
BEGIN:DAYLIGHT
TZOFFSETFROM:+0100
TZOFFSETTO:+0200
TZNAME:CEST
DTSTART:20250330T010000
END:DAYLIGHT
BEGIN:STANDARD
TZOFFSETFROM:+0200
TZOFFSETTO:+0100
TZNAME:CET
DTSTART:20251026T010000
END:STANDARD
BEGIN:DAYLIGHT
TZOFFSETFROM:+0100
TZOFFSETTO:+0200
TZNAME:CEST
DTSTART:20260329T010000
END:DAYLIGHT
BEGIN:STANDARD
TZOFFSETFROM:+0200
TZOFFSETTO:+0100
TZNAME:CET
DTSTART:20261025T010000
END:STANDARD
END:VTIMEZONE
BEGIN:VEVENT
DTSTART;TZID=Europe/Vienna:20250826T080000
DTEND;TZID=Europe/Vienna:20250826T100000
DTSTAMP:20260422T175711
CREATED:20250806T140131Z
LAST-MODIFIED:20251021T131447Z
UID:10004907-1756195200-1756202400@wienzimmer.fsw.at
SUMMARY:Elterncafé im WienZimmer
DESCRIPTION:Austausch und Beratung für alle Eltern\nBabies und Kleinkinder können mitgebracht werden\nim Festsaal
URL:https://wienzimmer.fsw.at/event/elterncafe-im-wienzimmer-5/2025-08-26/
LOCATION:WienZimmer\, Karl-Seitz-Hof - Jedleseer Str. 66-94/Ecke Jedleseer Straße und Dunantgasse\, Wien\, 1210\, Österreich
END:VEVENT
BEGIN:VEVENT
DTSTART;TZID=Europe/Vienna:20250826T120000
DTEND;TZID=Europe/Vienna:20250826T133000
DTSTAMP:20260422T175711
CREATED:20250821T084908Z
LAST-MODIFIED:20250821T085424Z
UID:10005725-1756209600-1756215000@wienzimmer.fsw.at
SUMMARY:KlimaLabor: KlimaFitness für Kinder
DESCRIPTION:Für Kinder zwischen 8 und 12 Jahre\nauf der Terrasse \nUm Anmeldung wird gebeten!\nMail: wienzimmer@fsw.at   Tel. +43 676 8289 40055 oder persönlich im WienZimmer!
URL:https://wienzimmer.fsw.at/event/klimalabor-klimafitness-fuer-kinder/
CATEGORIES:Kinder und Jugendliche
END:VEVENT
BEGIN:VEVENT
DTSTART;TZID=Europe/Vienna:20250826T130000
DTEND;TZID=Europe/Vienna:20250826T134500
DTSTAMP:20260422T175711
CREATED:20250807T100530Z
LAST-MODIFIED:20250807T100629Z
UID:10005357-1756213200-1756215900@wienzimmer.fsw.at
SUMMARY:Leseratten-Club
DESCRIPTION:gemeinsames interaktives Vorlesen für Kinder (auf Deutsch und Arabisch)\nim kleinen Seminarraum
URL:https://wienzimmer.fsw.at/event/leseratten-club-4/2025-08-26/
CATEGORIES:Kinder und Jugendliche
END:VEVENT
END:VCALENDAR