BEGIN:VCALENDAR
VERSION:2.0
PRODID:-//Wien Zimmer - ECPv6.15.17.1//NONSGML v1.0//EN
CALSCALE:GREGORIAN
METHOD:PUBLISH
X-ORIGINAL-URL:https://wienzimmer.fsw.at
X-WR-CALDESC:Veranstaltungen für Wien Zimmer
REFRESH-INTERVAL;VALUE=DURATION:PT1H
X-Robots-Tag:noindex
X-PUBLISHED-TTL:PT1H
BEGIN:VTIMEZONE
TZID:Europe/Vienna
BEGIN:DAYLIGHT
TZOFFSETFROM:+0100
TZOFFSETTO:+0200
TZNAME:CEST
DTSTART:20240331T010000
END:DAYLIGHT
BEGIN:STANDARD
TZOFFSETFROM:+0200
TZOFFSETTO:+0100
TZNAME:CET
DTSTART:20241027T010000
END:STANDARD
BEGIN:DAYLIGHT
TZOFFSETFROM:+0100
TZOFFSETTO:+0200
TZNAME:CEST
DTSTART:20250330T010000
END:DAYLIGHT
BEGIN:STANDARD
TZOFFSETFROM:+0200
TZOFFSETTO:+0100
TZNAME:CET
DTSTART:20251026T010000
END:STANDARD
BEGIN:DAYLIGHT
TZOFFSETFROM:+0100
TZOFFSETTO:+0200
TZNAME:CEST
DTSTART:20260329T010000
END:DAYLIGHT
BEGIN:STANDARD
TZOFFSETFROM:+0200
TZOFFSETTO:+0100
TZNAME:CET
DTSTART:20261025T010000
END:STANDARD
END:VTIMEZONE
BEGIN:VEVENT
DTSTART;TZID=Europe/Vienna:20250821T100000
DTEND;TZID=Europe/Vienna:20250821T110000
DTSTAMP:20260422T175703
CREATED:20250806T135301Z
LAST-MODIFIED:20251030T102441Z
UID:10004875-1755770400-1755774000@wienzimmer.fsw.at
SUMMARY:Krafttraining mit Bernd – für ältere Menschen und alle die mitmachen wollen
DESCRIPTION:im Souterrain
URL:https://wienzimmer.fsw.at/event/krafttraining-mit-bernd-fuer-aeltere-menschen-und-alle-die-mitmachen-wollen-3/2025-08-21/
ATTACH;FMTTYPE=image/png:https://wienzimmer.fsw.at/wp-content/uploads/2023/11/Fitness.png
END:VEVENT
BEGIN:VEVENT
DTSTART;TZID=Europe/Vienna:20250821T100000
DTEND;TZID=Europe/Vienna:20250821T123000
DTSTAMP:20260422T175703
CREATED:20250806T140427Z
LAST-MODIFIED:20250806T141618Z
UID:10004912-1755770400-1755779400@wienzimmer.fsw.at
SUMMARY:KlimaLab: KinderKochwoche / Werkeln
DESCRIPTION:Kinder 8-12 Jahre\nin der Küche
URL:https://wienzimmer.fsw.at/event/klimalab-kinderkochwoche-werkeln/2025-08-21/
END:VEVENT
BEGIN:VEVENT
DTSTART;TZID=Europe/Vienna:20250821T120000
DTEND;TZID=Europe/Vienna:20250821T140000
DTSTAMP:20260422T175703
CREATED:20250806T125355Z
LAST-MODIFIED:20250806T125429Z
UID:10004503-1755777600-1755784800@wienzimmer.fsw.at
SUMMARY:Kinder Klimabootcamp
DESCRIPTION:Ein fitter und starker Körper ist Voraussetzung für einen starken Kampf für das Klima! Mach dich fit mit unserem Trainer Bernd und lerne spannendes Kraft- und Ausdauertraining kennen. \nFür Kinder von 8-12 Jahre
URL:https://wienzimmer.fsw.at/event/kinder-klimabootcamp/2025-08-21/
CATEGORIES:Kinder und Jugendliche
END:VEVENT
BEGIN:VEVENT
DTSTART;TZID=Europe/Vienna:20250821T130000
DTEND;TZID=Europe/Vienna:20250821T134500
DTSTAMP:20260422T175703
CREATED:20250807T100530Z
LAST-MODIFIED:20250807T100629Z
UID:10005356-1755781200-1755783900@wienzimmer.fsw.at
SUMMARY:Leseratten-Club
DESCRIPTION:gemeinsames interaktives Vorlesen für Kinder (auf Deutsch und Arabisch)\nim kleinen Seminarraum
URL:https://wienzimmer.fsw.at/event/leseratten-club-4/2025-08-21/
CATEGORIES:Kinder und Jugendliche
END:VEVENT
BEGIN:VEVENT
DTSTART;TZID=Europe/Vienna:20250821T133000
DTEND;TZID=Europe/Vienna:20250821T200000
DTSTAMP:20260422T175703
CREATED:20250806T141855Z
LAST-MODIFIED:20250806T141855Z
UID:10005337-1755783000-1755806400@wienzimmer.fsw.at
SUMMARY:Kinderfreunde Wien – offene Kinder- & Jugendarbeit
DESCRIPTION:bei Schönwetter draußen im Innenhof des Karl-Seitz-Hofs (beim Spielplatz)/ bei Schlechtwetter im WienZimmer
URL:https://wienzimmer.fsw.at/event/kinderfreunde-wien-offene-kinder-jugendarbeit-11/
CATEGORIES:Kinder und Jugendliche
END:VEVENT
BEGIN:VEVENT
DTSTART;TZID=Europe/Vienna:20250821T140000
DTEND;TZID=Europe/Vienna:20250821T160000
DTSTAMP:20260422T175703
CREATED:20250326T150703Z
LAST-MODIFIED:20251022T083833Z
UID:10005350-1755784800-1755792000@wienzimmer.fsw.at
SUMMARY:Handarbeitsstammtisch – selbstorganisiert aus der Nachbarschaft
DESCRIPTION:im Festsaal
URL:https://wienzimmer.fsw.at/event/handarbeitsstammtisch-selbstorganisiert-aus-der-nachbarschaft/2025-08-21/
END:VEVENT
END:VCALENDAR