BEGIN:VCALENDAR
VERSION:2.0
PRODID:-//Wien Zimmer - ECPv6.15.17.1//NONSGML v1.0//EN
CALSCALE:GREGORIAN
METHOD:PUBLISH
X-WR-CALNAME:Wien Zimmer
X-ORIGINAL-URL:https://wienzimmer.fsw.at
X-WR-CALDESC:Veranstaltungen für Wien Zimmer
REFRESH-INTERVAL;VALUE=DURATION:PT1H
X-Robots-Tag:noindex
X-PUBLISHED-TTL:PT1H
BEGIN:VTIMEZONE
TZID:Europe/Vienna
BEGIN:DAYLIGHT
TZOFFSETFROM:+0100
TZOFFSETTO:+0200
TZNAME:CEST
DTSTART:20240331T010000
END:DAYLIGHT
BEGIN:STANDARD
TZOFFSETFROM:+0200
TZOFFSETTO:+0100
TZNAME:CET
DTSTART:20241027T010000
END:STANDARD
BEGIN:DAYLIGHT
TZOFFSETFROM:+0100
TZOFFSETTO:+0200
TZNAME:CEST
DTSTART:20250330T010000
END:DAYLIGHT
BEGIN:STANDARD
TZOFFSETFROM:+0200
TZOFFSETTO:+0100
TZNAME:CET
DTSTART:20251026T010000
END:STANDARD
BEGIN:DAYLIGHT
TZOFFSETFROM:+0100
TZOFFSETTO:+0200
TZNAME:CEST
DTSTART:20260329T010000
END:DAYLIGHT
BEGIN:STANDARD
TZOFFSETFROM:+0200
TZOFFSETTO:+0100
TZNAME:CET
DTSTART:20261025T010000
END:STANDARD
END:VTIMEZONE
BEGIN:VEVENT
DTSTART;TZID=Europe/Vienna:20250820T091500
DTEND;TZID=Europe/Vienna:20250820T101500
DTSTAMP:20260422T175559
CREATED:20250806T140720Z
LAST-MODIFIED:20251021T133852Z
UID:10005296-1755681300-1755684900@wienzimmer.fsw.at
SUMMARY:Yoga mit Sophie – für Senior:innen
DESCRIPTION:im kleinen Seminarraum (1. Stock)
URL:https://wienzimmer.fsw.at/event/yoga-mit-sophie-fuer-seniorinnen-3/2025-08-20/
END:VEVENT
BEGIN:VEVENT
DTSTART;TZID=Europe/Vienna:20250820T100000
DTEND;TZID=Europe/Vienna:20250820T120000
DTSTAMP:20260422T175559
CREATED:20250806T140834Z
LAST-MODIFIED:20250930T115904Z
UID:10005309-1755684000-1755691200@wienzimmer.fsw.at
SUMMARY:offene Aquarell-Malrunde  - selbstorganisiert
DESCRIPTION:– selbstorganisiert\nkleiner Seminarraum (1. Stock)
URL:https://wienzimmer.fsw.at/event/offene-aquarell-malrunde-selbstorganisiert-3/2025-08-20/
ATTACH;FMTTYPE=image/png:https://wienzimmer.fsw.at/wp-content/uploads/2023/11/Malen.png
END:VEVENT
BEGIN:VEVENT
DTSTART;TZID=Europe/Vienna:20250820T100000
DTEND;TZID=Europe/Vienna:20250820T123000
DTSTAMP:20260422T175559
CREATED:20250806T140427Z
LAST-MODIFIED:20250806T141618Z
UID:10005334-1755684000-1755693000@wienzimmer.fsw.at
SUMMARY:KlimaLab: KinderKochwoche / Werkeln
DESCRIPTION:Kinder 8-12 Jahre\nin der Küche
URL:https://wienzimmer.fsw.at/event/klimalab-kinderkochwoche-werkeln/2025-08-20/
END:VEVENT
BEGIN:VEVENT
DTSTART;TZID=Europe/Vienna:20250820T104000
DTEND;TZID=Europe/Vienna:20250820T114500
DTSTAMP:20260422T175559
CREATED:20250806T141016Z
LAST-MODIFIED:20251021T134335Z
UID:10005329-1755686400-1755690300@wienzimmer.fsw.at
SUMMARY:Yoga mit Sophie – Yoga für Anfänger:innen
DESCRIPTION:im kleinen Seminarraum (1. Stock)
URL:https://wienzimmer.fsw.at/event/yoga-mit-sophie-yoga-fuer-anfaengerinnen-3/2025-08-20/
END:VEVENT
BEGIN:VEVENT
DTSTART;TZID=Europe/Vienna:20250820T120000
DTEND;TZID=Europe/Vienna:20250820T140000
DTSTAMP:20260422T175559
CREATED:20250806T125355Z
LAST-MODIFIED:20250806T125429Z
UID:10004502-1755691200-1755698400@wienzimmer.fsw.at
SUMMARY:Kinder Klimabootcamp
DESCRIPTION:Ein fitter und starker Körper ist Voraussetzung für einen starken Kampf für das Klima! Mach dich fit mit unserem Trainer Bernd und lerne spannendes Kraft- und Ausdauertraining kennen. \nFür Kinder von 8-12 Jahre
URL:https://wienzimmer.fsw.at/event/kinder-klimabootcamp/2025-08-20/
CATEGORIES:Kinder und Jugendliche
END:VEVENT
BEGIN:VEVENT
DTSTART;TZID=Europe/Vienna:20250820T130000
DTEND;TZID=Europe/Vienna:20250820T134500
DTSTAMP:20260422T175559
CREATED:20250807T100530Z
LAST-MODIFIED:20250807T100629Z
UID:10005355-1755694800-1755697500@wienzimmer.fsw.at
SUMMARY:Leseratten-Club
DESCRIPTION:gemeinsames interaktives Vorlesen für Kinder (auf Deutsch und Arabisch)\nim kleinen Seminarraum
URL:https://wienzimmer.fsw.at/event/leseratten-club-4/2025-08-20/
CATEGORIES:Kinder und Jugendliche
END:VEVENT
BEGIN:VEVENT
DTSTART;TZID=Europe/Vienna:20250820T133000
DTEND;TZID=Europe/Vienna:20250820T200000
DTSTAMP:20260422T175559
CREATED:20250806T141709Z
LAST-MODIFIED:20250806T141709Z
UID:10005335-1755696600-1755720000@wienzimmer.fsw.at
SUMMARY:Kinderfreunde Wien – offene Kinder- & Jugendarbeit
DESCRIPTION:bei Schönwetter draußen im Freiligrathpark /  bei Schlechtwetter im WienZimmer
URL:https://wienzimmer.fsw.at/event/kinderfreunde-wien-offene-kinder-jugendarbeit-10/
CATEGORIES:Kinder und Jugendliche
END:VEVENT
BEGIN:VEVENT
DTSTART;TZID=Europe/Vienna:20250820T170000
DTEND;TZID=Europe/Vienna:20250820T200000
DTSTAMP:20260422T175559
CREATED:20250806T141800Z
LAST-MODIFIED:20250806T141800Z
UID:10005336-1755709200-1755720000@wienzimmer.fsw.at
SUMMARY:Gruppentherapie: Psychodrama
DESCRIPTION:im kleinen Seminarraum (1. Stock) \nHilfe bei Angst\, bei Depression und anderen Schwierigkeiten. Gruppenpsychotherapie mit der Methode Psychodrama. \nAb 17.15 – 20.00 Uhr\, mit Pause \nOhne Kosten bei Vorlage einer ärztlichen Überweisung zur Psychotherapie. \nFür die Anmeldung und mehr Information: Michael Josef Seiss\, MMSc. unter 0699-11133441. praxis@michaeljosefseiss.at
URL:https://wienzimmer.fsw.at/event/gruppentherapie-psychodrama-27/
LOCATION:WienZimmer\, Karl-Seitz-Hof - Jedleseer Str. 66-94/Ecke Jedleseer Straße und Dunantgasse\, Wien\, 1210\, Österreich
CATEGORIES:Sonstiges
ATTACH;FMTTYPE=image/png:https://wienzimmer.fsw.at/wp-content/uploads/2023/11/Gruppentherapie.png
END:VEVENT
END:VCALENDAR