BEGIN:VCALENDAR
VERSION:2.0
PRODID:-//Wien Zimmer - ECPv6.15.17.1//NONSGML v1.0//EN
CALSCALE:GREGORIAN
METHOD:PUBLISH
X-WR-CALNAME:Wien Zimmer
X-ORIGINAL-URL:https://wienzimmer.fsw.at
X-WR-CALDESC:Veranstaltungen für Wien Zimmer
REFRESH-INTERVAL;VALUE=DURATION:PT1H
X-Robots-Tag:noindex
X-PUBLISHED-TTL:PT1H
BEGIN:VTIMEZONE
TZID:Europe/Vienna
BEGIN:DAYLIGHT
TZOFFSETFROM:+0100
TZOFFSETTO:+0200
TZNAME:CEST
DTSTART:20240331T010000
END:DAYLIGHT
BEGIN:STANDARD
TZOFFSETFROM:+0200
TZOFFSETTO:+0100
TZNAME:CET
DTSTART:20241027T010000
END:STANDARD
BEGIN:DAYLIGHT
TZOFFSETFROM:+0100
TZOFFSETTO:+0200
TZNAME:CEST
DTSTART:20250330T010000
END:DAYLIGHT
BEGIN:STANDARD
TZOFFSETFROM:+0200
TZOFFSETTO:+0100
TZNAME:CET
DTSTART:20251026T010000
END:STANDARD
BEGIN:DAYLIGHT
TZOFFSETFROM:+0100
TZOFFSETTO:+0200
TZNAME:CEST
DTSTART:20260329T010000
END:DAYLIGHT
BEGIN:STANDARD
TZOFFSETFROM:+0200
TZOFFSETTO:+0100
TZNAME:CET
DTSTART:20261025T010000
END:STANDARD
END:VTIMEZONE
BEGIN:VEVENT
DTSTART;TZID=Europe/Vienna:20250618T091500
DTEND;TZID=Europe/Vienna:20250618T101500
DTSTAMP:20260422T213426
CREATED:20250326T145010Z
LAST-MODIFIED:20250625T122341Z
UID:10004014-1750238100-1750241700@wienzimmer.fsw.at
SUMMARY:Yoga mit Sophie – für Senior:innen
DESCRIPTION:im kleinen Seminarraum (1. Stock)
URL:https://wienzimmer.fsw.at/event/yoga-mit-sophie-fuer-seniorinnen-2/2025-06-18/
END:VEVENT
BEGIN:VEVENT
DTSTART;TZID=Europe/Vienna:20250618T100000
DTEND;TZID=Europe/Vienna:20250618T120000
DTSTAMP:20260422T213426
CREATED:20250422T111725Z
LAST-MODIFIED:20250625T123020Z
UID:10004022-1750240800-1750248000@wienzimmer.fsw.at
SUMMARY:offene Aquarell-Malrunde  - selbstorganisiert
DESCRIPTION:– selbstorganisiert\nkleiner Seminarraum (1. Stock)
URL:https://wienzimmer.fsw.at/event/offene-aquarell-malrunde-selbstorganisiert-2/2025-06-18/
ATTACH;FMTTYPE=image/png:https://wienzimmer.fsw.at/wp-content/uploads/2023/11/Malen.png
END:VEVENT
BEGIN:VEVENT
DTSTART;TZID=Europe/Vienna:20250618T104000
DTEND;TZID=Europe/Vienna:20250618T114500
DTSTAMP:20260422T213426
CREATED:20250326T144820Z
LAST-MODIFIED:20250625T122455Z
UID:10004018-1750243200-1750247100@wienzimmer.fsw.at
SUMMARY:Yoga mit Sophie – Yoga für Anfänger:innen
DESCRIPTION:im kleinen Seminarraum (1. Stock)
URL:https://wienzimmer.fsw.at/event/yoga-mit-sophie-yoga-fuer-anfaengerinnen-2/2025-06-18/
END:VEVENT
BEGIN:VEVENT
DTSTART;TZID=Europe/Vienna:20250618T133000
DTEND;TZID=Europe/Vienna:20250618T190000
DTSTAMP:20260422T213426
CREATED:20250326T145450Z
LAST-MODIFIED:20250528T084729Z
UID:10004030-1750253400-1750273200@wienzimmer.fsw.at
SUMMARY:Kinderfreunde Wien – offene Kinder- & Jugendarbeit
DESCRIPTION:für Kinder von 6-12Jahre\nim WienZimmer
URL:https://wienzimmer.fsw.at/event/kinderfreunde-wien-offene-kinder-jugendarbeit/2025-06-18/
CATEGORIES:Kinder und Jugendliche
END:VEVENT
END:VCALENDAR