BEGIN:VCALENDAR
VERSION:2.0
PRODID:-//Wien Zimmer - ECPv6.15.17.1//NONSGML v1.0//EN
CALSCALE:GREGORIAN
METHOD:PUBLISH
X-ORIGINAL-URL:https://wienzimmer.fsw.at
X-WR-CALDESC:Veranstaltungen für Wien Zimmer
REFRESH-INTERVAL;VALUE=DURATION:PT1H
X-Robots-Tag:noindex
X-PUBLISHED-TTL:PT1H
BEGIN:VTIMEZONE
TZID:Europe/Vienna
BEGIN:DAYLIGHT
TZOFFSETFROM:+0100
TZOFFSETTO:+0200
TZNAME:CEST
DTSTART:20240331T010000
END:DAYLIGHT
BEGIN:STANDARD
TZOFFSETFROM:+0200
TZOFFSETTO:+0100
TZNAME:CET
DTSTART:20241027T010000
END:STANDARD
BEGIN:DAYLIGHT
TZOFFSETFROM:+0100
TZOFFSETTO:+0200
TZNAME:CEST
DTSTART:20250330T010000
END:DAYLIGHT
BEGIN:STANDARD
TZOFFSETFROM:+0200
TZOFFSETTO:+0100
TZNAME:CET
DTSTART:20251026T010000
END:STANDARD
BEGIN:DAYLIGHT
TZOFFSETFROM:+0100
TZOFFSETTO:+0200
TZNAME:CEST
DTSTART:20260329T010000
END:DAYLIGHT
BEGIN:STANDARD
TZOFFSETFROM:+0200
TZOFFSETTO:+0100
TZNAME:CET
DTSTART:20261025T010000
END:STANDARD
END:VTIMEZONE
BEGIN:VEVENT
DTSTART;TZID=Europe/Vienna:20250522T100000
DTEND;TZID=Europe/Vienna:20250522T110000
DTSTAMP:20260423T005852
CREATED:20250326T150521Z
LAST-MODIFIED:20250528T085536Z
UID:10003834-1747908000-1747911600@wienzimmer.fsw.at
SUMMARY:Krafttraining mit Bernd – für ältere Menschen und alle die mitmachen wollen
DESCRIPTION:kleiner Seminarraum (1. Stock)
URL:https://wienzimmer.fsw.at/event/krafttraining-mit-bernd-fuer-aeltere-menschen-und-alle-die-mitmachen-wollen/2025-05-22/
ATTACH;FMTTYPE=image/png:https://wienzimmer.fsw.at/wp-content/uploads/2023/11/Fitness.png
END:VEVENT
BEGIN:VEVENT
DTSTART;TZID=Europe/Vienna:20250522T130000
DTEND;TZID=Europe/Vienna:20250522T134500
DTSTAMP:20260423T005852
CREATED:20250326T140917Z
LAST-MODIFIED:20250528T104753Z
UID:10003769-1747918800-1747921500@wienzimmer.fsw.at
SUMMARY:Leseratten Club
DESCRIPTION:gemeinsames interaktives Vorlesen für Kinder (auf Deutsch und Arabisch)\nim kleinen Seminarraum
URL:https://wienzimmer.fsw.at/event/leseratten-club/2025-05-22/
CATEGORIES:Kinder und Jugendliche
END:VEVENT
BEGIN:VEVENT
DTSTART;TZID=Europe/Vienna:20250522T133000
DTEND;TZID=Europe/Vienna:20250522T200000
DTSTAMP:20260423T005852
CREATED:20250422T113629Z
LAST-MODIFIED:20250625T120300Z
UID:10003892-1747920600-1747944000@wienzimmer.fsw.at
SUMMARY:Kinderfreunde Wien – offene Kinder- & Jugendarbeit
DESCRIPTION:bei Schönwetter draußen im Innenhof des Karl-Seitz-Hofs (beim Spielplatz)/ bei Schlechtwetter im WienZimmer
URL:https://wienzimmer.fsw.at/event/kinderfreunde-wien-offene-kinder-jugendarbeit-4/2025-05-22/
END:VEVENT
BEGIN:VEVENT
DTSTART;TZID=Europe/Vienna:20250522T140000
DTEND;TZID=Europe/Vienna:20250522T160000
DTSTAMP:20260423T005852
CREATED:20240919T142709Z
LAST-MODIFIED:20250604T093225Z
UID:10003895-1747922400-1747929600@wienzimmer.fsw.at
SUMMARY:Hausaufgabenbegleitung
DESCRIPTION:Hausaufgabenbegleitung mit rettet das Kind Österreich\nim Souterrain (Keller)
URL:https://wienzimmer.fsw.at/event/hausaufgabenbegleitung-2/2025-05-22/
LOCATION:WienZimmer\, Karl-Seitz-Hof - Jedleseer Str. 66-94/Ecke Jedleseer Straße und Dunantgasse\, Wien\, 1210\, Österreich
CATEGORIES:Kinder und Jugendliche
ATTACH;FMTTYPE=image/png:https://wienzimmer.fsw.at/wp-content/uploads/2023/11/Hausaufgaben.png
END:VEVENT
BEGIN:VEVENT
DTSTART;TZID=Europe/Vienna:20250522T140000
DTEND;TZID=Europe/Vienna:20250522T160000
DTSTAMP:20260423T005852
CREATED:20250326T150703Z
LAST-MODIFIED:20251022T083833Z
UID:10003898-1747922400-1747929600@wienzimmer.fsw.at
SUMMARY:Handarbeitsstammtisch – selbstorganisiert aus der Nachbarschaft
DESCRIPTION:im Festsaal
URL:https://wienzimmer.fsw.at/event/handarbeitsstammtisch-selbstorganisiert-aus-der-nachbarschaft/2025-05-22/
END:VEVENT
BEGIN:VEVENT
DTSTART;TZID=Europe/Vienna:20250522T153000
DTEND;TZID=Europe/Vienna:20250522T163000
DTSTAMP:20260423T005852
CREATED:20250326T150907Z
LAST-MODIFIED:20250604T093441Z
UID:10003901-1747927800-1747931400@wienzimmer.fsw.at
SUMMARY:HobbyLobby-Kurs Schauspielen
DESCRIPTION:im Keller
URL:https://wienzimmer.fsw.at/event/hobbylobby-kurs-schauspielen/2025-05-22/
CATEGORIES:Kinder und Jugendliche
END:VEVENT
BEGIN:VEVENT
DTSTART;TZID=Europe/Vienna:20250522T163000
DTEND;TZID=Europe/Vienna:20250522T173000
DTSTAMP:20260423T005852
CREATED:20250326T151027Z
LAST-MODIFIED:20250604T093523Z
UID:10003904-1747931400-1747935000@wienzimmer.fsw.at
SUMMARY:HobbyLobby-Kurs Fashion Design
DESCRIPTION:im kleinen Seminarraum
URL:https://wienzimmer.fsw.at/event/hobbylobby-kurs-fashion-design/2025-05-22/
CATEGORIES:Kinder und Jugendliche
END:VEVENT
BEGIN:VEVENT
DTSTART;TZID=Europe/Vienna:20250522T173000
DTEND;TZID=Europe/Vienna:20250522T183000
DTSTAMP:20260423T005852
CREATED:20250326T151143Z
LAST-MODIFIED:20250604T093634Z
UID:10003907-1747935000-1747938600@wienzimmer.fsw.at
SUMMARY:HobbyLobby-Kurs Töpfern
DESCRIPTION:im Keller
URL:https://wienzimmer.fsw.at/event/hobbylobby-kurs-toepfern/2025-05-22/
CATEGORIES:Kinder und Jugendliche
ATTACH;FMTTYPE=image/png:https://wienzimmer.fsw.at/wp-content/uploads/2023/11/Toepfern.png
END:VEVENT
BEGIN:VEVENT
DTSTART;TZID=Europe/Vienna:20250522T173000
DTEND;TZID=Europe/Vienna:20250522T183000
DTSTAMP:20260423T005852
CREATED:20250326T151250Z
LAST-MODIFIED:20250604T093710Z
UID:10003910-1747935000-1747938600@wienzimmer.fsw.at
SUMMARY:HobbyLobby-Kurs Hacker-School
DESCRIPTION:im kleinen Seminarraum
URL:https://wienzimmer.fsw.at/event/hobbylobby-kurs-hacker-school/2025-05-22/
CATEGORIES:Kinder und Jugendliche
END:VEVENT
END:VCALENDAR